BEGIN:VCALENDAR
VERSION:2.0
PRODID:-//Animal Education &amp; Rescue - ECPv6.15.20//NONSGML v1.0//EN
CALSCALE:GREGORIAN
METHOD:PUBLISH
X-ORIGINAL-URL:https://www.aear.org
X-WR-CALDESC:Events for Animal Education &amp; Rescue
REFRESH-INTERVAL;VALUE=DURATION:PT1H
X-Robots-Tag:noindex
X-PUBLISHED-TTL:PT1H
BEGIN:VTIMEZONE
TZID:America/Chicago
BEGIN:DAYLIGHT
TZOFFSETFROM:-0600
TZOFFSETTO:-0500
TZNAME:CDT
DTSTART:20190310T080000
END:DAYLIGHT
BEGIN:STANDARD
TZOFFSETFROM:-0500
TZOFFSETTO:-0600
TZNAME:CST
DTSTART:20191103T070000
END:STANDARD
BEGIN:DAYLIGHT
TZOFFSETFROM:-0600
TZOFFSETTO:-0500
TZNAME:CDT
DTSTART:20200308T080000
END:DAYLIGHT
BEGIN:STANDARD
TZOFFSETFROM:-0500
TZOFFSETTO:-0600
TZNAME:CST
DTSTART:20201101T070000
END:STANDARD
BEGIN:DAYLIGHT
TZOFFSETFROM:-0600
TZOFFSETTO:-0500
TZNAME:CDT
DTSTART:20210314T080000
END:DAYLIGHT
BEGIN:STANDARD
TZOFFSETFROM:-0500
TZOFFSETTO:-0600
TZNAME:CST
DTSTART:20211107T070000
END:STANDARD
BEGIN:DAYLIGHT
TZOFFSETFROM:-0600
TZOFFSETTO:-0500
TZNAME:CDT
DTSTART:20220313T080000
END:DAYLIGHT
BEGIN:STANDARD
TZOFFSETFROM:-0500
TZOFFSETTO:-0600
TZNAME:CST
DTSTART:20221106T070000
END:STANDARD
BEGIN:DAYLIGHT
TZOFFSETFROM:-0600
TZOFFSETTO:-0500
TZNAME:CDT
DTSTART:20230312T080000
END:DAYLIGHT
BEGIN:STANDARD
TZOFFSETFROM:-0500
TZOFFSETTO:-0600
TZNAME:CST
DTSTART:20231105T070000
END:STANDARD
BEGIN:DAYLIGHT
TZOFFSETFROM:-0600
TZOFFSETTO:-0500
TZNAME:CDT
DTSTART:20240310T080000
END:DAYLIGHT
BEGIN:STANDARD
TZOFFSETFROM:-0500
TZOFFSETTO:-0600
TZNAME:CST
DTSTART:20241103T070000
END:STANDARD
BEGIN:DAYLIGHT
TZOFFSETFROM:-0600
TZOFFSETTO:-0500
TZNAME:CDT
DTSTART:20250309T080000
END:DAYLIGHT
BEGIN:STANDARD
TZOFFSETFROM:-0500
TZOFFSETTO:-0600
TZNAME:CST
DTSTART:20251102T070000
END:STANDARD
BEGIN:DAYLIGHT
TZOFFSETFROM:-0600
TZOFFSETTO:-0500
TZNAME:CDT
DTSTART:20260308T080000
END:DAYLIGHT
BEGIN:STANDARD
TZOFFSETFROM:-0500
TZOFFSETTO:-0600
TZNAME:CST
DTSTART:20261101T070000
END:STANDARD
END:VTIMEZONE
BEGIN:VEVENT
DTSTART;TZID=America/Chicago:20250125T113000
DTEND;TZID=America/Chicago:20250125T133000
DTSTAMP:20260421T135240
CREATED:20250118T022255Z
LAST-MODIFIED:20250118T180950Z
UID:28587-1737804600-1737811800@www.aear.org
SUMMARY:AEAR Art and Animals & Meet and Gr t
DESCRIPTION:Celebrate art and animals at this unique special event! Come by Petranek’s Pharmacy in Libertyville\, IL on Saturday\, January 25\, 11:30-1:30.
URL:https://www.aear.org/event/art-and-animals-with-aear-3/
CATEGORIES:Art Sale
ATTACH;FMTTYPE=image/jpeg:https://www.aear.org/wp-content/uploads/2025/01/IMG_0647.jpeg
END:VEVENT
BEGIN:VEVENT
DTSTART;TZID=America/Chicago:20241130T113000
DTEND;TZID=America/Chicago:20241130T133000
DTSTAMP:20260421T135240
CREATED:20241102T204840Z
LAST-MODIFIED:20241102T204840Z
UID:27866-1732966200-1732973400@www.aear.org
SUMMARY:Art and Animals with AEAR
DESCRIPTION:Celebrate art and animals at this unique special event! Come by Petranek’s Pharmacy in Libertyville\, IL on Saturday\, November 30\, from 11:30-1:30.
URL:https://www.aear.org/event/art-and-animals-with-aear-2/
CATEGORIES:Art Sale
ATTACH;FMTTYPE=image/jpeg:https://www.aear.org/wp-content/uploads/2024/10/image000002.jpeg
END:VEVENT
BEGIN:VEVENT
DTSTART;TZID=America/Chicago:20241026T113000
DTEND;TZID=America/Chicago:20241026T133000
DTSTAMP:20260421T135240
CREATED:20241024T214540Z
LAST-MODIFIED:20241024T214540Z
UID:27803-1729942200-1729949400@www.aear.org
SUMMARY:Art and Animals with AEAR
DESCRIPTION:Celebrate art and animals at this unique special event! Come by Petranek’s Pharmacy in Libertyville\, IL on Friday\, October 26\, from 11:30-1:00. \nhttps://signup.com/go/RGcLZbw
URL:https://www.aear.org/event/art-and-animals-with-aear/
CATEGORIES:Art Sale
ATTACH;FMTTYPE=image/jpeg:https://www.aear.org/wp-content/uploads/2024/10/image000001-1.jpeg
END:VEVENT
BEGIN:VEVENT
DTSTART;TZID=America/Chicago:20240330T180000
DTEND;TZID=America/Chicago:20240330T210000
DTSTAMP:20260421T135240
CREATED:20240219T023940Z
LAST-MODIFIED:20240219T023940Z
UID:25695-1711821600-1711832400@www.aear.org
SUMMARY:Facebook Live Art Show
DESCRIPTION:Please join us for a Facebook live Art Show to support Animal Education and Rescue on March 30th from 6pm-9pm.
URL:https://www.aear.org/event/facebook-live-art-show/
LOCATION:Facebook Live
CATEGORIES:Art Sale
ATTACH;FMTTYPE=image/jpeg:https://www.aear.org/wp-content/uploads/2024/02/A317EE9F-F2F6-4F43-B2D0-DE4DA3D8EE77.jpeg
END:VEVENT
BEGIN:VEVENT
DTSTART;TZID=America/Chicago:20230421T190000
DTEND;TZID=America/Chicago:20230421T203000
DTSTAMP:20260421T135240
CREATED:20230419T013105Z
LAST-MODIFIED:20230419T013105Z
UID:23191-1682103600-1682109000@www.aear.org
SUMMARY:Clearance Sale on Paintings LIVE
DESCRIPTION:This Friday night from 7-8:30 pm we are going to be doing a live on Facebook showcasing some of our earlier paintings all drastically discounted to clear space for new inventory.\n\nSo mark your calendar!  Hear about the stories behind the paintings and get some beautiful originals for a fraction if their original costs.  (Shipping will apply if you’re not local to pick up.)
URL:https://www.aear.org/event/clearance-sale-on-paintings-live/
LOCATION:Facebook Live
CATEGORIES:Art Sale
END:VEVENT
BEGIN:VEVENT
DTSTART;TZID=America/Chicago:20230211T190000
DTEND;TZID=America/Chicago:20230211T210000
DTSTAMP:20260421T135240
CREATED:20230202T013411Z
LAST-MODIFIED:20230202T013411Z
UID:22549-1676142000-1676149200@www.aear.org
SUMMARY:Celebrating Art
DESCRIPTION:Join Sandy and Chuck on Facebook Live as they showcase some of their latest paintings. Mark your calendars for February 11 from 7-9pm. \nAs always 100% of proceeds go to Animal Education and Rescue.
URL:https://www.aear.org/event/celebrating-art/
LOCATION:Facebook Live
CATEGORIES:Art Sale
END:VEVENT
BEGIN:VEVENT
DTSTART;TZID=America/Chicago:20210925T110000
DTEND;TZID=America/Chicago:20210925T150000
DTSTAMP:20260421T135240
CREATED:20210825T135020Z
LAST-MODIFIED:20210825T135020Z
UID:19110-1632567600-1632582000@www.aear.org
SUMMARY:Art Show
DESCRIPTION:Saturday September 25 from 11-3 join us for an Art Show Fundraiser \nBrowse the heart-felt\, inspiring visual art of Sandy Kamen Wisniewski and Chuck Wisniewski.  All art is acrylics on canvas and 100% of the proceeds go to their humane society for animals\, Animal Education and Rescue. \nThe art show will be cancelled and rescheduled if it’s raining.  Parking is next door at the doctor’s office or on McKinley\, the street just south of park.  The address of the art show is 523 W. Park Avenue in Libertyville.
URL:https://www.aear.org/event/art-show/
CATEGORIES:Art Sale
END:VEVENT
BEGIN:VEVENT
DTSTART;TZID=America/Chicago:20200328T190000
DTEND;TZID=America/Chicago:20200328T200000
DTSTAMP:20260421T135240
CREATED:20200323T191707Z
LAST-MODIFIED:20200323T191707Z
UID:16609-1585422000-1585425600@www.aear.org
SUMMARY:HUGE LIVE Facebook Art Sale
DESCRIPTION:HUGE LIVE Facebook Art Sale Saturday 7:00 pm \nWe have literally dozens of colorful\, beautiful\, original heart-felt paintings on canvas painted by Chuck and I.  We need to lighten our stock to make room for new paintings.  Due to the current worldwide crisis people are home bound.  So we decided it is a good time to make some much-needed revenue for AEAR and our household and offer an entertaining evening for those people with not much going on. \nWe’ll share stories about some of the paintings; what inspired them\, the challenges we faced painting them and what they mean to us.  We will sell them live.   (Will coordinate the buyers receiving them after this crisis is over.). \nSo join us 7:00 pm this Saturday night!
URL:https://www.aear.org/event/huge-live-facebook-art-sale/
CATEGORIES:Art Sale
END:VEVENT
END:VCALENDAR