BEGIN:VCALENDAR
VERSION:2.0
PRODID:-//Animal Education &amp; Rescue - ECPv6.15.20//NONSGML v1.0//EN
CALSCALE:GREGORIAN
METHOD:PUBLISH
X-ORIGINAL-URL:https://www.aear.org
X-WR-CALDESC:Events for Animal Education &amp; Rescue
REFRESH-INTERVAL;VALUE=DURATION:PT1H
X-Robots-Tag:noindex
X-PUBLISHED-TTL:PT1H
BEGIN:VTIMEZONE
TZID:America/Chicago
BEGIN:DAYLIGHT
TZOFFSETFROM:-0600
TZOFFSETTO:-0500
TZNAME:CDT
DTSTART:20170312T080000
END:DAYLIGHT
BEGIN:STANDARD
TZOFFSETFROM:-0500
TZOFFSETTO:-0600
TZNAME:CST
DTSTART:20171105T070000
END:STANDARD
BEGIN:DAYLIGHT
TZOFFSETFROM:-0600
TZOFFSETTO:-0500
TZNAME:CDT
DTSTART:20180311T080000
END:DAYLIGHT
BEGIN:STANDARD
TZOFFSETFROM:-0500
TZOFFSETTO:-0600
TZNAME:CST
DTSTART:20181104T070000
END:STANDARD
BEGIN:DAYLIGHT
TZOFFSETFROM:-0600
TZOFFSETTO:-0500
TZNAME:CDT
DTSTART:20190310T080000
END:DAYLIGHT
BEGIN:STANDARD
TZOFFSETFROM:-0500
TZOFFSETTO:-0600
TZNAME:CST
DTSTART:20191103T070000
END:STANDARD
BEGIN:DAYLIGHT
TZOFFSETFROM:-0600
TZOFFSETTO:-0500
TZNAME:CDT
DTSTART:20200308T080000
END:DAYLIGHT
BEGIN:STANDARD
TZOFFSETFROM:-0500
TZOFFSETTO:-0600
TZNAME:CST
DTSTART:20201101T070000
END:STANDARD
END:VTIMEZONE
BEGIN:VTIMEZONE
TZID:UTC
BEGIN:STANDARD
TZOFFSETFROM:+0000
TZOFFSETTO:+0000
TZNAME:UTC
DTSTART:20170101T000000
END:STANDARD
END:VTIMEZONE
BEGIN:VEVENT
DTSTART;TZID=America/Chicago:20190309T091500
DTEND;TZID=America/Chicago:20190309T101500
DTSTAMP:20260421T134314
CREATED:20181216T050559Z
LAST-MODIFIED:20181216T050559Z
UID:14486-1552122900-1552126500@www.aear.org
SUMMARY:Dog Training Advice
DESCRIPTION:Join AEAR founder\, Sandy Kamen Wisniewski\, as she answers your questions about dogs.  Sandy has over two decades of experience training and working with countless number of dogs.  In addition to fostering hundreds of dogs within the last 14 years\, Sandy has owned and operated Compassionate Dog Training since the early 1990’s.  She has taught group classes at various locations as well as trained dogs in client’s homes.  Sandy specializes in customizing training to fit the family and the dog instead of the approach that all families and dogs are the same.  “Some things can be fixed\, while realistically\, based on the family\, we can manage a situation.  In other words\, some things are fixable and some things aren’t.”  Sandy went on to say\, “I want to see families and their dogs succeed and not fail by asking of them unrealistic expectations.”  But she warns\, “I don’t have a magic wand so it takes the dedication\, consistency and positive attitude to create a happy family.”  Sandy’s training includes positive reinforcement\, traditional training and redirecting.  She believes that dog owners need to be educated about general dog behavior and development in addition to addressing individual needs.  “The more we understand dogs in general the more we will be able to tackle all behavior issues that occur throughout our dog’s life.” \nListen in as Sandy gives sound advise about dog behavior and training.  if you have a question Sandy can try and answer it.  But keep in mind that very specific issues often need to be addressed one-on-one and not in this venue.  Kick back\, watch and learn.  Bring the whole family.
URL:https://www.aear.org/event/dog-training-advice-3/
LOCATION:Facebook Live
CATEGORIES:Dog Training
END:VEVENT
BEGIN:VEVENT
DTSTART;TZID=America/Chicago:20190209T091500
DTEND;TZID=America/Chicago:20190209T101500
DTSTAMP:20260421T134314
CREATED:20181216T050518Z
LAST-MODIFIED:20181216T050518Z
UID:14483-1549703700-1549707300@www.aear.org
SUMMARY:Dog Training Advice
DESCRIPTION:Join AEAR founder\, Sandy Kamen Wisniewski\, as she answers your questions about dogs.  Sandy has over two decades of experience training and working with countless number of dogs.  In addition to fostering hundreds of dogs within the last 14 years\, Sandy has owned and operated Compassionate Dog Training since the early 1990’s.  She has taught group classes at various locations as well as trained dogs in client’s homes.  Sandy specializes in customizing training to fit the family and the dog instead of the approach that all families and dogs are the same.  “Some things can be fixed\, while realistically\, based on the family\, we can manage a situation.  In other words\, some things are fixable and some things aren’t.”  Sandy went on to say\, “I want to see families and their dogs succeed and not fail by asking of them unrealistic expectations.”  But she warns\, “I don’t have a magic wand so it takes the dedication\, consistency and positive attitude to create a happy family.”  Sandy’s training includes positive reinforcement\, traditional training and redirecting.  She believes that dog owners need to be educated about general dog behavior and development in addition to addressing individual needs.  “The more we understand dogs in general the more we will be able to tackle all behavior issues that occur throughout our dog’s life.” \nListen in as Sandy gives sound advise about dog behavior and training.  if you have a question Sandy can try and answer it.  But keep in mind that very specific issues often need to be addressed one-on-one and not in this venue.  Kick back\, watch and learn.  Bring the whole family.
URL:https://www.aear.org/event/dog-training-advice-2/
LOCATION:Facebook Live
CATEGORIES:Dog Training
END:VEVENT
BEGIN:VEVENT
DTSTART;TZID=America/Chicago:20190112T091500
DTEND;TZID=America/Chicago:20190112T101500
DTSTAMP:20260421T134314
CREATED:20181216T050435Z
LAST-MODIFIED:20181216T050435Z
UID:14481-1547284500-1547288100@www.aear.org
SUMMARY:Dog Training Advice
DESCRIPTION:Join AEAR founder\, Sandy Kamen Wisniewski\, as she answers your questions about dogs.  Sandy has over two decades of experience training and working with countless number of dogs.  In addition to fostering hundreds of dogs within the last 14 years\, Sandy has owned and operated Compassionate Dog Training since the early 1990’s.  She has taught group classes at various locations as well as trained dogs in client’s homes.  Sandy specializes in customizing training to fit the family and the dog instead of the approach that all families and dogs are the same.  “Some things can be fixed\, while realistically\, based on the family\, we can manage a situation.  In other words\, some things are fixable and some things aren’t.”  Sandy went on to say\, “I want to see families and their dogs succeed and not fail by asking of them unrealistic expectations.”  But she warns\, “I don’t have a magic wand so it takes the dedication\, consistency and positive attitude to create a happy family.”  Sandy’s training includes positive reinforcement\, traditional training and redirecting.  She believes that dog owners need to be educated about general dog behavior and development in addition to addressing individual needs.  “The more we understand dogs in general the more we will be able to tackle all behavior issues that occur throughout our dog’s life.” \nListen in as Sandy gives sound advise about dog behavior and training.  if you have a question Sandy can try and answer it.  But keep in mind that very specific issues often need to be addressed one-on-one and not in this venue.  Kick back\, watch and learn.  Bring the whole family.
URL:https://www.aear.org/event/dog-training-advice/
LOCATION:Facebook Live
CATEGORIES:Dog Training
END:VEVENT
BEGIN:VEVENT
DTSTART;TZID=UTC:20181208T091500
DTEND;TZID=UTC:20181208T101500
DTSTAMP:20260421T134314
CREATED:20180529T003140Z
LAST-MODIFIED:20180823T200741Z
UID:13340-1544260500-1544264100@www.aear.org
SUMMARY:Dog Training Advice
DESCRIPTION:Join AEAR founder\, Sandy Kamen Wisniewski\, as she answers your questions about dogs.  Sandy has over two decades of experience training and working with countless number of dogs.  In addition to fostering hundreds of dogs within the last 14 years\, Sandy has owned and operated Compassionate Dog Training since the early 1990’s.  She has taught group classes at various locations as well as trained dogs in client’s homes.  Sandy specializes in customizing training to fit the family and the dog instead of the approach that all families and dogs are the same.  “Some things can be fixed\, while realistically\, based on the family\, we can manage a situation.  In other words\, some things are fixable and some things aren’t.”  Sandy went on to say\, “I want to see families and their dogs succeed and not fail by asking of them unrealistic expectations.”  But she warns\, “I don’t have a magic wand so it takes the dedication\, consistency and positive attitude to create a happy family.”  Sandy’s training includes positive reinforcement\, traditional training and redirecting.  She believes that dog owners need to be educated about general dog behavior and development in addition to addressing individual needs.  “The more we understand dogs in general the more we will be able to tackle all behavior issues that occur throughout our dog’s life.” \nListen in as Sandy gives sound advise about dog behavior and training.  if you have a question Sandy can try and answer it.  But keep in mind that very specific issues often need to be addressed one-on-one and not in this venue.  Kick back\, watch and learn.  Bring the whole family.
URL:https://www.aear.org/event/12766-2-7/
LOCATION:Facebook Live
CATEGORIES:Dog Training
END:VEVENT
BEGIN:VEVENT
DTSTART;TZID=UTC:20181110T091500
DTEND;TZID=UTC:20181110T101500
DTSTAMP:20260421T134314
CREATED:20180529T003046Z
LAST-MODIFIED:20180823T200742Z
UID:13341-1541841300-1541844900@www.aear.org
SUMMARY:Dog Training Advice
DESCRIPTION:Join AEAR founder\, Sandy Kamen Wisniewski\, as she answers your questions about dogs.  Sandy has over two decades of experience training and working with countless number of dogs.  In addition to fostering hundreds of dogs within the last 14 years\, Sandy has owned and operated Compassionate Dog Training since the early 1990’s.  She has taught group classes at various locations as well as trained dogs in client’s homes.  Sandy specializes in customizing training to fit the family and the dog instead of the approach that all families and dogs are the same.  “Some things can be fixed\, while realistically\, based on the family\, we can manage a situation.  In other words\, some things are fixable and some things aren’t.”  Sandy went on to say\, “I want to see families and their dogs succeed and not fail by asking of them unrealistic expectations.”  But she warns\, “I don’t have a magic wand so it takes the dedication\, consistency and positive attitude to create a happy family.”  Sandy’s training includes positive reinforcement\, traditional training and redirecting.  She believes that dog owners need to be educated about general dog behavior and development in addition to addressing individual needs.  “The more we understand dogs in general the more we will be able to tackle all behavior issues that occur throughout our dog’s life.” \nListen in as Sandy gives sound advise about dog behavior and training.  if you have a question Sandy can try and answer it.  But keep in mind that very specific issues often need to be addressed one-on-one and not in this venue.  Kick back\, watch and learn.  Bring the whole family.
URL:https://www.aear.org/event/12766-2-6/
LOCATION:Facebook Live
CATEGORIES:Dog Training
END:VEVENT
BEGIN:VEVENT
DTSTART;TZID=UTC:20181013T091500
DTEND;TZID=UTC:20181013T101500
DTSTAMP:20260421T134314
CREATED:20180529T003000Z
LAST-MODIFIED:20180823T200742Z
UID:13342-1539422100-1539425700@www.aear.org
SUMMARY:Dog Training Advice
DESCRIPTION:Join AEAR founder\, Sandy Kamen Wisniewski\, as she answers your questions about dogs.  Sandy has over two decades of experience training and working with countless number of dogs.  In addition to fostering hundreds of dogs within the last 14 years\, Sandy has owned and operated Compassionate Dog Training since the early 1990’s.  She has taught group classes at various locations as well as trained dogs in client’s homes.  Sandy specializes in customizing training to fit the family and the dog instead of the approach that all families and dogs are the same.  “Some things can be fixed\, while realistically\, based on the family\, we can manage a situation.  In other words\, some things are fixable and some things aren’t.”  Sandy went on to say\, “I want to see families and their dogs succeed and not fail by asking of them unrealistic expectations.”  But she warns\, “I don’t have a magic wand so it takes the dedication\, consistency and positive attitude to create a happy family.”  Sandy’s training includes positive reinforcement\, traditional training and redirecting.  She believes that dog owners need to be educated about general dog behavior and development in addition to addressing individual needs.  “The more we understand dogs in general the more we will be able to tackle all behavior issues that occur throughout our dog’s life.” \nListen in as Sandy gives sound advise about dog behavior and training.  if you have a question Sandy can try and answer it.  But keep in mind that very specific issues often need to be addressed one-on-one and not in this venue.  Kick back\, watch and learn.  Bring the whole family.
URL:https://www.aear.org/event/12766-2-5/
LOCATION:Facebook Live
CATEGORIES:Dog Training
END:VEVENT
BEGIN:VEVENT
DTSTART;TZID=America/Chicago:20180908T091500
DTEND;TZID=America/Chicago:20180908T101500
DTSTAMP:20260421T134314
CREATED:20180529T002907Z
LAST-MODIFIED:20180829T191407Z
UID:13343-1536398100-1536401700@www.aear.org
SUMMARY:Dog Training Advice
DESCRIPTION:Join AEAR founder\, Sandy Kamen Wisniewski\, as she answers your questions about dogs.  Sandy has over two decades of experience training and working with countless number of dogs.  In addition to fostering hundreds of dogs within the last 14 years\, Sandy has owned and operated Compassionate Dog Training since the early 1990’s.  She has taught group classes at various locations as well as trained dogs in client’s homes.  Sandy specializes in customizing training to fit the family and the dog instead of the approach that all families and dogs are the same.  “Some things can be fixed\, while realistically\, based on the family\, we can manage a situation.  In other words\, some things are fixable and some things aren’t.”  Sandy went on to say\, “I want to see families and their dogs succeed and not fail by asking of them unrealistic expectations.”  But she warns\, “I don’t have a magic wand so it takes the dedication\, consistency and positive attitude to create a happy family.”  Sandy’s training includes positive reinforcement\, traditional training and redirecting.  She believes that dog owners need to be educated about general dog behavior and development in addition to addressing individual needs.  “The more we understand dogs in general the more we will be able to tackle all behavior issues that occur throughout our dog’s life.” \nListen in as Sandy gives sound advise about dog behavior and training.  if you have a question Sandy can try and answer it.  But keep in mind that very specific issues often need to be addressed one-on-one and not in this venue.  Kick back\, watch and learn.  Bring the whole family.
URL:https://www.aear.org/event/12766-2-4/
LOCATION:Facebook Live
CATEGORIES:Dog Training
END:VEVENT
BEGIN:VEVENT
DTSTART;TZID=UTC:20180811T091500
DTEND;TZID=UTC:20180811T101500
DTSTAMP:20260421T134314
CREATED:20180529T002821Z
LAST-MODIFIED:20180823T200742Z
UID:13344-1533978900-1533982500@www.aear.org
SUMMARY:Dog Training Advice
DESCRIPTION:Join AEAR founder\, Sandy Kamen Wisniewski\, as she answers your questions about dogs.  Sandy has over two decades of experience training and working with countless number of dogs.  In addition to fostering hundreds of dogs within the last 14 years\, Sandy has owned and operated Compassionate Dog Training since the early 1990’s.  She has taught group classes at various locations as well as trained dogs in client’s homes.  Sandy specializes in customizing training to fit the family and the dog instead of the approach that all families and dogs are the same.  “Some things can be fixed\, while realistically\, based on the family\, we can manage a situation.  In other words\, some things are fixable and some things aren’t.”  Sandy went on to say\, “I want to see families and their dogs succeed and not fail by asking of them unrealistic expectations.”  But she warns\, “I don’t have a magic wand so it takes the dedication\, consistency and positive attitude to create a happy family.”  Sandy’s training includes positive reinforcement\, traditional training and redirecting.  She believes that dog owners need to be educated about general dog behavior and development in addition to addressing individual needs.  “The more we understand dogs in general the more we will be able to tackle all behavior issues that occur throughout our dog’s life.” \nListen in as Sandy gives sound advise about dog behavior and training.  if you have a question Sandy can try and answer it.  But keep in mind that very specific issues often need to be addressed one-on-one and not in this venue.  Kick back\, watch and learn.  Bring the whole family.
URL:https://www.aear.org/event/12766-2-3/
LOCATION:Facebook Live
CATEGORIES:Dog Training
END:VEVENT
BEGIN:VEVENT
DTSTART;TZID=UTC:20180714T091500
DTEND;TZID=UTC:20180714T101500
DTSTAMP:20260421T134314
CREATED:20180529T002738Z
LAST-MODIFIED:20180823T200742Z
UID:13345-1531559700-1531563300@www.aear.org
SUMMARY:Dog Training Advice
DESCRIPTION:Join AEAR founder\, Sandy Kamen Wisniewski\, as she answers your questions about dogs.  Sandy has over two decades of experience training and working with countless number of dogs.  In addition to fostering hundreds of dogs within the last 14 years\, Sandy has owned and operated Compassionate Dog Training since the early 1990’s.  She has taught group classes at various locations as well as trained dogs in client’s homes.  Sandy specializes in customizing training to fit the family and the dog instead of the approach that all families and dogs are the same.  “Some things can be fixed\, while realistically\, based on the family\, we can manage a situation.  In other words\, some things are fixable and some things aren’t.”  Sandy went on to say\, “I want to see families and their dogs succeed and not fail by asking of them unrealistic expectations.”  But she warns\, “I don’t have a magic wand so it takes the dedication\, consistency and positive attitude to create a happy family.”  Sandy’s training includes positive reinforcement\, traditional training and redirecting.  She believes that dog owners need to be educated about general dog behavior and development in addition to addressing individual needs.  “The more we understand dogs in general the more we will be able to tackle all behavior issues that occur throughout our dog’s life.” \nListen in as Sandy gives sound advise about dog behavior and training.  if you have a question Sandy can try and answer it.  But keep in mind that very specific issues often need to be addressed one-on-one and not in this venue.  Kick back\, watch and learn.  Bring the whole family.
URL:https://www.aear.org/event/12766-2-2/
LOCATION:Facebook Live
CATEGORIES:Dog Training
END:VEVENT
BEGIN:VEVENT
DTSTART;TZID=UTC:20180609T091500
DTEND;TZID=UTC:20180609T101500
DTSTAMP:20260421T134314
CREATED:20180506T210713Z
LAST-MODIFIED:20180823T200742Z
UID:13029-1528535700-1528539300@www.aear.org
SUMMARY:Dog Training Advice
DESCRIPTION:Join AEAR founder\, Sandy Kamen Wisniewski\, as she answers your questions about dogs.  Sandy has over two decades of experience training and working with countless number of dogs.  In addition to fostering hundreds of dogs within the last 14 years\, Sandy has owned and operated Compassionate Dog Training since the early 1990’s.  She has taught group classes at various locations as well as trained dogs in client’s homes.  Sandy specializes in customizing training to fit the family and the dog instead of the approach that all families and dogs are the same.  “Some things can be fixed\, while realistically\, based on the family\, we can manage a situation.  In other words\, some things are fixable and some things aren’t.”  Sandy went on to say\, “I want to see families and their dogs succeed and not fail by asking of them unrealistic expectations.”  But she warns\, “I don’t have a magic wand so it takes the dedication\, consistency and positive attitude to create a happy family.”  Sandy’s training includes positive reinforcement\, traditional training and redirecting.  She believes that dog owners need to be educated about general dog behavior and development in addition to addressing individual needs.  “The more we understand dogs in general the more we will be able to tackle all behavior issues that occur throughout our dog’s life.” \nListen in as Sandy gives sound advise about dog behavior and training.  if you have a question Sandy can try and answer it.  But keep in mind that very specific issues often need to be addressed one-on-one and not in this venue.  Kick back\, watch and learn.  Bring the whole family.
URL:https://www.aear.org/event/12766-2/
LOCATION:Facebook Live
CATEGORIES:Dog Training
END:VEVENT
BEGIN:VEVENT
DTSTART;TZID=UTC:20180512T091500
DTEND;TZID=UTC:20180512T101500
DTSTAMP:20260421T134314
CREATED:20180416T020742Z
LAST-MODIFIED:20180823T200742Z
UID:12766-1526116500-1526120100@www.aear.org
SUMMARY:Dog Training Advice
DESCRIPTION:Join AEAR founder\, Sandy Kamen Wisniewski\, as she answers your questions about dogs.  Sandy has over two decades of experience training and working with countless number of dogs.  In addition to fostering hundreds of dogs within the last 14 years\, Sandy has owned and operated Compassionate Dog Training since the early 1990’s.  She has taught group classes at various locations as well as trained dogs in client’s homes.  Sandy specializes in customizing training to fit the family and the dog instead of the approach that all families and dogs are the same.  “Some things can be fixed\, while realistically\, based on the family\, we can manage a situation.  In other words\, some things are fixable and some things aren’t.”  Sandy went on to say\, “I want to see families and their dogs succeed and not fail by asking of them unrealistic expectations.”  But she warns\, “I don’t have a magic wand so it takes the dedication\, consistency and positive attitude to create a happy family.”  Sandy’s training includes positive reinforcement\, traditional training and redirecting.  She believes that dog owners need to be educated about general dog behavior and development in addition to addressing individual needs.  “The more we understand dogs in general the more we will be able to tackle all behavior issues that occur throughout our dog’s life.” \nListen in as Sandy gives sound advise about dog behavior and training.  if you have a question Sandy can try and answer it.  But keep in mind that very specific issues often need to be addressed one-on-one and not in this venue.  Kick back\, watch and learn.  Bring the whole family.
URL:https://www.aear.org/event/12766/
LOCATION:Facebook Live
CATEGORIES:Dog Training
END:VEVENT
END:VCALENDAR