BEGIN:VCALENDAR
VERSION:2.0
PRODID:-//Animal Education &amp; Rescue - ECPv6.15.20//NONSGML v1.0//EN
CALSCALE:GREGORIAN
METHOD:PUBLISH
X-WR-CALNAME:Animal Education &amp; Rescue
X-ORIGINAL-URL:https://www.aear.org
X-WR-CALDESC:Events for Animal Education &amp; Rescue
REFRESH-INTERVAL;VALUE=DURATION:PT1H
X-Robots-Tag:noindex
X-PUBLISHED-TTL:PT1H
BEGIN:VTIMEZONE
TZID:America/Chicago
BEGIN:DAYLIGHT
TZOFFSETFROM:-0600
TZOFFSETTO:-0500
TZNAME:CDT
DTSTART:20240310T080000
END:DAYLIGHT
BEGIN:STANDARD
TZOFFSETFROM:-0500
TZOFFSETTO:-0600
TZNAME:CST
DTSTART:20241103T070000
END:STANDARD
BEGIN:DAYLIGHT
TZOFFSETFROM:-0600
TZOFFSETTO:-0500
TZNAME:CDT
DTSTART:20250309T080000
END:DAYLIGHT
BEGIN:STANDARD
TZOFFSETFROM:-0500
TZOFFSETTO:-0600
TZNAME:CST
DTSTART:20251102T070000
END:STANDARD
BEGIN:DAYLIGHT
TZOFFSETFROM:-0600
TZOFFSETTO:-0500
TZNAME:CDT
DTSTART:20260308T080000
END:DAYLIGHT
BEGIN:STANDARD
TZOFFSETFROM:-0500
TZOFFSETTO:-0600
TZNAME:CST
DTSTART:20261101T070000
END:STANDARD
END:VTIMEZONE
BEGIN:VEVENT
DTSTART;TZID=America/Chicago:20250920T173000
DTEND;TZID=America/Chicago:20250920T200000
DTSTAMP:20260422T015732
CREATED:20250828T005657Z
LAST-MODIFIED:20250828T005657Z
UID:30141-1758389400-1758398400@www.aear.org
SUMMARY:Fundraiser for the Animals at Perkowitz Art Studio
DESCRIPTION:Join Sandy\, Chuck\, and Nikki for a fun evening of painting\, snacks\, and beverages on Saturday\, September 20th from 5:30-8pm at Perkowitz Art Studio in Grayslake Il.  Ticket prices are $45 and a percentage of the ticket price will be donated to Animal Education and Rescue. Seats are limited. Click the link to get your tickets.
URL:https://www.aear.org/event/fundraiser-for-the-animals-at-perkowitz-art-studio/
LOCATION:Perkowitz Art Studio\, 116 S Illinois 83 Unit D\, Grayalake\, Il
CATEGORIES:Fundraising Event
ATTACH;FMTTYPE=image/png:https://www.aear.org/wp-content/uploads/2025/08/8072153577499021913.png
END:VEVENT
END:VCALENDAR