BEGIN:VCALENDAR
VERSION:2.0
PRODID:-//Animal Education &amp; Rescue - ECPv6.15.20//NONSGML v1.0//EN
CALSCALE:GREGORIAN
METHOD:PUBLISH
X-ORIGINAL-URL:https://www.aear.org
X-WR-CALDESC:Events for Animal Education &amp; Rescue
REFRESH-INTERVAL;VALUE=DURATION:PT1H
X-Robots-Tag:noindex
X-PUBLISHED-TTL:PT1H
BEGIN:VTIMEZONE
TZID:America/Chicago
BEGIN:DAYLIGHT
TZOFFSETFROM:-0600
TZOFFSETTO:-0500
TZNAME:CDT
DTSTART:20180311T080000
END:DAYLIGHT
BEGIN:STANDARD
TZOFFSETFROM:-0500
TZOFFSETTO:-0600
TZNAME:CST
DTSTART:20181104T070000
END:STANDARD
BEGIN:DAYLIGHT
TZOFFSETFROM:-0600
TZOFFSETTO:-0500
TZNAME:CDT
DTSTART:20190310T080000
END:DAYLIGHT
BEGIN:STANDARD
TZOFFSETFROM:-0500
TZOFFSETTO:-0600
TZNAME:CST
DTSTART:20191103T070000
END:STANDARD
BEGIN:DAYLIGHT
TZOFFSETFROM:-0600
TZOFFSETTO:-0500
TZNAME:CDT
DTSTART:20200308T080000
END:DAYLIGHT
BEGIN:STANDARD
TZOFFSETFROM:-0500
TZOFFSETTO:-0600
TZNAME:CST
DTSTART:20201101T070000
END:STANDARD
END:VTIMEZONE
BEGIN:VEVENT
DTSTART;TZID=America/Chicago:20191102T180000
DTEND;TZID=America/Chicago:20191102T220000
DTSTAMP:20260421T134728
CREATED:20190211T020647Z
LAST-MODIFIED:20190920T192055Z
UID:15130-1572717600-1572732000@www.aear.org
SUMMARY:Animal Education and Rescue’s 2019 Gala Dinner Fundraiser
DESCRIPTION:“Animals Are Our Teachers\, Our Friends” \nSaturday November 2 from 6-10 pm\nGorton Community Center 400 E. Illinois Road Lake Forest\, Illinois 60045 \nJoin us for a festive\, elegant evening.  There will be a live and silent auction\, raffle prizes\, a heart-felt video showcasing what we accomplished this year. \nAEAR founder and director Sandy Kamen Wisniewski will give a inspirational speech: Animals\, Our Teachers\, Our Friends \n$50/person 100% of all proceeds go to Animal Education and Rescue.  Space is limited so reserve your seats now!  www.aear.org.\n\nDress business casual\n\n\n\n\n\n\n	\n					\n				\n				\n					\n					\n				\n\n					\n	\n	\n	\n	\n			\n		\n			\n\n	\n		\n			\n				$				Donation Amount:\n				\n							\n		\n		Choose Your Donation Amount:1 person2 people3 people4 people5 people6 peopleI cannot attend but would like to make a donationRegister\n	\n				Select Payment Method			\n			\n		\n\n		\n						\n										\n							\n							 PayPal\n						\n									\n					\n			\n\n	\n	\n\n			\n		\n			Personal Info		\n\n		\n        \n            \n                First Name                                    *\n                                            \n            \n         \n\n        \n            \n                Last Name                                            \n\n            \n         \n\n        \n                \n            \n                Email Address                                    *\n                                                \n            \n\n         \n\n        \n					\n				\n					Comment														\n\n				\n\n			 \n					\n		\n		Billing Details\n				\n			\n				Country									*\n								\n			\n\n			\n				United StatesCanadaUnited KingdomAfghanistanAlbaniaAlgeriaAmerican SamoaAndorraAngolaAnguillaAntarcticaAntigua and BarbudaArgentinaArmeniaArubaAustraliaAustriaAzerbaijanBahamasBahrainBangladeshBarbadosBelarusBelgiumBelizeBeninBermudaBhutanBoliviaBosnia and HerzegovinaBotswanaBouvet IslandBrazilBritish Indian Ocean TerritoryBrunei DarrussalamBulgariaBurkina FasoBurundiCambodiaCameroonCape VerdeCayman IslandsCentral African RepublicChadChileChinaChristmas IslandCocos IslandsColombiaComorosCongo\, Democratic People's RepublicCongo\, Republic ofCook IslandsCosta RicaCote d'IvoireCroatia/HrvatskaCubaCuraçaoCyprus IslandCzech RepublicDenmarkDjiboutiDominicaDominican RepublicEast TimorEcuadorEgyptEquatorial GuineaEl SalvadorEritreaEstoniaEthiopiaFalkland IslandsFaroe IslandsFijiFinlandFranceFrench GuianaFrench PolynesiaFrench Southern TerritoriesGabonGambiaGeorgiaGermanyGreeceGhanaGibraltarGreenlandGrenadaGuadeloupeGuamGuatemalaGuernseyGuineaGuinea-BissauGuyanaHaitiHeard and McDonald IslandsHoly See (City Vatican State)HondurasHong KongHungaryIcelandIndiaIndonesiaIranIraqIrelandIsle of ManIsraelItalyJamaicaJapanJerseyJordanKazakhstanKenyaKiribatiKuwaitKyrgyzstanLao People's Democratic RepublicLatviaLebanonLesothoLiberiaLibyan Arab JamahiriyaLiechtensteinLithuaniaLuxembourgMacauMacedoniaMadagascarMalawiMalaysiaMaldivesMaliMaltaMarshall IslandsMartiniqueMauritaniaMauritiusMayotteMexicoMicronesiaMoldova\, Republic ofMonacoMongoliaMontenegroMontserratMoroccoMozambiqueMyanmarNamibiaNauruNepalNetherlandsNew CaledoniaNew ZealandNicaraguaNigerNigeriaNiueNorfolk IslandNorth KoreaNorthern Mariana IslandsNorwayOmanPakistanPalauPalestinian TerritoriesPanamaPapua New GuineaParaguayPeruPhilippinesPitcairn IslandPolandPortugalPuerto RicoQatarReunion IslandRomaniaRussian FederationRwandaSaint HelenaSaint Kitts and NevisSaint LuciaSaint Pierre and MiquelonSaint Vincent and the GrenadinesSan MarinoSao Tome and PrincipeSaudi ArabiaSenegalSerbiaSeychellesSierra LeoneSingaporeSlovak RepublicSloveniaSolomon IslandsSomaliaSouth AfricaSouth GeorgiaSouth KoreaSpainSri LankaSudanSurinameSvalbard and Jan Mayen IslandsEswatiniSwedenSwitzerlandSyrian Arab RepublicTaiwanTajikistanTanzaniaTogoTokelauTongaThailandTrinidad and TobagoTunisiaTurkeyTurkmenistanTurks and Caicos IslandsTuvaluUgandaUkraineUnited Arab EmiratesUruguayUS Minor Outlying IslandsUzbekistanVanuatuVenezuelaVietnamVirgin Islands (British)Virgin Islands (USA)Wallis and Futuna IslandsWestern SaharaWestern SamoaYemenYugoslaviaZambiaZimbabwe			\n		 \n\n		\n			\n				Address 1									*\n											\n\n			\n		 \n\n		\n			\n				Address 2											\n\n			\n		 \n\n		\n			\n				City									*\n											\n			\n		 \n\n				\n			\n				State\n				*\n				\n			\n							\n					AlabamaAlaskaArizonaArkansasCaliforniaColoradoConnecticutDelawareDistrict of ColumbiaFloridaGeorgiaHawaiiIdahoIllinoisIndianaIowaKansasKentuckyLouisianaMaineMarylandMassachusettsMichiganMinnesotaMississippiMissouriMontanaNebraskaNevadaNew HampshireNew JerseyNew MexicoNew YorkNorth CarolinaNorth DakotaOhioOklahomaOregonPennsylvaniaRhode IslandSouth CarolinaSouth DakotaTennesseeTexasUtahVermontVirginiaWashingtonWest VirginiaWisconsinWyomingAmerican SamoaCanal ZoneCommonwealth of the Northern Mariana IslandsFederated States of MicronesiaGuamMarshall IslandsNorthern Mariana IslandsPalauPhilippine IslandsPuerto RicoTrust Territory of the Pacific IslandsVirgin IslandsArmed Forces - AmericasArmed Forces - Europe\, Canada\, Middle East\, AfricaArmed Forces - Pacific				\n					 \n\n		\n			\n				Zip / Postal Code				*\n							\n\n			\n		 \n			\n		\n			\n				\n			Donation Total:		\n		\n			$50.00
URL:https://www.aear.org/event/annual-gala/
LOCATION:Gorton Center\, 400 E. Illinois Rd.\, Lake Forest\, IL\, 60045\, United States
CATEGORIES:Gala
END:VEVENT
END:VCALENDAR