BEGIN:VCALENDAR
VERSION:2.0
PRODID:-//Animal Education &amp; Rescue - ECPv6.15.20//NONSGML v1.0//EN
CALSCALE:GREGORIAN
METHOD:PUBLISH
X-WR-CALNAME:Animal Education &amp; Rescue
X-ORIGINAL-URL:https://www.aear.org
X-WR-CALDESC:Events for Animal Education &amp; Rescue
REFRESH-INTERVAL;VALUE=DURATION:PT1H
X-Robots-Tag:noindex
X-PUBLISHED-TTL:PT1H
BEGIN:VTIMEZONE
TZID:America/Chicago
BEGIN:DAYLIGHT
TZOFFSETFROM:-0600
TZOFFSETTO:-0500
TZNAME:CDT
DTSTART:20230312T080000
END:DAYLIGHT
BEGIN:STANDARD
TZOFFSETFROM:-0500
TZOFFSETTO:-0600
TZNAME:CST
DTSTART:20231105T070000
END:STANDARD
BEGIN:DAYLIGHT
TZOFFSETFROM:-0600
TZOFFSETTO:-0500
TZNAME:CDT
DTSTART:20240310T080000
END:DAYLIGHT
BEGIN:STANDARD
TZOFFSETFROM:-0500
TZOFFSETTO:-0600
TZNAME:CST
DTSTART:20241103T070000
END:STANDARD
BEGIN:DAYLIGHT
TZOFFSETFROM:-0600
TZOFFSETTO:-0500
TZNAME:CDT
DTSTART:20250309T080000
END:DAYLIGHT
BEGIN:STANDARD
TZOFFSETFROM:-0500
TZOFFSETTO:-0600
TZNAME:CST
DTSTART:20251102T070000
END:STANDARD
END:VTIMEZONE
BEGIN:VEVENT
DTSTART;TZID=America/Chicago:20240523T183000
DTEND;TZID=America/Chicago:20240523T200000
DTSTAMP:20260422T172637
CREATED:20240430T185116Z
LAST-MODIFIED:20240522T010731Z
UID:26262-1716489000-1716494400@www.aear.org
SUMMARY:AEAR Informational Gathering
DESCRIPTION:Join us for an information gathering on May 23 from 6:30-8pm. Look on our Facebook page for the link to sign up.
URL:https://www.aear.org/event/aear-informational-gathering/
CATEGORIES:New Volunteer Orientation
ATTACH;FMTTYPE=image/jpeg:https://www.aear.org/wp-content/uploads/2024/04/7254B296-444D-4108-8B9E-18974360E795.jpeg
END:VEVENT
END:VCALENDAR