BEGIN:VCALENDAR
VERSION:2.0
PRODID:-//Animal Education &amp; Rescue - ECPv6.15.20//NONSGML v1.0//EN
CALSCALE:GREGORIAN
METHOD:PUBLISH
X-ORIGINAL-URL:https://www.aear.org
X-WR-CALDESC:Events for Animal Education &amp; Rescue
REFRESH-INTERVAL;VALUE=DURATION:PT1H
X-Robots-Tag:noindex
X-PUBLISHED-TTL:PT1H
BEGIN:VTIMEZONE
TZID:America/Chicago
BEGIN:DAYLIGHT
TZOFFSETFROM:-0600
TZOFFSETTO:-0500
TZNAME:CDT
DTSTART:20240310T080000
END:DAYLIGHT
BEGIN:STANDARD
TZOFFSETFROM:-0500
TZOFFSETTO:-0600
TZNAME:CST
DTSTART:20241103T070000
END:STANDARD
BEGIN:DAYLIGHT
TZOFFSETFROM:-0600
TZOFFSETTO:-0500
TZNAME:CDT
DTSTART:20250309T080000
END:DAYLIGHT
BEGIN:STANDARD
TZOFFSETFROM:-0500
TZOFFSETTO:-0600
TZNAME:CST
DTSTART:20251102T070000
END:STANDARD
BEGIN:DAYLIGHT
TZOFFSETFROM:-0600
TZOFFSETTO:-0500
TZNAME:CDT
DTSTART:20260308T080000
END:DAYLIGHT
BEGIN:STANDARD
TZOFFSETFROM:-0500
TZOFFSETTO:-0600
TZNAME:CST
DTSTART:20261101T070000
END:STANDARD
END:VTIMEZONE
BEGIN:VEVENT
DTSTART;TZID=America/Chicago:20250327T183000
DTEND;TZID=America/Chicago:20250327T200000
DTSTAMP:20260422T043601
CREATED:20250304T012433Z
LAST-MODIFIED:20250304T012433Z
UID:28859-1743100200-1743105600@www.aear.org
SUMMARY:AEAR Informational Gathering
DESCRIPTION:Interested in volunteering? Join us for an informational gathering on Thursday\, March 27\, from 6:30-8:00pm\, at Panera Bread in Mundelein.
URL:https://www.aear.org/event/aear-informational-gathering-6/
CATEGORIES:New Volunteer Orientation
END:VEVENT
END:VCALENDAR