BEGIN:VCALENDAR
VERSION:2.0
PRODID:-//Animal Education &amp; Rescue - ECPv6.15.20//NONSGML v1.0//EN
CALSCALE:GREGORIAN
METHOD:PUBLISH
X-WR-CALNAME:Animal Education &amp; Rescue
X-ORIGINAL-URL:https://www.aear.org
X-WR-CALDESC:Events for Animal Education &amp; Rescue
REFRESH-INTERVAL;VALUE=DURATION:PT1H
X-Robots-Tag:noindex
X-PUBLISHED-TTL:PT1H
BEGIN:VTIMEZONE
TZID:America/Chicago
BEGIN:DAYLIGHT
TZOFFSETFROM:-0600
TZOFFSETTO:-0500
TZNAME:CDT
DTSTART:20170312T080000
END:DAYLIGHT
BEGIN:STANDARD
TZOFFSETFROM:-0500
TZOFFSETTO:-0600
TZNAME:CST
DTSTART:20171105T070000
END:STANDARD
BEGIN:DAYLIGHT
TZOFFSETFROM:-0600
TZOFFSETTO:-0500
TZNAME:CDT
DTSTART:20180311T080000
END:DAYLIGHT
BEGIN:STANDARD
TZOFFSETFROM:-0500
TZOFFSETTO:-0600
TZNAME:CST
DTSTART:20181104T070000
END:STANDARD
BEGIN:DAYLIGHT
TZOFFSETFROM:-0600
TZOFFSETTO:-0500
TZNAME:CDT
DTSTART:20190310T080000
END:DAYLIGHT
BEGIN:STANDARD
TZOFFSETFROM:-0500
TZOFFSETTO:-0600
TZNAME:CST
DTSTART:20191103T070000
END:STANDARD
BEGIN:DAYLIGHT
TZOFFSETFROM:-0600
TZOFFSETTO:-0500
TZNAME:CDT
DTSTART:20200308T080000
END:DAYLIGHT
BEGIN:STANDARD
TZOFFSETFROM:-0500
TZOFFSETTO:-0600
TZNAME:CST
DTSTART:20201101T070000
END:STANDARD
BEGIN:DAYLIGHT
TZOFFSETFROM:-0600
TZOFFSETTO:-0500
TZNAME:CDT
DTSTART:20210314T080000
END:DAYLIGHT
BEGIN:STANDARD
TZOFFSETFROM:-0500
TZOFFSETTO:-0600
TZNAME:CST
DTSTART:20211107T070000
END:STANDARD
END:VTIMEZONE
BEGIN:VTIMEZONE
TZID:UTC
BEGIN:STANDARD
TZOFFSETFROM:+0000
TZOFFSETTO:+0000
TZNAME:UTC
DTSTART:20170101T000000
END:STANDARD
END:VTIMEZONE
BEGIN:VEVENT
DTSTART;TZID=America/Chicago:20200310T190000
DTEND;TZID=America/Chicago:20200310T200000
DTSTAMP:20260421T152218
CREATED:20191229T212257Z
LAST-MODIFIED:20191229T212257Z
UID:16341-1583866800-1583870400@www.aear.org
SUMMARY:Pet Therapy
DESCRIPTION:The second Tuesday of every month we bring animals to visit the residents at Manor Care nursing home from 7-8pm. It is a wonderful way to bring joy\, share laughter and love. Please RSVP to 847-816-0831 or email us at info@aear.org. If you are new to pet therapy and if you plan on bringing your own pet please fill out the Pet Therapy Volunteer Application and send us your pets shot records via email of mail to our address at AEAR P.O. Box 7343 Libertyville\, IL. 60048.
URL:https://www.aear.org/event/pet-therapy-16/
LOCATION:Manor Care\, 1500 South Milwaukee Ave\, Libertyville\, IL\, 60048\, United States
CATEGORIES:Pet Therapy
END:VEVENT
BEGIN:VEVENT
DTSTART;TZID=America/Chicago:20200211T190000
DTEND;TZID=America/Chicago:20200211T200000
DTSTAMP:20260421T152218
CREATED:20191229T212219Z
LAST-MODIFIED:20191229T212219Z
UID:16339-1581447600-1581451200@www.aear.org
SUMMARY:Pet Therapy
DESCRIPTION:The second Tuesday of every month we bring animals to visit the residents at Manor Care nursing home from 7-8pm. It is a wonderful way to bring joy\, share laughter and love. Please RSVP to 847-816-0831 or email us at info@aear.org. If you are new to pet therapy and if you plan on bringing your own pet please fill out the Pet Therapy Volunteer Application and send us your pets shot records via email of mail to our address at AEAR P.O. Box 7343 Libertyville\, IL. 60048.
URL:https://www.aear.org/event/pet-therapy-15/
LOCATION:Manor Care\, 1500 South Milwaukee Ave\, Libertyville\, IL\, 60048\, United States
CATEGORIES:Pet Therapy
END:VEVENT
BEGIN:VEVENT
DTSTART;TZID=America/Chicago:20200114T190000
DTEND;TZID=America/Chicago:20200114T200000
DTSTAMP:20260421T152218
CREATED:20191229T212140Z
LAST-MODIFIED:20191229T212140Z
UID:16337-1579028400-1579032000@www.aear.org
SUMMARY:Pet Therapy
DESCRIPTION:The second Tuesday of every month we bring animals to visit the residents at Manor Care nursing home from 7-8pm. It is a wonderful way to bring joy\, share laughter and love. Please RSVP to 847-816-0831 or email us at info@aear.org. If you are new to pet therapy and if you plan on bringing your own pet please fill out the Pet Therapy Volunteer Application and send us your pets shot records via email of mail to our address at AEAR P.O. Box 7343 Libertyville\, IL. 60048.
URL:https://www.aear.org/event/pet-therapy-14/
LOCATION:Manor Care\, 1500 South Milwaukee Ave\, Libertyville\, IL\, 60048\, United States
CATEGORIES:Pet Therapy
END:VEVENT
BEGIN:VEVENT
DTSTART;TZID=UTC:20191225T140000
DTEND;TZID=UTC:20191225T150000
DTSTAMP:20260421T152218
CREATED:20191113T032022Z
LAST-MODIFIED:20191113T032022Z
UID:16052-1577282400-1577286000@www.aear.org
SUMMARY:Christmas Day Pet Therapy
DESCRIPTION:On Christmas we bring animals to visit the residents at Manor Care nursing home from 2-3pm. It is a wonderful way to bring joy\, share laughter and love. Families are welcome as well as volunteers. \nPlease RSVP to 847-816-0831 or email us at info@aear.org. If you are new to pet therapy and if you plan on bringing your own pet please fill out the Pet Therapy Volunteer Application and send us your pets shot records via email of mail to our address at AEAR P.O. Box 7343 Libertyville\, IL. 60048. \n 
URL:https://www.aear.org/event/christmas-day-pet-therapy-2/
LOCATION:Manor Care\, 1500 South Milwaukee Ave\, Libertyville\, IL\, 60048\, United States
CATEGORIES:Pet Therapy
END:VEVENT
BEGIN:VEVENT
DTSTART;TZID=America/Chicago:20191210T190000
DTEND;TZID=America/Chicago:20191210T200000
DTSTAMP:20260421T152218
CREATED:20190223T230324Z
LAST-MODIFIED:20190223T230324Z
UID:15186-1576004400-1576008000@www.aear.org
SUMMARY:Pet Therapy
DESCRIPTION:The second Tuesday of every month we bring animals to visit the residents at Manor Care nursing home from 7-8pm. It is a wonderful way to bring joy\, share laughter and love. Please RSVP to 847-816-0831 or email us at info@aear.org. If you are new to pet therapy and if you plan on bringing your own pet please fill out the Pet Therapy Volunteer Application and send us your pets shot records via email of mail to our address at AEAR P.O. Box 7343 Libertyville\, IL. 60048.
URL:https://www.aear.org/event/pet-therapy-13/
LOCATION:Manor Care\, 1500 South Milwaukee Ave\, Libertyville\, IL\, 60048\, United States
CATEGORIES:Pet Therapy
END:VEVENT
BEGIN:VEVENT
DTSTART;TZID=UTC:20191128T140000
DTEND;TZID=UTC:20191128T150000
DTSTAMP:20260421T152218
CREATED:20191113T031909Z
LAST-MODIFIED:20191113T031909Z
UID:16050-1574949600-1574953200@www.aear.org
SUMMARY:Thanksgiving Day Pet Therapy
DESCRIPTION:On Thanksgiving we bring animals to visit the residents at Manor Care nursing home from 2-3pm. It is a wonderful way to bring joy\, share laughter and love. Families are welcome as well as volunteers. \nPlease RSVP to 847-816-0831 or email us at info@aear.org. If you are new to pet therapy and if you plan on bringing your own pet please fill out the Pet Therapy Volunteer Application and send us your pets shot records via email of mail to our address at AEAR P.O. Box 7343 Libertyville\, IL. 60048. \n 
URL:https://www.aear.org/event/thanksgiving-day-pet-therapy-2/
LOCATION:Manor Care\, 1500 South Milwaukee Ave\, Libertyville\, IL\, 60048\, United States
CATEGORIES:Pet Therapy
END:VEVENT
BEGIN:VEVENT
DTSTART;TZID=America/Chicago:20191112T190000
DTEND;TZID=America/Chicago:20191112T200000
DTSTAMP:20260421T152218
CREATED:20190223T230242Z
LAST-MODIFIED:20190223T230242Z
UID:15184-1573585200-1573588800@www.aear.org
SUMMARY:Pet Therapy
DESCRIPTION:The second Tuesday of every month we bring animals to visit the residents at Manor Care nursing home from 7-8pm. It is a wonderful way to bring joy\, share laughter and love. Please RSVP to 847-816-0831 or email us at info@aear.org. If you are new to pet therapy and if you plan on bringing your own pet please fill out the Pet Therapy Volunteer Application and send us your pets shot records via email of mail to our address at AEAR P.O. Box 7343 Libertyville\, IL. 60048.
URL:https://www.aear.org/event/pet-therapy-12/
LOCATION:Manor Care\, 1500 South Milwaukee Ave\, Libertyville\, IL\, 60048\, United States
CATEGORIES:Pet Therapy
END:VEVENT
BEGIN:VEVENT
DTSTART;TZID=America/Chicago:20191008T190000
DTEND;TZID=America/Chicago:20191008T200000
DTSTAMP:20260421T152218
CREATED:20190223T230154Z
LAST-MODIFIED:20190223T230154Z
UID:15182-1570561200-1570564800@www.aear.org
SUMMARY:Pet Therapy
DESCRIPTION:The second Tuesday of every month we bring animals to visit the residents at Manor Care nursing home from 7-8pm. It is a wonderful way to bring joy\, share laughter and love. Please RSVP to 847-816-0831 or email us at info@aear.org. If you are new to pet therapy and if you plan on bringing your own pet please fill out the Pet Therapy Volunteer Application and send us your pets shot records via email of mail to our address at AEAR P.O. Box 7343 Libertyville\, IL. 60048.
URL:https://www.aear.org/event/pet-therapy-11/
LOCATION:Manor Care\, 1500 South Milwaukee Ave\, Libertyville\, IL\, 60048\, United States
CATEGORIES:Pet Therapy
END:VEVENT
BEGIN:VEVENT
DTSTART;TZID=America/Chicago:20190910T190000
DTEND;TZID=America/Chicago:20190910T200000
DTSTAMP:20260421T152218
CREATED:20190223T230110Z
LAST-MODIFIED:20190223T230110Z
UID:15180-1568142000-1568145600@www.aear.org
SUMMARY:Pet Therapy
DESCRIPTION:The second Tuesday of every month we bring animals to visit the residents at Manor Care nursing home from 7-8pm. It is a wonderful way to bring joy\, share laughter and love. Please RSVP to 847-816-0831 or email us at info@aear.org. If you are new to pet therapy and if you plan on bringing your own pet please fill out the Pet Therapy Volunteer Application and send us your pets shot records via email of mail to our address at AEAR P.O. Box 7343 Libertyville\, IL. 60048.
URL:https://www.aear.org/event/pet-therapy-10/
LOCATION:Manor Care\, 1500 South Milwaukee Ave\, Libertyville\, IL\, 60048\, United States
CATEGORIES:Pet Therapy
END:VEVENT
BEGIN:VEVENT
DTSTART;TZID=America/Chicago:20190813T190000
DTEND;TZID=America/Chicago:20190813T200000
DTSTAMP:20260421T152218
CREATED:20190223T230030Z
LAST-MODIFIED:20190223T230030Z
UID:15178-1565722800-1565726400@www.aear.org
SUMMARY:Pet Therapy
DESCRIPTION:The second Tuesday of every month we bring animals to visit the residents at Manor Care nursing home from 7-8pm. It is a wonderful way to bring joy\, share laughter and love. Please RSVP to 847-816-0831 or email us at info@aear.org. If you are new to pet therapy and if you plan on bringing your own pet please fill out the Pet Therapy Volunteer Application and send us your pets shot records via email of mail to our address at AEAR P.O. Box 7343 Libertyville\, IL. 60048.
URL:https://www.aear.org/event/pet-therapy-9/
LOCATION:Manor Care\, 1500 South Milwaukee Ave\, Libertyville\, IL\, 60048\, United States
CATEGORIES:Pet Therapy
END:VEVENT
BEGIN:VEVENT
DTSTART;TZID=America/Chicago:20190709T190000
DTEND;TZID=America/Chicago:20190709T200000
DTSTAMP:20260421T152218
CREATED:20190223T225945Z
LAST-MODIFIED:20190223T225945Z
UID:15176-1562698800-1562702400@www.aear.org
SUMMARY:Pet Therapy
DESCRIPTION:The second Tuesday of every month we bring animals to visit the residents at Manor Care nursing home from 7-8pm. It is a wonderful way to bring joy\, share laughter and love. Please RSVP to 847-816-0831 or email us at info@aear.org. If you are new to pet therapy and if you plan on bringing your own pet please fill out the Pet Therapy Volunteer Application and send us your pets shot records via email of mail to our address at AEAR P.O. Box 7343 Libertyville\, IL. 60048.
URL:https://www.aear.org/event/pet-therapy-8/
LOCATION:Manor Care\, 1500 South Milwaukee Ave\, Libertyville\, IL\, 60048\, United States
CATEGORIES:Pet Therapy
END:VEVENT
BEGIN:VEVENT
DTSTART;TZID=America/Chicago:20190611T190000
DTEND;TZID=America/Chicago:20190611T200000
DTSTAMP:20260421T152218
CREATED:20190205T031610Z
LAST-MODIFIED:20190205T031610Z
UID:15073-1560279600-1560283200@www.aear.org
SUMMARY:Pet Therapy
DESCRIPTION:The second Tuesday of every month we bring animals to visit the residents at Manor Care nursing home from 7-8pm. It is a wonderful way to bring joy\, share laughter and love. Please RSVP to 847-816-0831 or email us at info@aear.org. If you are new to pet therapy and if you plan on bringing your own pet please fill out the Pet Therapy Volunteer Application and send us your pets shot records via email of mail to our address at AEAR P.O. Box 7343 Libertyville\, IL. 60048.
URL:https://www.aear.org/event/pet-therapy-7/
LOCATION:Manor Care\, 1500 South Milwaukee Ave\, Libertyville\, IL\, 60048\, United States
CATEGORIES:Pet Therapy
END:VEVENT
BEGIN:VEVENT
DTSTART;TZID=America/Chicago:20190514T190000
DTEND;TZID=America/Chicago:20190514T200000
DTSTAMP:20260421T152218
CREATED:20190205T031528Z
LAST-MODIFIED:20190205T031528Z
UID:15071-1557860400-1557864000@www.aear.org
SUMMARY:Pet Therapy
DESCRIPTION:The second Tuesday of every month we bring animals to visit the residents at Manor Care nursing home from 7-8pm. It is a wonderful way to bring joy\, share laughter and love. Please RSVP to 847-816-0831 or email us at info@aear.org. If you are new to pet therapy and if you plan on bringing your own pet please fill out the Pet Therapy Volunteer Application and send us your pets shot records via email of mail to our address at AEAR P.O. Box 7343 Libertyville\, IL. 60048.
URL:https://www.aear.org/event/pet-therapy-6/
LOCATION:Manor Care\, 1500 South Milwaukee Ave\, Libertyville\, IL\, 60048\, United States
CATEGORIES:Pet Therapy
END:VEVENT
BEGIN:VEVENT
DTSTART;TZID=America/Chicago:20190409T190000
DTEND;TZID=America/Chicago:20190409T200000
DTSTAMP:20260421T152218
CREATED:20190205T031449Z
LAST-MODIFIED:20190205T031449Z
UID:15069-1554836400-1554840000@www.aear.org
SUMMARY:Pet Therapy
DESCRIPTION:The second Tuesday of every month we bring animals to visit the residents at Manor Care nursing home from 7-8pm. It is a wonderful way to bring joy\, share laughter and love. Please RSVP to 847-816-0831 or email us at info@aear.org. If you are new to pet therapy and if you plan on bringing your own pet please fill out the Pet Therapy Volunteer Application and send us your pets shot records via email of mail to our address at AEAR P.O. Box 7343 Libertyville\, IL. 60048.
URL:https://www.aear.org/event/pet-therapy-5/
LOCATION:Manor Care\, 1500 South Milwaukee Ave\, Libertyville\, IL\, 60048\, United States
CATEGORIES:Pet Therapy
END:VEVENT
BEGIN:VEVENT
DTSTART;TZID=America/Chicago:20190312T190000
DTEND;TZID=America/Chicago:20190312T200000
DTSTAMP:20260421T152218
CREATED:20181216T050209Z
LAST-MODIFIED:20181216T050209Z
UID:14479-1552417200-1552420800@www.aear.org
SUMMARY:Pet Therapy
DESCRIPTION:The second Tuesday of every month we bring animals to visit the residents at Manor Care nursing home from 7-8pm. It is a wonderful way to bring joy\, share laughter and love. Please RSVP to 847-816-0831 or email us at info@aear.org. If you are new to pet therapy and if you plan on bringing your own pet please fill out the Pet Therapy Volunteer Application and send us your pets shot records via email of mail to our address at AEAR P.O. Box 7343 Libertyville\, IL. 60048.
URL:https://www.aear.org/event/pet-therapy-4/
LOCATION:Manor Care\, 1500 South Milwaukee Ave\, Libertyville\, IL\, 60048\, United States
CATEGORIES:Pet Therapy
END:VEVENT
BEGIN:VEVENT
DTSTART;TZID=America/Chicago:20190212T190000
DTEND;TZID=America/Chicago:20190212T200000
DTSTAMP:20260421T152218
CREATED:20181216T050130Z
LAST-MODIFIED:20181216T050130Z
UID:14477-1549998000-1550001600@www.aear.org
SUMMARY:Pet Therapy
DESCRIPTION:The second Tuesday of every month we bring animals to visit the residents at Manor Care nursing home from 7-8pm. It is a wonderful way to bring joy\, share laughter and love. Please RSVP to 847-816-0831 or email us at info@aear.org. If you are new to pet therapy and if you plan on bringing your own pet please fill out the Pet Therapy Volunteer Application and send us your pets shot records via email of mail to our address at AEAR P.O. Box 7343 Libertyville\, IL. 60048.
URL:https://www.aear.org/event/pet-therapy-3/
LOCATION:Manor Care\, 1500 South Milwaukee Ave\, Libertyville\, IL\, 60048\, United States
CATEGORIES:Pet Therapy
END:VEVENT
BEGIN:VEVENT
DTSTART;TZID=America/Chicago:20190108T190000
DTEND;TZID=America/Chicago:20190108T200000
DTSTAMP:20260421T152218
CREATED:20181216T050038Z
LAST-MODIFIED:20181216T050038Z
UID:14475-1546974000-1546977600@www.aear.org
SUMMARY:Pet Therapy
DESCRIPTION:The second Tuesday of every month we bring animals to visit the residents at Manor Care nursing home from 7-8pm. It is a wonderful way to bring joy\, share laughter and love. Please RSVP to 847-816-0831 or email us at info@aear.org. If you are new to pet therapy and if you plan on bringing your own pet please fill out the Pet Therapy Volunteer Application and send us your pets shot records via email of mail to our address at AEAR P.O. Box 7343 Libertyville\, IL. 60048.
URL:https://www.aear.org/event/pet-therapy/
LOCATION:Manor Care\, 1500 South Milwaukee Ave\, Libertyville\, IL\, 60048\, United States
CATEGORIES:Pet Therapy
END:VEVENT
BEGIN:VEVENT
DTSTART;TZID=UTC:20181225T140000
DTEND;TZID=UTC:20181225T150000
DTSTAMP:20260421T152218
CREATED:20181115T142558Z
LAST-MODIFIED:20181115T142558Z
UID:14241-1545746400-1545750000@www.aear.org
SUMMARY:Christmas Day Pet Therapy
DESCRIPTION:On Christmas we bring animals to visit the residents at Manor Care nursing home from 2-3pm. It is a wonderful way to bring joy\, share laughter and love. Families are welcome as well as volunteers. \nPlease RSVP to 847-816-0831 or email us at info@aear.org. If you are new to pet therapy and if you plan on bringing your own pet please fill out the Pet Therapy Volunteer Application and send us your pets shot records via email of mail to our address at AEAR P.O. Box 7343 Libertyville\, IL. 60048. \n 
URL:https://www.aear.org/event/christmas-day-pet-therapy/
LOCATION:Manor Care\, 1500 South Milwaukee Ave\, Libertyville\, IL\, 60048\, United States
CATEGORIES:Pet Therapy
END:VEVENT
BEGIN:VEVENT
DTSTART;TZID=UTC:20181211T190000
DTEND;TZID=UTC:20181211T200000
DTSTAMP:20260421T152218
CREATED:20180528T235928Z
LAST-MODIFIED:20180823T015529Z
UID:13295-1544554800-1544558400@www.aear.org
SUMMARY:Pet Therapy
DESCRIPTION:The second Tuesday of every month we bring animals to visit the residents at Manor Care nursing home from 7-8pm. It is a wonderful way to bring joy\, share laughter and love. Please RSVP to 847-816-0831 or email us at info@aear.org. If you are new to pet therapy and if you plan on bringing your own pet please fill out the Pet Therapy Volunteer Application and send us your pets shot records via email of mail to our address at AEAR P.O. Box 7343 Libertyville\, IL. 60048.
URL:https://www.aear.org/event/pet-therapy-2-7/
LOCATION:Manor Care\, 1500 South Milwaukee Ave\, Libertyville\, IL\, 60048\, United States
CATEGORIES:Pet Therapy
END:VEVENT
BEGIN:VEVENT
DTSTART;TZID=UTC:20181122T140000
DTEND;TZID=UTC:20181122T150000
DTSTAMP:20260421T152218
CREATED:20181115T142344Z
LAST-MODIFIED:20181115T142344Z
UID:14239-1542895200-1542898800@www.aear.org
SUMMARY:Thanksgiving Day Pet Therapy
DESCRIPTION:On Thanksgiving we bring animals to visit the residents at Manor Care nursing home from 2-3pm. It is a wonderful way to bring joy\, share laughter and love. Families are welcome as well as volunteers. \nPlease RSVP to 847-816-0831 or email us at info@aear.org. If you are new to pet therapy and if you plan on bringing your own pet please fill out the Pet Therapy Volunteer Application and send us your pets shot records via email of mail to our address at AEAR P.O. Box 7343 Libertyville\, IL. 60048. \n 
URL:https://www.aear.org/event/thanksgiving-day-pet-therapy/
LOCATION:Manor Care\, 1500 South Milwaukee Ave\, Libertyville\, IL\, 60048\, United States
CATEGORIES:Pet Therapy
END:VEVENT
BEGIN:VEVENT
DTSTART;TZID=UTC:20181113T190000
DTEND;TZID=UTC:20181113T200000
DTSTAMP:20260421T152218
CREATED:20180528T235822Z
LAST-MODIFIED:20180823T015529Z
UID:13296-1542135600-1542139200@www.aear.org
SUMMARY:Pet Therapy
DESCRIPTION:The second Tuesday of every month we bring animals to visit the residents at Manor Care nursing home from 7-8pm. It is a wonderful way to bring joy\, share laughter and love. Please RSVP to 847-816-0831 or email us at info@aear.org. If you are new to pet therapy and if you plan on bringing your own pet please fill out the Pet Therapy Volunteer Application and send us your pets shot records via email of mail to our address at AEAR P.O. Box 7343 Libertyville\, IL. 60048.
URL:https://www.aear.org/event/pet-therapy-2-6/
LOCATION:Manor Care\, 1500 South Milwaukee Ave\, Libertyville\, IL\, 60048\, United States
CATEGORIES:Pet Therapy
END:VEVENT
BEGIN:VEVENT
DTSTART;TZID=UTC:20181009T190000
DTEND;TZID=UTC:20181009T200000
DTSTAMP:20260421T152218
CREATED:20180528T235727Z
LAST-MODIFIED:20180823T015529Z
UID:13297-1539111600-1539115200@www.aear.org
SUMMARY:Pet Therapy
DESCRIPTION:The second Tuesday of every month we bring animals to visit the residents at Manor Care nursing home from 7-8pm. It is a wonderful way to bring joy\, share laughter and love. Please RSVP to 847-816-0831 or email us at info@aear.org. If you are new to pet therapy and if you plan on bringing your own pet please fill out the Pet Therapy Volunteer Application and send us your pets shot records via email of mail to our address at AEAR P.O. Box 7343 Libertyville\, IL. 60048.
URL:https://www.aear.org/event/pet-therapy-2-5/
LOCATION:Manor Care\, 1500 South Milwaukee Ave\, Libertyville\, IL\, 60048\, United States
CATEGORIES:Pet Therapy
END:VEVENT
BEGIN:VEVENT
DTSTART;TZID=America/Chicago:20180911T190000
DTEND;TZID=America/Chicago:20180911T200000
DTSTAMP:20260421T152218
CREATED:20180528T235638Z
LAST-MODIFIED:20180829T191831Z
UID:13298-1536692400-1536696000@www.aear.org
SUMMARY:Pet Therapy
DESCRIPTION:The second Tuesday of every month we bring animals to visit the residents at Manor Care nursing home from 7-8pm. It is a wonderful way to bring joy\, share laughter and love. Please RSVP to 847-816-0831 or email us at info@aear.org. If you are new to pet therapy and if you plan on bringing your own pet please fill out the Pet Therapy Volunteer Application and send us your pets shot records via email of mail to our address at AEAR P.O. Box 7343 Libertyville\, IL. 60048.
URL:https://www.aear.org/event/pet-therapy-2-4/
LOCATION:Manor Care\, 1500 South Milwaukee Ave\, Libertyville\, IL\, 60048\, United States
CATEGORIES:Pet Therapy
END:VEVENT
BEGIN:VEVENT
DTSTART;TZID=UTC:20180814T190000
DTEND;TZID=UTC:20180814T200000
DTSTAMP:20260421T152218
CREATED:20180528T235533Z
LAST-MODIFIED:20180823T015529Z
UID:13301-1534273200-1534276800@www.aear.org
SUMMARY:Pet Therapy
DESCRIPTION:The second Tuesday of every month we bring animals to visit the residents at Manor Care nursing home from 7-8pm. It is a wonderful way to bring joy\, share laughter and love. Please RSVP to 847-816-0831 or email us at info@aear.org. If you are new to pet therapy and if you plan on bringing your own pet please fill out the Pet Therapy Volunteer Application and send us your pets shot records via email of mail to our address at AEAR P.O. Box 7343 Libertyville\, IL. 60048.
URL:https://www.aear.org/event/pet-therapy-2-3/
LOCATION:Manor Care\, 1500 South Milwaukee Ave\, Libertyville\, IL\, 60048\, United States
CATEGORIES:Pet Therapy
END:VEVENT
BEGIN:VEVENT
DTSTART;TZID=UTC:20180710T190000
DTEND;TZID=UTC:20180710T200000
DTSTAMP:20260421T152218
CREATED:20180528T235429Z
LAST-MODIFIED:20180823T015529Z
UID:13299-1531249200-1531252800@www.aear.org
SUMMARY:Pet Therapy
DESCRIPTION:The second Tuesday of every month we bring animals to visit the residents at Manor Care nursing home from 7-8pm. It is a wonderful way to bring joy\, share laughter and love. Please RSVP to 847-816-0831 or email us at info@aear.org. If you are new to pet therapy and if you plan on bringing your own pet please fill out the Pet Therapy Volunteer Application and send us your pets shot records via email of mail to our address at AEAR P.O. Box 7343 Libertyville\, IL. 60048.
URL:https://www.aear.org/event/pet-therapy-2-2/
LOCATION:Manor Care\, 1500 South Milwaukee Ave\, Libertyville\, IL\, 60048\, United States
CATEGORIES:Pet Therapy
END:VEVENT
BEGIN:VEVENT
DTSTART;TZID=UTC:20180612T190000
DTEND;TZID=UTC:20180612T200000
DTSTAMP:20260421T152218
CREATED:20180506T210950Z
LAST-MODIFIED:20180823T015529Z
UID:13033-1528830000-1528833600@www.aear.org
SUMMARY:Pet Therapy
DESCRIPTION:The second Tuesday of every month we bring animals to visit the residents at Manor Care nursing home from 7-8pm. It is a wonderful way to bring joy\, share laughter and love. Please RSVP to 847-816-0831 or email us at info@aear.org. If you are new to pet therapy and if you plan on bringing your own pet please fill out the Pet Therapy Volunteer Application and send us your pets shot records via email of mail to our address at AEAR P.O. Box 7343 Libertyville\, IL. 60048.
URL:https://www.aear.org/event/pet-therapy-2/
LOCATION:Manor Care\, 1500 South Milwaukee Ave\, Libertyville\, IL\, 60048\, United States
CATEGORIES:Pet Therapy
END:VEVENT
END:VCALENDAR