BEGIN:VCALENDAR
VERSION:2.0
PRODID:-//Animal Education &amp; Rescue - ECPv6.15.20//NONSGML v1.0//EN
CALSCALE:GREGORIAN
METHOD:PUBLISH
X-ORIGINAL-URL:https://www.aear.org
X-WR-CALDESC:Events for Animal Education &amp; Rescue
REFRESH-INTERVAL;VALUE=DURATION:PT1H
X-Robots-Tag:noindex
X-PUBLISHED-TTL:PT1H
BEGIN:VTIMEZONE
TZID:America/Chicago
BEGIN:DAYLIGHT
TZOFFSETFROM:-0600
TZOFFSETTO:-0500
TZNAME:CDT
DTSTART:20180311T080000
END:DAYLIGHT
BEGIN:STANDARD
TZOFFSETFROM:-0500
TZOFFSETTO:-0600
TZNAME:CST
DTSTART:20181104T070000
END:STANDARD
BEGIN:DAYLIGHT
TZOFFSETFROM:-0600
TZOFFSETTO:-0500
TZNAME:CDT
DTSTART:20190310T080000
END:DAYLIGHT
BEGIN:STANDARD
TZOFFSETFROM:-0500
TZOFFSETTO:-0600
TZNAME:CST
DTSTART:20191103T070000
END:STANDARD
BEGIN:DAYLIGHT
TZOFFSETFROM:-0600
TZOFFSETTO:-0500
TZNAME:CDT
DTSTART:20200308T080000
END:DAYLIGHT
BEGIN:STANDARD
TZOFFSETFROM:-0500
TZOFFSETTO:-0600
TZNAME:CST
DTSTART:20201101T070000
END:STANDARD
END:VTIMEZONE
BEGIN:VEVENT
DTSTART;TZID=America/Chicago:20190428T110000
DTEND;TZID=America/Chicago:20190428T120000
DTSTAMP:20260421T145438
CREATED:20190413T024358Z
LAST-MODIFIED:20190413T024358Z
UID:15351-1556449200-1556452800@www.aear.org
SUMMARY:All About Rabbit Care - Facebook Live
DESCRIPTION:All About Rabbit Care\, Sunday\, April 28\, 2019 at 11:00 AM – 12:00 PM LIVE on Facebook.
URL:https://www.aear.org/event/all-about-rabbit-care-facebook-live/
LOCATION:Facebook Live
CATEGORIES:Rabbit Care
END:VEVENT
END:VCALENDAR