BEGIN:VCALENDAR
VERSION:2.0
PRODID:-//Animal Education &amp; Rescue - ECPv6.15.20//NONSGML v1.0//EN
CALSCALE:GREGORIAN
METHOD:PUBLISH
X-WR-CALNAME:Animal Education &amp; Rescue
X-ORIGINAL-URL:https://www.aear.org
X-WR-CALDESC:Events for Animal Education &amp; Rescue
REFRESH-INTERVAL;VALUE=DURATION:PT1H
X-Robots-Tag:noindex
X-PUBLISHED-TTL:PT1H
BEGIN:VTIMEZONE
TZID:America/Chicago
BEGIN:DAYLIGHT
TZOFFSETFROM:-0600
TZOFFSETTO:-0500
TZNAME:CDT
DTSTART:20220313T080000
END:DAYLIGHT
BEGIN:STANDARD
TZOFFSETFROM:-0500
TZOFFSETTO:-0600
TZNAME:CST
DTSTART:20221106T070000
END:STANDARD
BEGIN:DAYLIGHT
TZOFFSETFROM:-0600
TZOFFSETTO:-0500
TZNAME:CDT
DTSTART:20230312T080000
END:DAYLIGHT
BEGIN:STANDARD
TZOFFSETFROM:-0500
TZOFFSETTO:-0600
TZNAME:CST
DTSTART:20231105T070000
END:STANDARD
BEGIN:DAYLIGHT
TZOFFSETFROM:-0600
TZOFFSETTO:-0500
TZNAME:CDT
DTSTART:20240310T080000
END:DAYLIGHT
BEGIN:STANDARD
TZOFFSETFROM:-0500
TZOFFSETTO:-0600
TZNAME:CST
DTSTART:20241103T070000
END:STANDARD
BEGIN:DAYLIGHT
TZOFFSETFROM:-0600
TZOFFSETTO:-0500
TZNAME:CDT
DTSTART:20250309T080000
END:DAYLIGHT
BEGIN:STANDARD
TZOFFSETFROM:-0500
TZOFFSETTO:-0600
TZNAME:CST
DTSTART:20251102T070000
END:STANDARD
END:VTIMEZONE
BEGIN:VEVENT
DTSTART;TZID=America/Chicago:20240702T190000
DTEND;TZID=America/Chicago:20240702T203000
DTSTAMP:20260424T193001
CREATED:20240626T015621Z
LAST-MODIFIED:20240626T020530Z
UID:26838-1719946800-1719952200@www.aear.org
SUMMARY:Cat-Tastic Zoom Event
DESCRIPTION:Join us virtually on the first Tuesday of every month. We will be hosting a zoom event to feature some of our cats and kittens in their foster homes. \nWhen you sign up for this virtual event you will have the chance to see all of our cats playing and snuggling in their own comfortable environment. You can ask the foster parents any questions you have about their foster felines LIVE. \nPlease sign up at the link under Details!
URL:https://www.aear.org/event/cat-tastic-zoom-event/
LOCATION:IL
ATTACH;FMTTYPE=image/jpeg:https://www.aear.org/wp-content/uploads/2024/06/IMG_5408.jpeg
END:VEVENT
BEGIN:VEVENT
DTSTART;TZID=America/Chicago:20240629T130000
DTEND;TZID=America/Chicago:20240629T150000
DTSTAMP:20260424T193001
CREATED:20240626T023536Z
LAST-MODIFIED:20240626T023644Z
UID:26852-1719666000-1719673200@www.aear.org
SUMMARY:Kitten Meet & Greet at Ms. Peddler’s Boutique
DESCRIPTION:Meet some of our adoptable kittens at Ms. Peddler’s Boutique in downtown Antioch\, IL\, Saturday\, June 29\, from 1-3pm.
URL:https://www.aear.org/event/kitten-meet-greet-at-ms-peddlers-boutique-2/
LOCATION:IL
CATEGORIES:Meet & Greet
ATTACH;FMTTYPE=image/png:https://www.aear.org/wp-content/uploads/2024/06/IMG_5411.png
END:VEVENT
BEGIN:VEVENT
DTSTART;TZID=America/Chicago:20240627T183000
DTEND;TZID=America/Chicago:20240627T200000
DTSTAMP:20260424T193001
CREATED:20240611T221157Z
LAST-MODIFIED:20240626T021912Z
UID:26726-1719513000-1719518400@www.aear.org
SUMMARY:AEAR Informational Gathering
DESCRIPTION:Join us for an information gathering on Thursday\, June 27\, from 6:30-8pm. Look on our Facebook page for the link to sign up.
URL:https://www.aear.org/event/aear-informational-gathering-2/
LOCATION:IL
CATEGORIES:New Volunteer Orientation
ATTACH;FMTTYPE=image/png:https://www.aear.org/wp-content/uploads/2024/06/IMG_5410.png
END:VEVENT
BEGIN:VEVENT
DTSTART;TZID=America/Chicago:20240608T113000
DTEND;TZID=America/Chicago:20240608T133000
DTSTAMP:20260424T193001
CREATED:20240410T012717Z
LAST-MODIFIED:20240410T012717Z
UID:26049-1717846200-1717853400@www.aear.org
SUMMARY:Meet & Greet at Petranek’s Pharmacy
DESCRIPTION:The second Saturday of every month we will be holding a Meet & Greet at Petranek’s pharmacy in Libertyville (426 N. Milwaukee Ave). Come by and meet some of our animals that are looking for forever homes!
URL:https://www.aear.org/event/meet-greet-at-petraneks-pharmacy-6/
LOCATION:Petranek’s Pharmacy\, 426 N Milwaukee Ave\, Libertyville\, IL\, 60048\, United States
CATEGORIES:Meet & Greet
ATTACH;FMTTYPE=image/jpeg:https://www.aear.org/wp-content/uploads/2023/05/aear-meet-greet-300-2.jpg
END:VEVENT
BEGIN:VEVENT
DTSTART;TZID=America/Chicago:20240523T183000
DTEND;TZID=America/Chicago:20240523T200000
DTSTAMP:20260424T193001
CREATED:20240430T185116Z
LAST-MODIFIED:20240522T010731Z
UID:26262-1716489000-1716494400@www.aear.org
SUMMARY:AEAR Informational Gathering
DESCRIPTION:Join us for an information gathering on May 23 from 6:30-8pm. Look on our Facebook page for the link to sign up.
URL:https://www.aear.org/event/aear-informational-gathering/
LOCATION:IL
CATEGORIES:New Volunteer Orientation
ATTACH;FMTTYPE=image/jpeg:https://www.aear.org/wp-content/uploads/2024/04/7254B296-444D-4108-8B9E-18974360E795.jpeg
END:VEVENT
BEGIN:VEVENT
DTSTART;TZID=America/Chicago:20240511T113000
DTEND;TZID=America/Chicago:20240511T133000
DTSTAMP:20260424T193001
CREATED:20240410T012635Z
LAST-MODIFIED:20240410T012635Z
UID:26047-1715427000-1715434200@www.aear.org
SUMMARY:Meet & Greet at Petranek’s Pharmacy
DESCRIPTION:The second Saturday of every month we will be holding a Meet & Greet at Petranek’s pharmacy in Libertyville (426 N. Milwaukee Ave). Come by and meet some of our animals that are looking for forever homes!
URL:https://www.aear.org/event/meet-greet-at-petraneks-pharmacy-5/
LOCATION:Petranek’s Pharmacy\, 426 N Milwaukee Ave\, Libertyville\, IL\, 60048\, United States
CATEGORIES:Meet & Greet
ATTACH;FMTTYPE=image/jpeg:https://www.aear.org/wp-content/uploads/2023/05/aear-meet-greet-300-2.jpg
END:VEVENT
BEGIN:VEVENT
DTSTART;TZID=America/Chicago:20240504T103000
DTEND;TZID=America/Chicago:20240504T123000
DTSTAMP:20260424T193001
CREATED:20240430T183435Z
LAST-MODIFIED:20240430T183608Z
UID:26258-1714818600-1714825800@www.aear.org
SUMMARY:Kitten Meet & Greet at Ms. Peddler’s Boutique
DESCRIPTION:Please stop by and join us for a kitten Meet & Greet at Ms. Peddler’s Boutique in downtown Antioch\, Il on May 4 from 10:30am-12:30pm! \n 
URL:https://www.aear.org/event/kitten-meet-greet-at-ms-peddlers-boutique/
LOCATION:Ms. Peddler’s Boutique\, 901 Main St.\, Antioch\, IL\, 60002
CATEGORIES:Meet & Greet
ATTACH;FMTTYPE=image/jpeg:https://www.aear.org/wp-content/uploads/2024/04/kittenmspeddler.jpg
END:VEVENT
BEGIN:VEVENT
DTSTART;TZID=America/Chicago:20240425T183000
DTEND;TZID=America/Chicago:20240425T200000
DTSTAMP:20260424T193001
CREATED:20240421T161104Z
LAST-MODIFIED:20240421T161104Z
UID:26186-1714069800-1714075200@www.aear.org
SUMMARY:Informational Volunteer Gathering
DESCRIPTION:Are you interested in volunteering or fostering for a heart-centered local rescue? Join us for an informational meeting.
URL:https://www.aear.org/event/informational-volunteer-gathering/
LOCATION:IL
END:VEVENT
BEGIN:VEVENT
DTSTART;TZID=America/Chicago:20240413T113000
DTEND;TZID=America/Chicago:20240413T133000
DTSTAMP:20260424T193001
CREATED:20240106T034311Z
LAST-MODIFIED:20240410T012541Z
UID:25448-1713007800-1713015000@www.aear.org
SUMMARY:Meet & Greet at Petranek’s Pharmacy
DESCRIPTION:The second Saturday of every month we will be holding a Meet & Greet at Petranek’s pharmacy in Libertyville (426 N. Milwaukee Ave). Come by and meet some of our animals that are looking for forever homes!
URL:https://www.aear.org/event/meet-greet-at-petraneks-pharmacy-4/
LOCATION:Petranek’s Pharmacy\, 426 N Milwaukee Ave\, Libertyville\, IL\, 60048\, United States
CATEGORIES:Meet & Greet
ATTACH;FMTTYPE=image/jpeg:https://www.aear.org/wp-content/uploads/2023/05/aear-meet-greet-300-2.jpg
END:VEVENT
BEGIN:VEVENT
DTSTART;TZID=America/Chicago:20240330T180000
DTEND;TZID=America/Chicago:20240330T210000
DTSTAMP:20260424T193001
CREATED:20240219T023940Z
LAST-MODIFIED:20240219T023940Z
UID:25695-1711821600-1711832400@www.aear.org
SUMMARY:Facebook Live Art Show
DESCRIPTION:Please join us for a Facebook live Art Show to support Animal Education and Rescue on March 30th from 6pm-9pm.
URL:https://www.aear.org/event/facebook-live-art-show/
LOCATION:Facebook Live
CATEGORIES:Art Sale
ATTACH;FMTTYPE=image/jpeg:https://www.aear.org/wp-content/uploads/2024/02/A317EE9F-F2F6-4F43-B2D0-DE4DA3D8EE77.jpeg
END:VEVENT
BEGIN:VEVENT
DTSTART;TZID=America/Chicago:20240323T113000
DTEND;TZID=America/Chicago:20240323T133000
DTSTAMP:20260424T193001
CREATED:20240322T184932Z
LAST-MODIFIED:20240322T184932Z
UID:25931-1711193400-1711200600@www.aear.org
SUMMARY:Meet & Greet at Petranek’s Pharmacy
DESCRIPTION:On Saturday\, March 23 from 11:30-1:30\, we will be holding a Meet & Greet at Petranek’s pharmacy in Libertyville (426 N. Milwaukee Ave). Come by and meet some of our animals that are looking for forever homes!
URL:https://www.aear.org/event/meet-greet-at-petraneks-pharmacy/
LOCATION:Petranek’s Pharmacy\, 426 N Milwaukee Ave\, Libertyville\, IL\, 60048\, United States
CATEGORIES:Meet & Greet
ATTACH;FMTTYPE=image/jpeg:https://www.aear.org/wp-content/uploads/2023/05/aear-meet-greet-300-2.jpg
END:VEVENT
BEGIN:VEVENT
DTSTART;TZID=America/Chicago:20240309T120000
DTEND;TZID=America/Chicago:20240309T140000
DTSTAMP:20260424T193001
CREATED:20240106T034224Z
LAST-MODIFIED:20240220T005301Z
UID:25446-1709985600-1709992800@www.aear.org
SUMMARY:Meet & Greet at Petranek’s Pharmacy
DESCRIPTION:The second Saturday of every month we will be holding a Meet & Greet at Petranek’s pharmacy in Libertyville (426 N. Milwaukee Ave). Come by and meet some of our animals that are looking for forever homes!
URL:https://www.aear.org/event/meet-greet-at-petraneks-pharmacy-3/
LOCATION:Petranek’s Pharmacy\, 426 N Milwaukee Ave\, Libertyville\, IL\, 60048\, United States
CATEGORIES:Meet & Greet
ATTACH;FMTTYPE=image/jpeg:https://www.aear.org/wp-content/uploads/2023/05/aear-meet-greet-300-2.jpg
END:VEVENT
BEGIN:VEVENT
DTSTART;TZID=America/Chicago:20240302T110000
DTEND;TZID=America/Chicago:20240302T130000
DTSTAMP:20260424T193001
CREATED:20240222T012207Z
LAST-MODIFIED:20240222T012207Z
UID:25716-1709377200-1709384400@www.aear.org
SUMMARY:Meet & Greet at Ms. Peddler’s Boutique
DESCRIPTION:Join us for a meet & greet at Ms. Peddler’s Boutique in Antioch on Saturday\, March 2nd\, from 11am to 1pm.
URL:https://www.aear.org/event/meet-greet-at-ms-peddlers-boutique-3/
LOCATION:Ms. Peddler’s Boutique\, 901 Main St.\, Antioch\, IL\, 60002
ATTACH;FMTTYPE=image/png:https://www.aear.org/wp-content/uploads/2024/02/72BEE765-873A-4FD3-8F67-D11102665342.png
END:VEVENT
BEGIN:VEVENT
DTSTART;TZID=America/Chicago:20240210T100000
DTEND;TZID=America/Chicago:20240210T120000
DTSTAMP:20260424T193001
CREATED:20240106T034137Z
LAST-MODIFIED:20240208T231608Z
UID:25444-1707559200-1707566400@www.aear.org
SUMMARY:Meet & Greet at Petranek’s Pharmacy
DESCRIPTION:The second Saturday of every month we will be holding a Meet & Greet at Petranek’s pharmacy in Libertyville (426 N. Milwaukee Ave). Come by and meet some of our animals that are looking for forever homes!
URL:https://www.aear.org/event/meet-greet-at-petraneks-pharmacy-2/
LOCATION:Petranek’s Pharmacy\, 426 N Milwaukee Ave\, Libertyville\, IL\, 60048\, United States
CATEGORIES:Meet & Greet
ATTACH;FMTTYPE=image/jpeg:https://www.aear.org/wp-content/uploads/2024/01/E7BF446B-1887-46C8-974F-509E4C3DF7A4.jpeg
END:VEVENT
BEGIN:VEVENT
DTSTART;TZID=America/Chicago:20231216T110000
DTEND;TZID=America/Chicago:20231216T130000
DTSTAMP:20260424T193001
CREATED:20231203T190115Z
LAST-MODIFIED:20231203T190115Z
UID:25178-1702724400-1702731600@www.aear.org
SUMMARY:Fundraiser and Meet & Greet at Ms. Peddler’s Boutique
DESCRIPTION:Please stop by and join us for a fundraiser and Meet & Greet at Ms. Peddler’s Boutique in downtown Antioch\, Il on December 16 from 11am-1pm.
URL:https://www.aear.org/event/fundraiser-and-meet-greet-at-ms-peddlers-boutique/
LOCATION:Ms. Peddler’s Boutique\, 901 Main St.\, Antioch\, IL\, 60002
CATEGORIES:Meet & Greet
END:VEVENT
BEGIN:VEVENT
DTSTART;TZID=America/Chicago:20231202T100000
DTEND;TZID=America/Chicago:20231202T120000
DTSTAMP:20260424T193001
CREATED:20231118T005106Z
LAST-MODIFIED:20231118T005441Z
UID:24918-1701511200-1701518400@www.aear.org
SUMMARY:Holiday Fundraiser and Meet & Greet
DESCRIPTION:Join us for a holiday fundraiser and a chance to meet some of the cats and kittens we have for available for adoption at Zachery Chase Hair & Spa on December 2 from 10am-12pm.
URL:https://www.aear.org/event/holiday-fundraiser-and-meet-greet/
LOCATION:Zachery Chase Hair & Spa\, 333 Peterson Road\, Libertyville\, IL\, 60048
CATEGORIES:Meet & Greet,Fundraising Event
END:VEVENT
BEGIN:VEVENT
DTSTART;TZID=America/Chicago:20231118T100000
DTEND;TZID=America/Chicago:20231118T110000
DTSTAMP:20260424T193001
CREATED:20221101T012913Z
LAST-MODIFIED:20230124T222816Z
UID:21820-1700301600-1700305200@www.aear.org
SUMMARY:Meditation With (or Without) Dogs
DESCRIPTION:The third Saturday of each month from 10-11am we hold Meditation With (or Without) Dogs (calm\, dog/people friendly dogs only). Check with us to see beforehand if we are having another animal there the month you’d like to attend. \nJoin us for a relaxing guided meditation. Bring a mat or towel or we’ll have extras. RSVP to sandy@mindfulspirit.net \n$10 donation suggested to Animal Education and Rescue. A basket will be there to collect donations. \nAddress: Petranek’s Pharmacy 426 N. Milwaukee Ave\, Libertyville\, IL
URL:https://www.aear.org/event/meditation-with-or-without-dogs-11/
LOCATION:Petranek’s Pharmacy\, 426 N Milwaukee Ave\, Libertyville\, IL\, 60048\, United States
CATEGORIES:Meditation
END:VEVENT
BEGIN:VEVENT
DTSTART;TZID=America/Chicago:20231111T100000
DTEND;TZID=America/Chicago:20231111T120000
DTSTAMP:20260424T193001
CREATED:20221101T011520Z
LAST-MODIFIED:20230515T210829Z
UID:21796-1699696800-1699704000@www.aear.org
SUMMARY:Meet & Greet Adoption Event
DESCRIPTION:The second Saturday of every month we will be holding a Meet & Greet adoption event at Petranek’s pharmacy in Libertyville (426 N. Milwaukee Ave). Come by and meet some of our animals that are looking for forever homes!
URL:https://www.aear.org/event/meet-greet-adoption-event-11/
LOCATION:Petranek’s Pharmacy\, 426 N Milwaukee Ave\, Libertyville\, IL\, 60048\, United States
CATEGORIES:Meet & Greet
ATTACH;FMTTYPE=image/jpeg:https://www.aear.org/wp-content/uploads/2023/05/aear-meet-greet-300-2.jpg
END:VEVENT
BEGIN:VEVENT
DTSTART;TZID=America/Chicago:20231021T100000
DTEND;TZID=America/Chicago:20231021T110000
DTSTAMP:20260424T193001
CREATED:20221101T012836Z
LAST-MODIFIED:20230124T222947Z
UID:21818-1697882400-1697886000@www.aear.org
SUMMARY:Meditation With (or Without) Dogs
DESCRIPTION:The third Saturday of each month from 10-11am we hold Meditation With (or Without) Dogs (calm\, dog/people friendly dogs only). Check with us to see beforehand if we are having another animal there the month you’d like to attend. \nJoin us for a relaxing guided meditation. Bring a mat or towel or we’ll have extras. RSVP to sandy@mindfulspirit.net \n$10 donation suggested to Animal Education and Rescue. A basket will be there to collect donations. \nAddress: Petranek’s Pharmacy 426 N. Milwaukee Ave\, Libertyville\, IL
URL:https://www.aear.org/event/meditation-with-or-without-dogs-10/
LOCATION:Petranek’s Pharmacy\, 426 N Milwaukee Ave\, Libertyville\, IL\, 60048\, United States
CATEGORIES:Meditation
END:VEVENT
BEGIN:VEVENT
DTSTART;TZID=America/Chicago:20231014T100000
DTEND;TZID=America/Chicago:20231014T120000
DTSTAMP:20260424T193001
CREATED:20221101T011445Z
LAST-MODIFIED:20230515T210758Z
UID:21794-1697277600-1697284800@www.aear.org
SUMMARY:Meet & Greet Adoption Event
DESCRIPTION:The second Saturday of every month we will be holding a Meet & Greet adoption event at Petranek’s pharmacy in Libertyville (426 N. Milwaukee Ave). Come by and meet some of our animals that are looking for forever homes!
URL:https://www.aear.org/event/meet-greet-adoption-event-10/
LOCATION:Petranek’s Pharmacy\, 426 N Milwaukee Ave\, Libertyville\, IL\, 60048\, United States
CATEGORIES:Meet & Greet
ATTACH;FMTTYPE=image/jpeg:https://www.aear.org/wp-content/uploads/2023/05/aear-meet-greet-300-2.jpg
END:VEVENT
BEGIN:VEVENT
DTSTART;TZID=America/Chicago:20230927T203000
DTEND;TZID=America/Chicago:20230927T210000
DTSTAMP:20260424T193001
CREATED:20230907T222658Z
LAST-MODIFIED:20230907T222658Z
UID:24522-1695846600-1695848400@www.aear.org
SUMMARY:Wednesday Night Bedtime
DESCRIPTION:Join Sandy live on Facebook as she tucks in some of the animals in the orphanage on Wednesdays at 8:30pm central.
URL:https://www.aear.org/event/wednesday-night-bedtime-9/
LOCATION:Facebook Live
END:VEVENT
BEGIN:VEVENT
DTSTART;TZID=America/Chicago:20230924T193000
DTEND;TZID=America/Chicago:20230924T203000
DTSTAMP:20260424T193001
CREATED:20230907T222909Z
LAST-MODIFIED:20230907T222909Z
UID:24528-1695583800-1695587400@www.aear.org
SUMMARY:Sunday Night Facebook Live
DESCRIPTION:Sunday nights live at 7:30pm central we’ll share what happened during the week and what’s coming up.
URL:https://www.aear.org/event/sunday-night-facebook-live-8/
LOCATION:Facebook Live
END:VEVENT
BEGIN:VEVENT
DTSTART;TZID=America/Chicago:20230920T203000
DTEND;TZID=America/Chicago:20230920T210000
DTSTAMP:20260424T193001
CREATED:20230907T222629Z
LAST-MODIFIED:20230907T222629Z
UID:24520-1695241800-1695243600@www.aear.org
SUMMARY:Wednesday Night Bedtime
DESCRIPTION:Join Sandy live on Facebook as she tucks in some of the animals in the orphanage on Wednesdays at 8:30pm central.
URL:https://www.aear.org/event/wednesday-night-bedtime-8/
LOCATION:Facebook Live
END:VEVENT
BEGIN:VEVENT
DTSTART;TZID=America/Chicago:20230917T193000
DTEND;TZID=America/Chicago:20230917T203000
DTSTAMP:20260424T193001
CREATED:20230907T222840Z
LAST-MODIFIED:20230907T222840Z
UID:24526-1694979000-1694982600@www.aear.org
SUMMARY:Sunday Night Facebook Live
DESCRIPTION:Sunday nights live at 7:30pm central we’ll share what happened during the week and what’s coming up.
URL:https://www.aear.org/event/sunday-night-facebook-live-7/
LOCATION:Facebook Live
END:VEVENT
BEGIN:VEVENT
DTSTART;TZID=America/Chicago:20230916T100000
DTEND;TZID=America/Chicago:20230916T110000
DTSTAMP:20260424T193001
CREATED:20221101T012802Z
LAST-MODIFIED:20230124T223024Z
UID:21816-1694858400-1694862000@www.aear.org
SUMMARY:Meditation With (or Without) Dogs
DESCRIPTION:The third Saturday of each month from 10-11am we hold Meditation With (or Without) Dogs (calm\, dog/people friendly dogs only). Check with us to see beforehand if we are having another animal there the month you’d like to attend. \nJoin us for a relaxing guided meditation. Bring a mat or towel or we’ll have extras. RSVP to sandy@mindfulspirit.net \n$10 donation suggested to Animal Education and Rescue. A basket will be there to collect donations. \nAddress: Petranek’s Pharmacy 426 N. Milwaukee Ave\, Libertyville\, IL
URL:https://www.aear.org/event/meditation-with-or-without-dogs-9/
LOCATION:Petranek’s Pharmacy\, 426 N Milwaukee Ave\, Libertyville\, IL\, 60048\, United States
CATEGORIES:Meditation
END:VEVENT
BEGIN:VEVENT
DTSTART;TZID=America/Chicago:20230913T203000
DTEND;TZID=America/Chicago:20230913T210000
DTSTAMP:20260424T193001
CREATED:20230907T222557Z
LAST-MODIFIED:20230907T222557Z
UID:24518-1694637000-1694638800@www.aear.org
SUMMARY:Wednesday Night Bedtime
DESCRIPTION:Join Sandy live on Facebook as she tucks in some of the animals in the orphanage on Wednesdays at 8:30pm central.
URL:https://www.aear.org/event/wednesday-night-bedtime-7/
LOCATION:Facebook Live
END:VEVENT
BEGIN:VEVENT
DTSTART;TZID=America/Chicago:20230910T193000
DTEND;TZID=America/Chicago:20230910T203000
DTSTAMP:20260424T193001
CREATED:20230907T222809Z
LAST-MODIFIED:20230907T222809Z
UID:24524-1694374200-1694377800@www.aear.org
SUMMARY:Sunday Night Facebook Live
DESCRIPTION:Sunday nights live at 7:30pm central we’ll share what happened during the week and what’s coming up.
URL:https://www.aear.org/event/sunday-night-facebook-live-6/
LOCATION:Facebook Live
END:VEVENT
BEGIN:VEVENT
DTSTART;TZID=America/Chicago:20230909T100000
DTEND;TZID=America/Chicago:20230909T120000
DTSTAMP:20260424T193001
CREATED:20221101T011403Z
LAST-MODIFIED:20230515T211333Z
UID:21792-1694253600-1694260800@www.aear.org
SUMMARY:Meet & Greet Adoption Event
DESCRIPTION:The second Saturday of every month we will be holding a Meet & Greet adoption event at Petranek’s pharmacy in Libertyville (426 N. Milwaukee Ave). Come by and meet some of our animals that are looking for forever homes!
URL:https://www.aear.org/event/meet-greet-adoption-event-9/
LOCATION:Petranek’s Pharmacy\, 426 N Milwaukee Ave\, Libertyville\, IL\, 60048\, United States
CATEGORIES:Meet & Greet
ATTACH;FMTTYPE=image/jpeg:https://www.aear.org/wp-content/uploads/2023/05/aear-meet-greet-300-2.jpg
END:VEVENT
BEGIN:VEVENT
DTSTART;TZID=America/Chicago:20230906T203000
DTEND;TZID=America/Chicago:20230906T210000
DTSTAMP:20260424T193001
CREATED:20230816T014901Z
LAST-MODIFIED:20230816T014901Z
UID:24278-1694032200-1694034000@www.aear.org
SUMMARY:Wednesday Night Bedtime
DESCRIPTION:Join Sandy live on Facebook as she tucks in some of the animals in the orphanage on Wednesdays at 8:30pm central.
URL:https://www.aear.org/event/wednesday-night-bedtime-6/
LOCATION:Facebook Live
END:VEVENT
BEGIN:VEVENT
DTSTART;TZID=America/Chicago:20230830T203000
DTEND;TZID=America/Chicago:20230830T210000
DTSTAMP:20260424T193001
CREATED:20230816T014759Z
LAST-MODIFIED:20230816T014759Z
UID:24276-1693427400-1693429200@www.aear.org
SUMMARY:Wednesday Night Bedtime
DESCRIPTION:Join Sandy live on Facebook as she tucks in some of the animals in the orphanage on Wednesdays at 8:30pm central.
URL:https://www.aear.org/event/wednesday-night-bedtime-5/
LOCATION:Facebook Live
END:VEVENT
END:VCALENDAR