BEGIN:VCALENDAR
VERSION:2.0
PRODID:-//Animal Education &amp; Rescue - ECPv6.15.20//NONSGML v1.0//EN
CALSCALE:GREGORIAN
METHOD:PUBLISH
X-WR-CALNAME:Animal Education &amp; Rescue
X-ORIGINAL-URL:https://www.aear.org
X-WR-CALDESC:Events for Animal Education &amp; Rescue
REFRESH-INTERVAL;VALUE=DURATION:PT1H
X-Robots-Tag:noindex
X-PUBLISHED-TTL:PT1H
BEGIN:VTIMEZONE
TZID:America/Chicago
BEGIN:DAYLIGHT
TZOFFSETFROM:-0600
TZOFFSETTO:-0500
TZNAME:CDT
DTSTART:20200308T080000
END:DAYLIGHT
BEGIN:STANDARD
TZOFFSETFROM:-0500
TZOFFSETTO:-0600
TZNAME:CST
DTSTART:20201101T070000
END:STANDARD
BEGIN:DAYLIGHT
TZOFFSETFROM:-0600
TZOFFSETTO:-0500
TZNAME:CDT
DTSTART:20210314T080000
END:DAYLIGHT
BEGIN:STANDARD
TZOFFSETFROM:-0500
TZOFFSETTO:-0600
TZNAME:CST
DTSTART:20211107T070000
END:STANDARD
BEGIN:DAYLIGHT
TZOFFSETFROM:-0600
TZOFFSETTO:-0500
TZNAME:CDT
DTSTART:20220313T080000
END:DAYLIGHT
BEGIN:STANDARD
TZOFFSETFROM:-0500
TZOFFSETTO:-0600
TZNAME:CST
DTSTART:20221106T070000
END:STANDARD
BEGIN:DAYLIGHT
TZOFFSETFROM:-0600
TZOFFSETTO:-0500
TZNAME:CDT
DTSTART:20230312T080000
END:DAYLIGHT
BEGIN:STANDARD
TZOFFSETFROM:-0500
TZOFFSETTO:-0600
TZNAME:CST
DTSTART:20231105T070000
END:STANDARD
BEGIN:DAYLIGHT
TZOFFSETFROM:-0600
TZOFFSETTO:-0500
TZNAME:CDT
DTSTART:20240310T080000
END:DAYLIGHT
BEGIN:STANDARD
TZOFFSETFROM:-0500
TZOFFSETTO:-0600
TZNAME:CST
DTSTART:20241103T070000
END:STANDARD
END:VTIMEZONE
BEGIN:VTIMEZONE
TZID:UTC
BEGIN:STANDARD
TZOFFSETFROM:+0000
TZOFFSETTO:+0000
TZNAME:UTC
DTSTART:20200101T000000
END:STANDARD
END:VTIMEZONE
BEGIN:VEVENT
DTSTART;TZID=America/Chicago:20230128T100000
DTEND;TZID=America/Chicago:20230128T120000
DTSTAMP:20260424T201849
CREATED:20230124T224023Z
LAST-MODIFIED:20230124T224023Z
UID:22485-1674900000-1674907200@www.aear.org
SUMMARY:Puppy Meet & Greet
DESCRIPTION:Come meet some of the puppies we have available for adoption! Peyton\, Polly\, and Paisley are all looking for forever homes.
URL:https://www.aear.org/event/puppy-meet-greet/
LOCATION:Petranek’s Pharmacy\, 426 N Milwaukee Ave\, Libertyville\, IL\, 60048\, United States
CATEGORIES:Meet & Greet
END:VEVENT
BEGIN:VEVENT
DTSTART;TZID=America/Chicago:20230114T100000
DTEND;TZID=America/Chicago:20230114T120000
DTSTAMP:20260424T201849
CREATED:20221101T010545Z
LAST-MODIFIED:20221101T010545Z
UID:21776-1673690400-1673697600@www.aear.org
SUMMARY:Meet & Greet Adoption Event
DESCRIPTION:The second Saturday of every month we will be holding a Meet & Greet adoption event at Petranek’s pharmacy in Libertyville (426 N. Milwaukee Ave). Come by and meet some of our animals that are looking for forever homes!
URL:https://www.aear.org/event/meet-greet-adoption-event/
LOCATION:Petranek’s Pharmacy\, 426 N Milwaukee Ave\, Libertyville\, IL\, 60048\, United States
CATEGORIES:Meet & Greet
END:VEVENT
BEGIN:VEVENT
DTSTART;TZID=America/Chicago:20221105T110000
DTEND;TZID=America/Chicago:20221105T140000
DTSTAMP:20260424T201849
CREATED:20221101T235906Z
LAST-MODIFIED:20221102T000231Z
UID:21824-1667646000-1667656800@www.aear.org
SUMMARY:Adoption Event
DESCRIPTION:Join us for an adoption event at Zachary Chase Hair & Spa\, 333 Peterson Road\, Libertyville\, IL\, on November 5th from 11am-2pm. \nMeet cats\, kittens\, dogs\, guinea pigs\, rabbits\, and more at this very special event! \nFor more information contact us at www.AEAR.org. \n  \n 
URL:https://www.aear.org/event/adoption-event/
LOCATION:Zachery Chase Hair & Spa\, 333 Peterson Road\, Libertyville\, IL\, 60048
CATEGORIES:Meet & Greet
END:VEVENT
BEGIN:VEVENT
DTSTART;TZID=America/Chicago:20221023T140000
DTEND;TZID=America/Chicago:20221023T170000
DTSTAMP:20260424T201849
CREATED:20220908T213840Z
LAST-MODIFIED:20220913T135640Z
UID:21558-1666533600-1666544400@www.aear.org
SUMMARY:Blossom's Howl-O-Ween Hop
DESCRIPTION:Show your support of AEAR by joining Blossom for a super fun time!\nCome dressed in costume (optional) with your kiddos and pooch.\nPrizes for the best human and canine costume!\n• Hop alongside Blossom around the lake\n• Face Painting\n• Kids Crafts\n• Goodie Bags\n• Food\n• Music\n• Other Festivities \n**If you are bringing your dog please make sure you have your dog on a six-foot leash—NOT a retractable. If your dog isn’t friendly with other dogs\, please keep him/her home. \n> TICKETS/RSVPs are required for all attendees.\nTickets include: \n• Plant-based hotdog\n• Chips\n• Fruit Cup\n• Cupcake\n• Drink
URL:https://www.aear.org/event/blossoms-howl-o-ween-hop/
LOCATION:Old School Forest Preserves | Shelter D\, 28285 N St Marys Rd\, Libertyville\, IL\, 60048
END:VEVENT
BEGIN:VEVENT
DTSTART;TZID=America/Chicago:20220626T130000
DTEND;TZID=America/Chicago:20220626T150000
DTSTAMP:20260424T201849
CREATED:20220618T035944Z
LAST-MODIFIED:20220618T035944Z
UID:21026-1656248400-1656255600@www.aear.org
SUMMARY:Meet and Greet at Pet Supplies Plus
DESCRIPTION:Join us for a Meet and Greet at Pet Supplies Plus in Libertyville on June 26 from 1pm-3pm.
URL:https://www.aear.org/event/meet-and-greet-at-pet-supplies-plus/
LOCATION:Pet Supplies Plus (Libertyville)\, 1336 Milwaukee Ave\, Libertyville\, IL\, 60048\, United States
CATEGORIES:Meet & Greet
END:VEVENT
BEGIN:VEVENT
DTSTART;TZID=America/Chicago:20220608T140000
DTEND;TZID=America/Chicago:20220608T150000
DTSTAMP:20260424T201849
CREATED:20220607T023530Z
LAST-MODIFIED:20220607T023530Z
UID:20931-1654696800-1654700400@www.aear.org
SUMMARY:Blossom's Pound Party
DESCRIPTION:Live stream on Facebook join us on Wednesday June 8 at 2:00 central time for Blossom’s pound party!\nWe are raising money for Blossom to get an evaluation at a rehab facility. The cost is $351.00.\nWe ask that everyone donate $16 or more\, if they can manage it to help pay for that appointment.
URL:https://www.aear.org/event/blossoms-pound-party/
LOCATION:Facebook Live
END:VEVENT
BEGIN:VEVENT
DTSTART;TZID=UTC:20220604T110000
DTEND;TZID=UTC:20220604T123000
DTSTAMP:20260424T201849
CREATED:20220519T133432Z
LAST-MODIFIED:20220519T210058Z
UID:20777-1654340400-1654345800@www.aear.org
SUMMARY:Adoption Meet and Greet
DESCRIPTION:We will be holding an adoption meet and greet on Saturday\, June 4 from 11am-12:30pm in Libertyville. Please RSVP and we will send the address. \nCome see some of the animals we have that are looking for homes!
URL:https://www.aear.org/event/adoption-meet-and-greet-2/
LOCATION:IL
CATEGORIES:Meet & Greet
END:VEVENT
BEGIN:VEVENT
DTSTART;TZID=UTC:20220424T130000
DTEND;TZID=UTC:20220424T143000
DTSTAMP:20260424T201849
CREATED:20220414T142414Z
LAST-MODIFIED:20220414T142414Z
UID:20575-1650805200-1650810600@www.aear.org
SUMMARY:Adoption Meet and Greet
DESCRIPTION:We will be holding an adoption meet and greet at Pet Supplies Plus in Libertyville April 24 from 1-2:30.  Come see some of the animals we have that are looking for homes!
URL:https://www.aear.org/event/adoption-meet-and-greet/
LOCATION:Pet Supplies Plus (Libertyville)\, 1336 Milwaukee Ave\, Libertyville\, IL\, 60048\, United States
CATEGORIES:Meet & Greet
END:VEVENT
BEGIN:VEVENT
DTSTART;TZID=UTC:20220313T140000
DTEND;TZID=UTC:20220313T150000
DTSTAMP:20260424T201849
CREATED:20220311T005237Z
LAST-MODIFIED:20220311T005237Z
UID:20366-1647180000-1647183600@www.aear.org
SUMMARY:Doggy Play Date
DESCRIPTION:Weather permitting dogs that are available for adoption will be at our place in Libertyville on Sunday March 13 from 2-3 pm.  To participate go onto our web site and make a donation of $10/person to attend.  We will email you a confirmation.  If it’s canceled we will refund your $.\n\nSpace limited so sign up early!\n(This event is to just meet the dogs.  If you are interested in adopting a dog there is a adoption process.)
URL:https://www.aear.org/event/doggy-play-date-2/
LOCATION:IL
CATEGORIES:Puppy Playtime
END:VEVENT
BEGIN:VEVENT
DTSTART;TZID=UTC:20220310T190000
DTEND;TZID=UTC:20220310T200000
DTSTAMP:20260424T201849
CREATED:20220305T193848Z
LAST-MODIFIED:20220305T193848Z
UID:20340-1646938800-1646942400@www.aear.org
SUMMARY:Youth Program Brainstorming/Informational Meeting
DESCRIPTION:Join us on zoom for an hour to learn more about our plans for our upcoming youth programs.  The youth programs will be for kids ages 8-12 and 13-17.  Message us for the zoom invitation. \n  \n  \n 
URL:https://www.aear.org/event/youth-program-brainstorming-informational-meeting/
LOCATION:IL
CATEGORIES:Youth Group
END:VEVENT
BEGIN:VEVENT
DTSTART;TZID=UTC:20220309T190000
DTEND;TZID=UTC:20220309T203000
DTSTAMP:20260424T201849
CREATED:20220305T193718Z
LAST-MODIFIED:20220305T193718Z
UID:20338-1646852400-1646857800@www.aear.org
SUMMARY:Foster/Babysitting Volunteer Informational Meeting
DESCRIPTION:Join us on zoom to learn more about what’s involved in fostering or babysitting animals.  Message us for the zoom invitation. \n \n  \n 
URL:https://www.aear.org/event/foster-babysitting-volunteer-informational-meeting/
LOCATION:IL
CATEGORIES:Fostering Informational Meeting
END:VEVENT
BEGIN:VEVENT
DTSTART;TZID=UTC:20220306T140000
DTEND;TZID=UTC:20220306T150000
DTSTAMP:20260424T201849
CREATED:20220302T142853Z
LAST-MODIFIED:20220302T142853Z
UID:20317-1646575200-1646578800@www.aear.org
SUMMARY:Puppy Playtime Fundraiser
DESCRIPTION:Join us for our first of the year puppy playtime fundraiser! It’s $10/person to come paid in advance on our website at www.AEAR.org. (Please kids over five and keep in mind puppies jump and nip so if you think that will scare your child skip it this time.) \nAfter we get the donation we will email you the location and parking options.
URL:https://www.aear.org/event/puppy-playtime-fundraiser/
LOCATION:IL
CATEGORIES:Puppy Playtime
END:VEVENT
BEGIN:VEVENT
DTSTART;TZID=UTC:20220301T190000
DTEND;TZID=UTC:20220301T203000
DTSTAMP:20260424T201849
CREATED:20220223T192800Z
LAST-MODIFIED:20220223T192800Z
UID:20246-1646161200-1646166600@www.aear.org
SUMMARY:Zoom Foster/Babysitter Informational Meeting
DESCRIPTION:Join us for an informational meeting on fostering and babysitting. To join message us and we’ll send you a link to the zoom meeting.
URL:https://www.aear.org/event/zoom-foster-babysitter-informational-meeting/
LOCATION:IL
CATEGORIES:Fostering Informational Meeting
END:VEVENT
BEGIN:VEVENT
DTSTART;TZID=America/Chicago:20220220T110000
DTEND;TZID=America/Chicago:20220220T140000
DTSTAMP:20260424T201849
CREATED:20220215T231936Z
LAST-MODIFIED:20220215T231936Z
UID:20182-1645354800-1645365600@www.aear.org
SUMMARY:Pet Supplies Plus Adoption Event
DESCRIPTION:We are going to be at Pet Supplies Plus in Libertyville from 11-2  for an adoption event this Sunday\, weather permitting. \nCome meet some of the animals we have available for adoption! \n \n 
URL:https://www.aear.org/event/pet-supplies-plus-adoption-event/
LOCATION:Pet Supplies Plus (Libertyville)\, 1336 Milwaukee Ave\, Libertyville\, IL\, 60048\, United States
CATEGORIES:Meet & Greet
END:VEVENT
BEGIN:VEVENT
DTSTART;TZID=America/Chicago:20220111T190000
DTEND;TZID=America/Chicago:20220111T200000
DTSTAMP:20260424T201849
CREATED:20211228T055851Z
LAST-MODIFIED:20211228T060043Z
UID:19740-1641927600-1641931200@www.aear.org
SUMMARY:Foster Informational
DESCRIPTION:Join us for an informational meeting about fostering animals. There’s no obligation to foster. This is just a great way to check it out and see if you might be interested. \nFoster homes must be located in Lake County\, Illinois or within 30 minutes. \nIn order to attend you must rsvp by message on Facebook and then I will send you the link to the zoom meeting. \n 
URL:https://www.aear.org/event/foster-informational/
LOCATION:Zoom
END:VEVENT
BEGIN:VEVENT
DTSTART;TZID=America/Chicago:20211127T100000
DTEND;TZID=America/Chicago:20211127T113000
DTSTAMP:20260424T201849
CREATED:20210524T030831Z
LAST-MODIFIED:20210524T031318Z
UID:18387-1638007200-1638012600@www.aear.org
SUMMARY:Virtual Adoption Event
DESCRIPTION:Please join us for a virtual adoption events to meet our adoptable animals! \nTopic: Virtual Adoption meeting\nTime: Nov 27\, 2021 10:00 AM Central Time (US and Canada)\nPlease download and import the following iCalendar (.ics) files to your calendar system.\nMonthly: https://zoom.us/meeting/tJMpc-itrzsiHNOWTiFhQYfrFiMCuK62qnnh/ics?icsToken=98tyKuCvqj8rH9WVuB-ARowEBo-gd-_zmGJHgo1yqyvsJShiWwXkEOtvEadURorB \nJoin Zoom Meeting\nhttps://zoom.us/j/97441510867?pwd=WHd5alhPTWJTaUM3NTQvTXpCYU13Zz09 \nMeeting ID: 974 4151 0867\nPasscode: 598215\nOne tap mobile\n+13126266799\,\,97441510867#\,\,\,\,*598215# US (Chicago)\n+19292056099\,\,97441510867#\,\,\,\,*598215# US (New York) \nDial by your location\n+1 312 626 6799 US (Chicago)\n+1 929 205 6099 US (New York)\n+1 301 715 8592 US (Washington DC)\n+1 669 900 6833 US (San Jose)\n+1 253 215 8782 US (Tacoma)\n+1 346 248 7799 US (Houston)\nMeeting ID: 974 4151 0867\nPasscode: 598215\nFind your local number: https://zoom.us/u/azuxqPsJb
URL:https://www.aear.org/event/virtual-adoption-event-7/
LOCATION:Zoom
END:VEVENT
BEGIN:VEVENT
DTSTART;TZID=America/Chicago:20211023T110000
DTEND;TZID=America/Chicago:20211023T130000
DTSTAMP:20260424T201849
CREATED:20210929T142013Z
LAST-MODIFIED:20210929T144537Z
UID:19290-1634986800-1634994000@www.aear.org
SUMMARY:Doggy Play Date
DESCRIPTION:October 9 and October 23 11am-1pm come and play with dogs that are available for adoption.  Suggested donation for playtime is $10/family to help us keep helping animals. \nTo get approved to adopt the first step is to fill out an application at www.AEAR.org.  You do not need to apply to adopt or want to adopt to come play with pups. \n523 W. Park Avenue Libertyville. \nParking can be next door at the doctor’s office or on McKinley\, the street south of the house.
URL:https://www.aear.org/event/doggy-play-date/
LOCATION:IL
END:VEVENT
BEGIN:VEVENT
DTSTART;TZID=America/Chicago:20211023T100000
DTEND;TZID=America/Chicago:20211023T113000
DTSTAMP:20260424T201849
CREATED:20210524T030720Z
LAST-MODIFIED:20210524T031237Z
UID:18384-1634983200-1634988600@www.aear.org
SUMMARY:Virtual Adoption Event
DESCRIPTION:Please join us for a virtual adoption events to meet our adoptable animals! \nTopic: Virtual Adoption meeting\nTime: Oct 23\, 2021 10:00 AM Central Time (US and Canada) \nPlease download and import the following iCalendar (.ics) files to your calendar system.\nMonthly: https://zoom.us/meeting/tJMpc-itrzsiHNOWTiFhQYfrFiMCuK62qnnh/ics?icsToken=98tyKuCvqj8rH9WVuB-ARowEBo-gd-_zmGJHgo1yqyvsJShiWwXkEOtvEadURorB \nJoin Zoom Meeting\nhttps://zoom.us/j/97441510867?pwd=WHd5alhPTWJTaUM3NTQvTXpCYU13Zz09 \nMeeting ID: 974 4151 0867\nPasscode: 598215\nOne tap mobile\n+13126266799\,\,97441510867#\,\,\,\,*598215# US (Chicago)\n+19292056099\,\,97441510867#\,\,\,\,*598215# US (New York) \nDial by your location\n+1 312 626 6799 US (Chicago)\n+1 929 205 6099 US (New York)\n+1 301 715 8592 US (Washington DC)\n+1 669 900 6833 US (San Jose)\n+1 253 215 8782 US (Tacoma)\n+1 346 248 7799 US (Houston)\nMeeting ID: 974 4151 0867\nPasscode: 598215\nFind your local number: https://zoom.us/u/azuxqPsJb
URL:https://www.aear.org/event/virtual-adoption-event-6/
LOCATION:Zoom
END:VEVENT
BEGIN:VEVENT
DTSTART;TZID=America/Chicago:20211013T190000
DTEND;TZID=America/Chicago:20211013T200000
DTSTAMP:20260424T201849
CREATED:20211004T141749Z
LAST-MODIFIED:20211004T141749Z
UID:19317-1634151600-1634155200@www.aear.org
SUMMARY:Emma & Jane - Facebook LIVE
DESCRIPTION:October 13 at 7pm LIVE on Facebook meet Emma and Jane in their foster home.
URL:https://www.aear.org/event/emma-jane-facebook-live-2/
LOCATION:Facebook Live
END:VEVENT
BEGIN:VEVENT
DTSTART;TZID=America/Chicago:20211012T190000
DTEND;TZID=America/Chicago:20211012T200000
DTSTAMP:20260424T201849
CREATED:20211004T134707Z
LAST-MODIFIED:20211004T134707Z
UID:19312-1634065200-1634068800@www.aear.org
SUMMARY:Nemo & Princess - Facebook LIVE
DESCRIPTION:October 12 at 7pm LIVE on Facebook meet Nemo and Princess in their foster home.
URL:https://www.aear.org/event/nemo-princess-facebook-live/
LOCATION:Facebook Live
END:VEVENT
BEGIN:VEVENT
DTSTART;TZID=America/Chicago:20211011T190000
DTEND;TZID=America/Chicago:20211011T200000
DTSTAMP:20260424T201849
CREATED:20211004T134822Z
LAST-MODIFIED:20211004T134908Z
UID:19314-1633978800-1633982400@www.aear.org
SUMMARY:Joey & Jason - Facebook LIVE
DESCRIPTION:October 11 at 7pm LIVE on Facebook meet Joey and Jason in their foster home.
URL:https://www.aear.org/event/emma-jane-facebook-live/
LOCATION:Facebook Live
END:VEVENT
BEGIN:VEVENT
DTSTART;TZID=America/Chicago:20211010T103000
DTEND;TZID=America/Chicago:20211010T113000
DTSTAMP:20260424T201849
CREATED:20211005T020126Z
LAST-MODIFIED:20211005T020126Z
UID:19319-1633861800-1633865400@www.aear.org
SUMMARY:Kitten Zoom Adoption Event
DESCRIPTION:Kitten zoom adoption event\nTime: Oct 10\, 2021 10:30 AM Central Time (US and Canada) \nJoin Zoom Meeting\nhttps://us06web.zoom.us/j/88306770085?pwd=elZPN20wbEI1aG55ZDI3dEliUC9pQT09 \nMeeting ID: 883 0677 0085\nPasscode: 412557\nOne tap mobile\n+13126266799\,\,88306770085#\,\,\,\,*412557# US (Chicago)\n+19292056099\,\,88306770085#\,\,\,\,*412557# US (New York) \nDial by your location\n+1 312 626 6799 US (Chicago)\n+1 929 205 6099 US (New York)\n+1 301 715 8592 US (Washington DC)\n+1 669 900 6833 US (San Jose)\n+1 253 215 8782 US (Tacoma)\n+1 346 248 7799 US (Houston)\nMeeting ID: 883 0677 0085\nPasscode: 412557\nFind your local number: https://us06web.zoom.us/u/kevalbD6ZL
URL:https://www.aear.org/event/kitten-zoom-adoption-event/
LOCATION:IL
END:VEVENT
BEGIN:VEVENT
DTSTART;TZID=America/Chicago:20211009T110000
DTEND;TZID=America/Chicago:20211009T130000
DTSTAMP:20260424T201849
CREATED:20210920T135656Z
LAST-MODIFIED:20210929T144611Z
UID:19252-1633777200-1633784400@www.aear.org
SUMMARY:Doggy Play Date
DESCRIPTION:October 9 and October 23 11am-1pm come and play with dogs that are available for adoption.  Suggested donation for playtime is $10/family to help us keep helping animals. \nTo get approved to adopt the first step is to fill out an application at www.AEAR.org.  You do not need to apply to adopt or want to adopt to come play with pups. \n523 W. Park Avenue Libertyville. \nParking can be next door at the doctor’s office or on McKinley\, the street south of the house.
URL:https://www.aear.org/event/puppy-playtime-adoption-event-2/
LOCATION:IL
END:VEVENT
BEGIN:VEVENT
DTSTART;TZID=America/Chicago:20210925T110000
DTEND;TZID=America/Chicago:20210925T150000
DTSTAMP:20260424T201849
CREATED:20210825T135020Z
LAST-MODIFIED:20210825T135020Z
UID:19110-1632567600-1632582000@www.aear.org
SUMMARY:Art Show
DESCRIPTION:Saturday September 25 from 11-3 join us for an Art Show Fundraiser \nBrowse the heart-felt\, inspiring visual art of Sandy Kamen Wisniewski and Chuck Wisniewski.  All art is acrylics on canvas and 100% of the proceeds go to their humane society for animals\, Animal Education and Rescue. \nThe art show will be cancelled and rescheduled if it’s raining.  Parking is next door at the doctor’s office or on McKinley\, the street just south of park.  The address of the art show is 523 W. Park Avenue in Libertyville.
URL:https://www.aear.org/event/art-show/
LOCATION:IL
CATEGORIES:Art Sale
END:VEVENT
BEGIN:VEVENT
DTSTART;TZID=UTC:20210923T190000
DTEND;TZID=UTC:20210923T200000
DTSTAMP:20260424T201849
CREATED:20210529T015806Z
LAST-MODIFIED:20210610T023850Z
UID:18433-1632423600-1632427200@www.aear.org
SUMMARY:New Volunteer Informational Meeting
DESCRIPTION:If you are interested in possibly fostering an animal or helping with marketing\, publicity of fundraising learn more at this informative meeting. \nHave you thought about volunteering with us? Consider attending our New Volunteer Informational meeting. There is no obligation to volunteer but do consider checking it out. \nhttps://zoom.us/j/98453944282?pwd=enVHVXJzOGRJMzhObHJTbnhSaSttUT09
URL:https://www.aear.org/event/new-volunteer-informational-meeting-7/
LOCATION:Zoom
CATEGORIES:New Volunteer Orientation
END:VEVENT
BEGIN:VEVENT
DTSTART;TZID=UTC:20210909T190000
DTEND;TZID=UTC:20210909T200000
DTSTAMP:20260424T201849
CREATED:20210529T015728Z
LAST-MODIFIED:20210610T023937Z
UID:18431-1631214000-1631217600@www.aear.org
SUMMARY:New Volunteer Informational Meeting
DESCRIPTION:If you are interested in possibly fostering an animal or helping with marketing\, publicity of fundraising learn more at this informative meeting. \nHave you thought about volunteering with us? Consider attending our New Volunteer Informational meeting. There is no obligation to volunteer but do consider checking it out. \nhttps://zoom.us/j/98453944282?pwd=enVHVXJzOGRJMzhObHJTbnhSaSttUT09 \n 
URL:https://www.aear.org/event/new-volunteer-informational-meeting-6/
LOCATION:Zoom
CATEGORIES:New Volunteer Orientation
END:VEVENT
BEGIN:VEVENT
DTSTART;TZID=America/Chicago:20210828T100000
DTEND;TZID=America/Chicago:20210828T113000
DTSTAMP:20260424T201849
CREATED:20210524T030623Z
LAST-MODIFIED:20210825T134713Z
UID:18380-1630144800-1630150200@www.aear.org
SUMMARY:Virtual Adoption Event
DESCRIPTION:Please join us for a virtual adoption events to meet our adoptable animals! \nTopic: Virtual Adoption meeting\nTime: Aug 28\, 2021 10:00 AM Central Time (US and Canada)\nJoin Zoom Meeting \nhttps://us06web.zoom.us/j/81451903220?pwd=a0pEU3BOc2YvcUphbmN4WHViaVNKUT09 \nMeeting ID: 974 4151 0867\nPasscode: 598215\nOne tap mobile\n+13126266799\,\,97441510867#\,\,\,\,*598215# US (Chicago)\n+19292056099\,\,97441510867#\,\,\,\,*598215# US (New York) \nDial by your location\n+1 312 626 6799 US (Chicago)\n+1 929 205 6099 US (New York)\n+1 301 715 8592 US (Washington DC)\n+1 669 900 6833 US (San Jose)\n+1 253 215 8782 US (Tacoma)\n+1 346 248 7799 US (Houston)\nMeeting ID: 974 4151 0867\nPasscode: 598215\nFind your local number: https://zoom.us/u/azuxqPsJb
URL:https://www.aear.org/event/virtual-adoption-event-4/
LOCATION:Zoom
END:VEVENT
BEGIN:VEVENT
DTSTART;TZID=UTC:20210826T190000
DTEND;TZID=UTC:20210826T200000
DTSTAMP:20260424T201849
CREATED:20210529T015653Z
LAST-MODIFIED:20210610T024009Z
UID:18429-1630004400-1630008000@www.aear.org
SUMMARY:New Volunteer Informational Meeting
DESCRIPTION:If you are interested in possibly fostering an animal or helping with marketing\, publicity of fundraising learn more at this informative meeting. \nHave you thought about volunteering with us? Consider attending our New Volunteer Informational meeting. There is no obligation to volunteer but do consider checking it out. \nhttps://zoom.us/j/98453944282?pwd=enVHVXJzOGRJMzhObHJTbnhSaSttUT09
URL:https://www.aear.org/event/new-volunteer-informational-meeting-5/
LOCATION:Zoom
CATEGORIES:New Volunteer Orientation
END:VEVENT
BEGIN:VEVENT
DTSTART;TZID=UTC:20210812T190000
DTEND;TZID=UTC:20210812T200000
DTSTAMP:20260424T201849
CREATED:20210529T015616Z
LAST-MODIFIED:20210610T024045Z
UID:18427-1628794800-1628798400@www.aear.org
SUMMARY:New Volunteer Informational Meeting
DESCRIPTION:If you are interested in possibly fostering an animal or helping with marketing\, publicity of fundraising learn more at this informative meeting. \nHave you thought about volunteering with us? Consider attending our New Volunteer Informational meeting. There is no obligation to volunteer but do consider checking it out. \nhttps://zoom.us/j/98453944282?pwd=enVHVXJzOGRJMzhObHJTbnhSaSttUT09
URL:https://www.aear.org/event/new-volunteer-informational-meeting-4/
LOCATION:Zoom
CATEGORIES:New Volunteer Orientation
END:VEVENT
BEGIN:VEVENT
DTSTART;TZID=UTC:20210805T190000
DTEND;TZID=UTC:20210805T200000
DTSTAMP:20260424T201849
CREATED:20210529T015510Z
LAST-MODIFIED:20210728T135632Z
UID:18425-1628190000-1628193600@www.aear.org
SUMMARY:New Volunteer Informational Meeting
DESCRIPTION:If you are interested in possibly fostering an animal or helping with marketing\, publicity of fundraising learn more at this informative meeting. \nHave you thought about volunteering with us? Consider attending our New Volunteer Informational meeting. There is no obligation to volunteer but do consider checking it out. \nhttps://zoom.us/j/98453944282?pwd=enVHVXJzOGRJMzhObHJTbnhSaSttUT09
URL:https://www.aear.org/event/new-volunteer-informational-meeting-3/
LOCATION:Zoom
CATEGORIES:New Volunteer Orientation
END:VEVENT
END:VCALENDAR