BEGIN:VCALENDAR
VERSION:2.0
PRODID:-//Animal Education &amp; Rescue - ECPv6.15.20//NONSGML v1.0//EN
CALSCALE:GREGORIAN
METHOD:PUBLISH
X-WR-CALNAME:Animal Education &amp; Rescue
X-ORIGINAL-URL:https://www.aear.org
X-WR-CALDESC:Events for Animal Education &amp; Rescue
REFRESH-INTERVAL;VALUE=DURATION:PT1H
X-Robots-Tag:noindex
X-PUBLISHED-TTL:PT1H
BEGIN:VTIMEZONE
TZID:UTC
BEGIN:STANDARD
TZOFFSETFROM:+0000
TZOFFSETTO:+0000
TZNAME:UTC
DTSTART:20190101T000000
END:STANDARD
END:VTIMEZONE
BEGIN:VTIMEZONE
TZID:America/Chicago
BEGIN:DAYLIGHT
TZOFFSETFROM:-0600
TZOFFSETTO:-0500
TZNAME:CDT
DTSTART:20190310T080000
END:DAYLIGHT
BEGIN:STANDARD
TZOFFSETFROM:-0500
TZOFFSETTO:-0600
TZNAME:CST
DTSTART:20191103T070000
END:STANDARD
BEGIN:DAYLIGHT
TZOFFSETFROM:-0600
TZOFFSETTO:-0500
TZNAME:CDT
DTSTART:20200308T080000
END:DAYLIGHT
BEGIN:STANDARD
TZOFFSETFROM:-0500
TZOFFSETTO:-0600
TZNAME:CST
DTSTART:20201101T070000
END:STANDARD
BEGIN:DAYLIGHT
TZOFFSETFROM:-0600
TZOFFSETTO:-0500
TZNAME:CDT
DTSTART:20210314T080000
END:DAYLIGHT
BEGIN:STANDARD
TZOFFSETFROM:-0500
TZOFFSETTO:-0600
TZNAME:CST
DTSTART:20211107T070000
END:STANDARD
BEGIN:DAYLIGHT
TZOFFSETFROM:-0600
TZOFFSETTO:-0500
TZNAME:CDT
DTSTART:20220313T080000
END:DAYLIGHT
BEGIN:STANDARD
TZOFFSETFROM:-0500
TZOFFSETTO:-0600
TZNAME:CST
DTSTART:20221106T070000
END:STANDARD
END:VTIMEZONE
BEGIN:VEVENT
DTSTART;TZID=UTC:20210826T190000
DTEND;TZID=UTC:20210826T200000
DTSTAMP:20260424T220213
CREATED:20210529T015653Z
LAST-MODIFIED:20210610T024009Z
UID:18429-1630004400-1630008000@www.aear.org
SUMMARY:New Volunteer Informational Meeting
DESCRIPTION:If you are interested in possibly fostering an animal or helping with marketing\, publicity of fundraising learn more at this informative meeting. \nHave you thought about volunteering with us? Consider attending our New Volunteer Informational meeting. There is no obligation to volunteer but do consider checking it out. \nhttps://zoom.us/j/98453944282?pwd=enVHVXJzOGRJMzhObHJTbnhSaSttUT09
URL:https://www.aear.org/event/new-volunteer-informational-meeting-5/
LOCATION:Zoom
CATEGORIES:New Volunteer Orientation
END:VEVENT
BEGIN:VEVENT
DTSTART;TZID=UTC:20210812T190000
DTEND;TZID=UTC:20210812T200000
DTSTAMP:20260424T220213
CREATED:20210529T015616Z
LAST-MODIFIED:20210610T024045Z
UID:18427-1628794800-1628798400@www.aear.org
SUMMARY:New Volunteer Informational Meeting
DESCRIPTION:If you are interested in possibly fostering an animal or helping with marketing\, publicity of fundraising learn more at this informative meeting. \nHave you thought about volunteering with us? Consider attending our New Volunteer Informational meeting. There is no obligation to volunteer but do consider checking it out. \nhttps://zoom.us/j/98453944282?pwd=enVHVXJzOGRJMzhObHJTbnhSaSttUT09
URL:https://www.aear.org/event/new-volunteer-informational-meeting-4/
LOCATION:Zoom
CATEGORIES:New Volunteer Orientation
END:VEVENT
BEGIN:VEVENT
DTSTART;TZID=UTC:20210805T190000
DTEND;TZID=UTC:20210805T200000
DTSTAMP:20260424T220213
CREATED:20210529T015510Z
LAST-MODIFIED:20210728T135632Z
UID:18425-1628190000-1628193600@www.aear.org
SUMMARY:New Volunteer Informational Meeting
DESCRIPTION:If you are interested in possibly fostering an animal or helping with marketing\, publicity of fundraising learn more at this informative meeting. \nHave you thought about volunteering with us? Consider attending our New Volunteer Informational meeting. There is no obligation to volunteer but do consider checking it out. \nhttps://zoom.us/j/98453944282?pwd=enVHVXJzOGRJMzhObHJTbnhSaSttUT09
URL:https://www.aear.org/event/new-volunteer-informational-meeting-3/
LOCATION:Zoom
CATEGORIES:New Volunteer Orientation
END:VEVENT
BEGIN:VEVENT
DTSTART;TZID=America/Chicago:20210731T160000
DTEND;TZID=America/Chicago:20210731T190000
DTSTAMP:20260424T220213
CREATED:20210529T023347Z
LAST-MODIFIED:20210610T022548Z
UID:18455-1627747200-1627758000@www.aear.org
SUMMARY:Wine & Dine Summer Fundraiser at the Preserve
DESCRIPTION:Please join us for an enchanting dining experience! Includes a wine tasting led by AEAR director Sandy Kamen Wisniewski! \ncatered dinner – raffle baskets – fabulous company \nSaturday July 31   4-7 pm.  Old School Forest Preserve shelter D\, Libertyville\, IL \nTickets: $40 \n 
URL:https://www.aear.org/event/picnic-fundraiser/
LOCATION:Old School Forest Preserves | Shelter D\, 28285 N St Marys Rd\, Libertyville\, IL\, 60048
CATEGORIES:Picnic
END:VEVENT
BEGIN:VEVENT
DTSTART;TZID=America/Chicago:20210729T193000
DTEND;TZID=America/Chicago:20210729T210000
DTSTAMP:20260424T220213
CREATED:20210726T023204Z
LAST-MODIFIED:20210726T023204Z
UID:18882-1627587000-1627592400@www.aear.org
SUMMARY:Adoption Screeners Introductory Meeting
DESCRIPTION:Click https://us06web.zoom.us/j/5481978731?pwd=T1JOT3NpV2h1dnFhYmZGOEduVXZKZz09 to start or join a scheduled Zoom meeting \nThursday July 29 7:30-9 pm.
URL:https://www.aear.org/event/adoption-screeners-introductory-meeting/
END:VEVENT
BEGIN:VEVENT
DTSTART;TZID=America/Chicago:20210724T100000
DTEND;TZID=America/Chicago:20210724T113000
DTSTAMP:20260424T220213
CREATED:20210524T030547Z
LAST-MODIFIED:20210524T031512Z
UID:18378-1627120800-1627126200@www.aear.org
SUMMARY:Virtual Adoption Event
DESCRIPTION:Please join us for a virtual adoption events to meet our adoptable animals! \nTopic: Virtual Adoption meeting\nTime: July 24\, 2021 10:00 AM Central Time (US and Canada)\nPlease download and import the following iCalendar (.ics) files to your calendar system.\nMonthly: https://zoom.us/meeting/tJMpc-itrzsiHNOWTiFhQYfrFiMCuK62qnnh/ics?icsToken=98tyKuCvqj8rH9WVuB-ARowEBo-gd-_zmGJHgo1yqyvsJShiWwXkEOtvEadURorB \nJoin Zoom Meeting\nhttps://zoom.us/j/97441510867?pwd=WHd5alhPTWJTaUM3NTQvTXpCYU13Zz09 \nMeeting ID: 974 4151 0867\nPasscode: 598215\nOne tap mobile\n+13126266799\,\,97441510867#\,\,\,\,*598215# US (Chicago)\n+19292056099\,\,97441510867#\,\,\,\,*598215# US (New York) \nDial by your location\n+1 312 626 6799 US (Chicago)\n+1 929 205 6099 US (New York)\n+1 301 715 8592 US (Washington DC)\n+1 669 900 6833 US (San Jose)\n+1 253 215 8782 US (Tacoma)\n+1 346 248 7799 US (Houston)\nMeeting ID: 974 4151 0867\nPasscode: 598215\nFind your local number: https://zoom.us/u/azuxqPsJb
URL:https://www.aear.org/event/virtual-adoption-event-3/
LOCATION:Zoom
END:VEVENT
BEGIN:VEVENT
DTSTART;TZID=UTC:20210708T190000
DTEND;TZID=UTC:20210708T200000
DTSTAMP:20260424T220213
CREATED:20210529T015427Z
LAST-MODIFIED:20210610T024157Z
UID:18423-1625770800-1625774400@www.aear.org
SUMMARY:New Volunteer Informational Meeting
DESCRIPTION:If you are interested in possibly fostering an animal or helping with marketing\, publicity of fundraising learn more at this informative meeting. \nHave you thought about volunteering with us? Consider attending our New Volunteer Informational meeting. There is no obligation to volunteer but do consider checking it out. \nhttps://zoom.us/j/98453944282?pwd=enVHVXJzOGRJMzhObHJTbnhSaSttUT09
URL:https://www.aear.org/event/new-volunteer-informational-meeting-2/
LOCATION:Zoom
CATEGORIES:New Volunteer Orientation
END:VEVENT
BEGIN:VEVENT
DTSTART;TZID=America/Chicago:20210627T100000
DTEND;TZID=America/Chicago:20210627T160000
DTSTAMP:20260424T220213
CREATED:20210529T022604Z
LAST-MODIFIED:20210529T022604Z
UID:18447-1624788000-1624809600@www.aear.org
SUMMARY:Fifth Annual Spirit Walk
DESCRIPTION:Fifth annual Spirit Walk \, Sunday\, June 27\, 2021 at 10:00 AM – Sunday\, June 27\, 2021 at 4:00 PM\n\nWe meet at Old School forest preserve in Libertyville parking lot D.  We park our cars there.  We walk from there to Highland Park downtown.  It’s approximately 12 miles.  We will have volunteers drive to highland park to pick us up and take us back to our cars.  Dinner together is fun and optional.\n\nThis year’s theme is honoring and understanding the history and plight of the pit bulls and bull terriers.  Each mile I will post inspirational and educational messages about pit bull breed.\n\nWe ask people to get sponsorship for the walk or to make a donation to help us with our mission.  You can ask for people to donate a flat amount or donate per mile.  Please don’t bring your dog.  It’s too long if a walk and likely too hot.  Plus we go into places along the way for refreshments and bathroom breaks.
URL:https://www.aear.org/event/fifth-annual-spirit-walk/
LOCATION:Old School Forest Preserves | Shelter D\, 28285 N St Marys Rd\, Libertyville\, IL\, 60048
CATEGORIES:Spirit Walk
END:VEVENT
BEGIN:VEVENT
DTSTART;TZID=America/Chicago:20210626T100000
DTEND;TZID=America/Chicago:20210626T113000
DTSTAMP:20260424T220213
CREATED:20210524T030518Z
LAST-MODIFIED:20210524T031554Z
UID:18375-1624701600-1624707000@www.aear.org
SUMMARY:Virtual Adoption Event
DESCRIPTION:Please join us for a virtual adoption events to meet our adoptable animals! \nTopic: Virtual Adoption meeting\nTime: June 26\, 2021 10:00 AM Central Time (US and Canada)\nPlease download and import the following iCalendar (.ics) files to your calendar system.\nMonthly: https://zoom.us/meeting/tJMpc-itrzsiHNOWTiFhQYfrFiMCuK62qnnh/ics?icsToken=98tyKuCvqj8rH9WVuB-ARowEBo-gd-_zmGJHgo1yqyvsJShiWwXkEOtvEadURorB \nJoin Zoom Meeting\nhttps://zoom.us/j/97441510867?pwd=WHd5alhPTWJTaUM3NTQvTXpCYU13Zz09 \nMeeting ID: 974 4151 0867\nPasscode: 598215\nOne tap mobile\n+13126266799\,\,97441510867#\,\,\,\,*598215# US (Chicago)\n+19292056099\,\,97441510867#\,\,\,\,*598215# US (New York) \nDial by your location\n+1 312 626 6799 US (Chicago)\n+1 929 205 6099 US (New York)\n+1 301 715 8592 US (Washington DC)\n+1 669 900 6833 US (San Jose)\n+1 253 215 8782 US (Tacoma)\n+1 346 248 7799 US (Houston)\nMeeting ID: 974 4151 0867\nPasscode: 598215\nFind your local number: https://zoom.us/u/azuxqPsJb
URL:https://www.aear.org/event/virtual-adoption-event-2/
LOCATION:Zoom
END:VEVENT
BEGIN:VEVENT
DTSTART;TZID=UTC:20210624T190000
DTEND;TZID=UTC:20210624T200000
DTSTAMP:20260424T220213
CREATED:20210529T015253Z
LAST-MODIFIED:20210610T024235Z
UID:18419-1624561200-1624564800@www.aear.org
SUMMARY:New Volunteer Informational Meeting
DESCRIPTION:If you are interested in possibly fostering an animal or helping with marketing\, publicity of fundraising learn more at this informative meeting. \nHave you thought about volunteering with us? Consider attending our New Volunteer Informational meeting. There is no obligation to volunteer but do consider checking it out. \nhttps://zoom.us/j/98453944282?pwd=enVHVXJzOGRJMzhObHJTbnhSaSttUT09
URL:https://www.aear.org/event/online-new-volunteer-orientation/
LOCATION:Zoom
CATEGORIES:New Volunteer Orientation
END:VEVENT
BEGIN:VEVENT
DTSTART;TZID=America/Chicago:20210619T080000
DTEND;TZID=America/Chicago:20210619T140000
DTSTAMP:20260424T220213
CREATED:20210529T023133Z
LAST-MODIFIED:20210529T023133Z
UID:18453-1624089600-1624111200@www.aear.org
SUMMARY:Garage Sale
DESCRIPTION:The garage sale will be Thursday-Saturday\, June 17-19\, 8:00-2:00. The address is 37089 N Grandwood Dr\, Gurnee.
URL:https://www.aear.org/event/garage-sale-3/
CATEGORIES:Garage Sale
END:VEVENT
BEGIN:VEVENT
DTSTART;TZID=America/Chicago:20210618T080000
DTEND;TZID=America/Chicago:20210618T140000
DTSTAMP:20260424T220213
CREATED:20210529T023109Z
LAST-MODIFIED:20210529T023109Z
UID:18451-1624003200-1624024800@www.aear.org
SUMMARY:Garage Sale
DESCRIPTION:The garage sale will be Thursday-Saturday\, June 17-19\, 8:00-2:00. The address is 37089 N Grandwood Dr\, Gurnee.
URL:https://www.aear.org/event/garage-sale-2/
CATEGORIES:Garage Sale
END:VEVENT
BEGIN:VEVENT
DTSTART;TZID=America/Chicago:20210617T080000
DTEND;TZID=America/Chicago:20210617T140000
DTSTAMP:20260424T220213
CREATED:20210529T023041Z
LAST-MODIFIED:20210529T023041Z
UID:18449-1623916800-1623938400@www.aear.org
SUMMARY:Garage Sale
DESCRIPTION:The garage sale will be Thursday-Saturday\, June 17-19\, 8:00-2:00. The address is 37089 N Grandwood Dr\, Gurnee.
URL:https://www.aear.org/event/garage-sale/
CATEGORIES:Garage Sale
END:VEVENT
BEGIN:VEVENT
DTSTART;TZID=UTC:20210610T190000
DTEND;TZID=UTC:20210610T200000
DTSTAMP:20260424T220213
CREATED:20210529T015351Z
LAST-MODIFIED:20210610T024311Z
UID:18421-1623351600-1623355200@www.aear.org
SUMMARY:New Volunteer Informational Meeting
DESCRIPTION:If you are interested in possibly fostering an animal or helping with marketing\, publicity of fundraising learn more at this informative meeting. \nHave you thought about volunteering with us? Consider attending our New Volunteer Informational meeting. There is no obligation to volunteer but do consider checking it out. \nhttps://zoom.us/j/98453944282?pwd=enVHVXJzOGRJMzhObHJTbnhSaSttUT09
URL:https://www.aear.org/event/new-volunteer-informational-meeting/
LOCATION:Zoom
CATEGORIES:New Volunteer Orientation
END:VEVENT
BEGIN:VEVENT
DTSTART;TZID=UTC:20200603T183000
DTEND;TZID=UTC:20200603T193000
DTSTAMP:20260424T220213
CREATED:20191229T205835Z
LAST-MODIFIED:20200422T212201Z
UID:16299-1591209000-1591212600@www.aear.org
SUMMARY:Online New Volunteer Orientation
DESCRIPTION:Have you thought about volunteering with us? Consider attending our Virtual New Volunteer Orientation. There is no obligation to volunteer but do consider checking it out. \nAEAR Founder and Director Sandy Kamen Wisniewski will lead this informative and motivating evening. Participants will learn all about Animal Education and Rescue\, hear stories that shaped the organization and learn about volunteer opportunities.  The orientation will be online so please RSVP so we can send you the log in information.
URL:https://www.aear.org/event/new-volunteer-orientation-21/
LOCATION:Mom & Pup\, 831 E. Belvidere Road\, Grayslake\, IL\, 60030\, United States
CATEGORIES:New Volunteer Orientation
END:VEVENT
BEGIN:VEVENT
DTSTART;TZID=America/Chicago:20200520T190000
DTEND;TZID=America/Chicago:20200520T200000
DTSTAMP:20260424T220213
CREATED:20200422T211127Z
LAST-MODIFIED:20200422T211127Z
UID:16666-1590001200-1590004800@www.aear.org
SUMMARY:Start Your Own Animal Rescue Overview
DESCRIPTION:Have you ever thought about starting your own animal rescue organization? Come to this virtual one-hour introduction to animal rescue lead by Animal Education and Rescue’s founder and Director\, Sandy Kamen Wisniewski. This special event is FREE and will giove you some insight as to whether the animal rescue biz is right for you!\n\n\n \n\n\nJust RSVP and we’ll send you the log in information.
URL:https://www.aear.org/event/start-your-own-animal-rescue-overview/
END:VEVENT
BEGIN:VEVENT
DTSTART;TZID=UTC:20200506T183000
DTEND;TZID=UTC:20200506T193000
DTSTAMP:20260424T220213
CREATED:20191229T205800Z
LAST-MODIFIED:20200422T212303Z
UID:16297-1588789800-1588793400@www.aear.org
SUMMARY:Online New Volunteer Orientation
DESCRIPTION:Have you thought about volunteering with us? Consider attending our Virtual New Volunteer Orientation. There is no obligation to volunteer but do consider checking it out. \nAEAR Founder and Director Sandy Kamen Wisniewski will lead this informative and motivating evening. Participants will learn all about Animal Education and Rescue\, hear stories that shaped the organization and learn about volunteer opportunities.  The orientation will be online so please RSVP so we can send you the log in information. \n– CLICK HERE TO REGISTER – 
URL:https://www.aear.org/event/new-volunteer-orientation-20/
LOCATION:IL\, United States
CATEGORIES:New Volunteer Orientation
END:VEVENT
BEGIN:VEVENT
DTSTART;TZID=America/Chicago:20200502T110000
DTEND;TZID=America/Chicago:20200502T120000
DTSTAMP:20260424T220213
CREATED:20200422T211417Z
LAST-MODIFIED:20200422T211417Z
UID:16668-1588417200-1588420800@www.aear.org
SUMMARY:Virtual Adoption Event
DESCRIPTION:Have you thought about volunteering with us? Consider attending our New Volunteer Orientation. There is no obligation to volunteer but do consider checking it out. AEAR Founder and Director Sandy Kamen Wisniewski will lead this informative and motivating evening. Participants will learn all about Animal Education and Rescue\, hear stories that shaped the organization and learn about volunteer opportunities. \nThe orientation will take place online\, so please be sure and let us know you are coming by registering on our website at www.aear.org/events\, and we’ll send you the log in information.
URL:https://www.aear.org/event/virtual-adoption-event/
CATEGORIES:Meet & Greet
END:VEVENT
BEGIN:VEVENT
DTSTART;TZID=America/Chicago:20200424T190000
DTEND;TZID=America/Chicago:20200424T200000
DTSTAMP:20260424T220213
CREATED:20200422T204350Z
LAST-MODIFIED:20200422T204350Z
UID:16664-1587754800-1587758400@www.aear.org
SUMMARY:Catching Up With Dr. Singh of Townline Animal Hospital
DESCRIPTION:Join Dr. Singh of Townline animal hospital of Vernon Hills on Friday night at 7:00 p.m. as she talks about how the whole pandemic has affected her work.  She will also answer any questions people have. \nJust RSVP and we’ll send the log in information to get into the meeting.
URL:https://www.aear.org/event/catching-up-with-dr-singh-of-townline-animal-hospital/
CATEGORIES:Vet
END:VEVENT
BEGIN:VEVENT
DTSTART;TZID=America/Chicago:20200328T190000
DTEND;TZID=America/Chicago:20200328T200000
DTSTAMP:20260424T220213
CREATED:20200323T191707Z
LAST-MODIFIED:20200323T191707Z
UID:16609-1585422000-1585425600@www.aear.org
SUMMARY:HUGE LIVE Facebook Art Sale
DESCRIPTION:HUGE LIVE Facebook Art Sale Saturday 7:00 pm \nWe have literally dozens of colorful\, beautiful\, original heart-felt paintings on canvas painted by Chuck and I.  We need to lighten our stock to make room for new paintings.  Due to the current worldwide crisis people are home bound.  So we decided it is a good time to make some much-needed revenue for AEAR and our household and offer an entertaining evening for those people with not much going on. \nWe’ll share stories about some of the paintings; what inspired them\, the challenges we faced painting them and what they mean to us.  We will sell them live.   (Will coordinate the buyers receiving them after this crisis is over.). \nSo join us 7:00 pm this Saturday night!
URL:https://www.aear.org/event/huge-live-facebook-art-sale/
CATEGORIES:Art Sale
END:VEVENT
BEGIN:VEVENT
DTSTART;TZID=America/Chicago:20200314T110000
DTEND;TZID=America/Chicago:20200314T140000
DTSTAMP:20260424T220213
CREATED:20191229T211359Z
LAST-MODIFIED:20191229T211359Z
UID:16317-1584183600-1584194400@www.aear.org
SUMMARY:Meet & Greet at Pet Supplies Plus (Libertyville)
DESCRIPTION:We will be having a Meet and Greet at Pet Supplies Plus in Libertyville on the second Saturday of every month from 11am to 2pm. Come see some of the pets we have available for adoption!
URL:https://www.aear.org/event/meet-greet-at-pet-supplies-plus-libertyville-16/
LOCATION:Pet Supplies Plus (Libertyville)\, 1336 Milwaukee Ave\, Libertyville\, IL\, 60048\, United States
CATEGORIES:Meet & Greet
ATTACH;FMTTYPE=image/jpeg:https://www.aear.org/wp-content/uploads/2017/12/pet-supplies-plus.jpg
END:VEVENT
BEGIN:VEVENT
DTSTART;TZID=America/Chicago:20200310T190000
DTEND;TZID=America/Chicago:20200310T200000
DTSTAMP:20260424T220213
CREATED:20191229T212257Z
LAST-MODIFIED:20191229T212257Z
UID:16341-1583866800-1583870400@www.aear.org
SUMMARY:Pet Therapy
DESCRIPTION:The second Tuesday of every month we bring animals to visit the residents at Manor Care nursing home from 7-8pm. It is a wonderful way to bring joy\, share laughter and love. Please RSVP to 847-816-0831 or email us at info@aear.org. If you are new to pet therapy and if you plan on bringing your own pet please fill out the Pet Therapy Volunteer Application and send us your pets shot records via email of mail to our address at AEAR P.O. Box 7343 Libertyville\, IL. 60048.
URL:https://www.aear.org/event/pet-therapy-16/
LOCATION:Manor Care\, 1500 South Milwaukee Ave\, Libertyville\, IL\, 60048\, United States
CATEGORIES:Pet Therapy
END:VEVENT
BEGIN:VEVENT
DTSTART;TZID=America/Chicago:20200307T130000
DTEND;TZID=America/Chicago:20200307T153000
DTSTAMP:20260424T220213
CREATED:20191229T215257Z
LAST-MODIFIED:20191229T215257Z
UID:16365-1583586000-1583595000@www.aear.org
SUMMARY:Meet and Greet at Petranek's Pharmacy
DESCRIPTION:Come visit some of the animals we have available for adoption at our adoption event from 1 p.m. until 3:30 p.m. If there is a particular animal you want to see be sure to find out first if that animal will be there by emailing us at info@aear.org.
URL:https://www.aear.org/event/meet-and-greet-at-petraneks-pharmacy-16/
LOCATION:Petranek’s Pharmacy\, 426 N Milwaukee Ave\, Libertyville\, IL\, 60048\, United States
CATEGORIES:Meet & Greet
END:VEVENT
BEGIN:VEVENT
DTSTART;TZID=America/Chicago:20200211T190000
DTEND;TZID=America/Chicago:20200211T200000
DTSTAMP:20260424T220213
CREATED:20191229T212219Z
LAST-MODIFIED:20191229T212219Z
UID:16339-1581447600-1581451200@www.aear.org
SUMMARY:Pet Therapy
DESCRIPTION:The second Tuesday of every month we bring animals to visit the residents at Manor Care nursing home from 7-8pm. It is a wonderful way to bring joy\, share laughter and love. Please RSVP to 847-816-0831 or email us at info@aear.org. If you are new to pet therapy and if you plan on bringing your own pet please fill out the Pet Therapy Volunteer Application and send us your pets shot records via email of mail to our address at AEAR P.O. Box 7343 Libertyville\, IL. 60048.
URL:https://www.aear.org/event/pet-therapy-15/
LOCATION:Manor Care\, 1500 South Milwaukee Ave\, Libertyville\, IL\, 60048\, United States
CATEGORIES:Pet Therapy
END:VEVENT
BEGIN:VEVENT
DTSTART;TZID=America/Chicago:20200208T110000
DTEND;TZID=America/Chicago:20200208T140000
DTSTAMP:20260424T220213
CREATED:20191229T211302Z
LAST-MODIFIED:20191229T211302Z
UID:16315-1581159600-1581170400@www.aear.org
SUMMARY:Meet & Greet at Pet Supplies Plus (Libertyville)
DESCRIPTION:We will be having a Meet and Greet at Pet Supplies Plus in Libertyville on the second Saturday of every month from 11am to 2pm. Come see some of the pets we have available for adoption!
URL:https://www.aear.org/event/meet-greet-at-pet-supplies-plus-libertyville-15/
LOCATION:Pet Supplies Plus (Libertyville)\, 1336 Milwaukee Ave\, Libertyville\, IL\, 60048\, United States
CATEGORIES:Meet & Greet
ATTACH;FMTTYPE=image/jpeg:https://www.aear.org/wp-content/uploads/2017/12/pet-supplies-plus.jpg
END:VEVENT
BEGIN:VEVENT
DTSTART;TZID=UTC:20200205T181500
DTEND;TZID=UTC:20200205T201500
DTSTAMP:20260424T220213
CREATED:20191229T205548Z
LAST-MODIFIED:20191229T205548Z
UID:16291-1580926500-1580933700@www.aear.org
SUMMARY:New Volunteer Orientation
DESCRIPTION:Have you thought about volunteering with us? Consider attending our New Volunteer Orientation. There is no obligation to volunteer but do consider checking it out. AEAR Founder and Director Sandy Kamen Wisniewski will lead this informative and motivating evening. Participants will learn all about Animal Education and Rescue\, hear stories that shaped the organization and learn about volunteer opportunities.  The orientation is located at the Mom & Pup\,  831 E. Belvidere Road (Route 120) Grayslake\, Illinois . Time is 6:15-8-15 p.m. \n– CLICK HERE TO REGISTER – 
URL:https://www.aear.org/event/new-volunteer-orientation-17/
LOCATION:Mom & Pup\, 831 E. Belvidere Road\, Grayslake\, IL\, 60030\, United States
CATEGORIES:New Volunteer Orientation
END:VEVENT
BEGIN:VEVENT
DTSTART;TZID=America/Chicago:20200201T130000
DTEND;TZID=America/Chicago:20200201T153000
DTSTAMP:20260424T220213
CREATED:20191229T215223Z
LAST-MODIFIED:20191229T215223Z
UID:16363-1580562000-1580571000@www.aear.org
SUMMARY:Meet and Greet at Petranek's Pharmacy
DESCRIPTION:Come visit some of the animals we have available for adoption at our adoption event from 1 p.m. until 3:30 p.m. If there is a particular animal you want to see be sure to find out first if that animal will be there by emailing us at info@aear.org.
URL:https://www.aear.org/event/meet-and-greet-at-petraneks-pharmacy-15/
LOCATION:Petranek’s Pharmacy\, 426 N Milwaukee Ave\, Libertyville\, IL\, 60048\, United States
CATEGORIES:Meet & Greet
END:VEVENT
BEGIN:VEVENT
DTSTART;TZID=America/Chicago:20200114T190000
DTEND;TZID=America/Chicago:20200114T200000
DTSTAMP:20260424T220213
CREATED:20191229T212140Z
LAST-MODIFIED:20191229T212140Z
UID:16337-1579028400-1579032000@www.aear.org
SUMMARY:Pet Therapy
DESCRIPTION:The second Tuesday of every month we bring animals to visit the residents at Manor Care nursing home from 7-8pm. It is a wonderful way to bring joy\, share laughter and love. Please RSVP to 847-816-0831 or email us at info@aear.org. If you are new to pet therapy and if you plan on bringing your own pet please fill out the Pet Therapy Volunteer Application and send us your pets shot records via email of mail to our address at AEAR P.O. Box 7343 Libertyville\, IL. 60048.
URL:https://www.aear.org/event/pet-therapy-14/
LOCATION:Manor Care\, 1500 South Milwaukee Ave\, Libertyville\, IL\, 60048\, United States
CATEGORIES:Pet Therapy
END:VEVENT
BEGIN:VEVENT
DTSTART;TZID=America/Chicago:20200111T110000
DTEND;TZID=America/Chicago:20200111T140000
DTSTAMP:20260424T220213
CREATED:20191229T211125Z
LAST-MODIFIED:20191229T211202Z
UID:16313-1578740400-1578751200@www.aear.org
SUMMARY:Meet & Greet at Pet Supplies Plus (Libertyville)
DESCRIPTION:We will be having a Meet and Greet at Pet Supplies Plus in Libertyville on the second Saturday of every month from 11am to 2pm. Come see some of the pets we have available for adoption!
URL:https://www.aear.org/event/meet-greet-at-pet-supplies-plus-libertyville-14/
LOCATION:Pet Supplies Plus (Libertyville)\, 1336 Milwaukee Ave\, Libertyville\, IL\, 60048\, United States
CATEGORIES:Meet & Greet
ATTACH;FMTTYPE=image/jpeg:https://www.aear.org/wp-content/uploads/2017/12/pet-supplies-plus.jpg
END:VEVENT
BEGIN:VEVENT
DTSTART;TZID=UTC:20200108T181500
DTEND;TZID=UTC:20200108T201500
DTSTAMP:20260424T220213
CREATED:20191207T193426Z
LAST-MODIFIED:20191207T193426Z
UID:16183-1578507300-1578514500@www.aear.org
SUMMARY:New Volunteer Orientation
DESCRIPTION:Have you thought about volunteering with us? Consider attending our New Volunteer Orientation. There is no obligation to volunteer but do consider checking it out. AEAR Founder and Director Sandy Kamen Wisniewski will lead this informative and motivating evening. Participants will learn all about Animal Education and Rescue\, hear stories that shaped the organization and learn about volunteer opportunities.  The orientation is located at the Mom & Pup\,  831 E. Belvidere Road (Route 120) Grayslake\, Illinois . Time is 6:15-8-15 p.m. \n– CLICK HERE TO REGISTER – 
URL:https://www.aear.org/event/new-volunteer-orientation-16/
LOCATION:Mom & Pup\, 831 E. Belvidere Road\, Grayslake\, IL\, 60030\, United States
CATEGORIES:New Volunteer Orientation
END:VEVENT
END:VCALENDAR