BEGIN:VCALENDAR
VERSION:2.0
PRODID:-//Animal Education &amp; Rescue - ECPv6.15.20//NONSGML v1.0//EN
CALSCALE:GREGORIAN
METHOD:PUBLISH
X-WR-CALNAME:Animal Education &amp; Rescue
X-ORIGINAL-URL:https://www.aear.org
X-WR-CALDESC:Events for Animal Education &amp; Rescue
REFRESH-INTERVAL;VALUE=DURATION:PT1H
X-Robots-Tag:noindex
X-PUBLISHED-TTL:PT1H
BEGIN:VTIMEZONE
TZID:America/Chicago
BEGIN:DAYLIGHT
TZOFFSETFROM:-0600
TZOFFSETTO:-0500
TZNAME:CDT
DTSTART:20180311T080000
END:DAYLIGHT
BEGIN:STANDARD
TZOFFSETFROM:-0500
TZOFFSETTO:-0600
TZNAME:CST
DTSTART:20181104T070000
END:STANDARD
BEGIN:DAYLIGHT
TZOFFSETFROM:-0600
TZOFFSETTO:-0500
TZNAME:CDT
DTSTART:20190310T080000
END:DAYLIGHT
BEGIN:STANDARD
TZOFFSETFROM:-0500
TZOFFSETTO:-0600
TZNAME:CST
DTSTART:20191103T070000
END:STANDARD
BEGIN:DAYLIGHT
TZOFFSETFROM:-0600
TZOFFSETTO:-0500
TZNAME:CDT
DTSTART:20200308T080000
END:DAYLIGHT
BEGIN:STANDARD
TZOFFSETFROM:-0500
TZOFFSETTO:-0600
TZNAME:CST
DTSTART:20201101T070000
END:STANDARD
END:VTIMEZONE
BEGIN:VTIMEZONE
TZID:UTC
BEGIN:STANDARD
TZOFFSETFROM:+0000
TZOFFSETTO:+0000
TZNAME:UTC
DTSTART:20180101T000000
END:STANDARD
END:VTIMEZONE
BEGIN:VEVENT
DTSTART;TZID=America/Chicago:20190811T100000
DTEND;TZID=America/Chicago:20190811T110000
DTSTAMP:20260424T223351
CREATED:20190704T125445Z
LAST-MODIFIED:20190704T125445Z
UID:15625-1565517600-1565521200@www.aear.org
SUMMARY:Meditation with Dogs
DESCRIPTION:Enjoy a live guided meditation with energy healer Sandy Kamen Wisniewski as dogs relax around you. If you have an older\, calm\, dog and people friendly dog that is current on vaccines you are welcome to bring him or her. Otherwise enjoy the dogs that come and a peaceful morning with like-minded people. A suggested $5.00 donation goes to Animal Education and Rescue\, a non profit humane society for animals. \nThe meditation will be held at Barbara’s Bookstore in Vernon Hills from 10-11 am the second Sunday of the month beginning in August. We will be in the lower level.
URL:https://www.aear.org/event/meditation-with-dogs-9/
LOCATION:Barbara’s Bookstore\, 720 Hawthorn Center\, Vernon Hills\, IL\, United States
CATEGORIES:Meditation
END:VEVENT
BEGIN:VEVENT
DTSTART;TZID=America/Chicago:20190810T110000
DTEND;TZID=America/Chicago:20190810T140000
DTSTAMP:20260424T223351
CREATED:20190223T224430Z
LAST-MODIFIED:20190223T224430Z
UID:15154-1565434800-1565445600@www.aear.org
SUMMARY:Meet & Greet at Pet Supplies Plus (Libertyville)
DESCRIPTION:We will be having a Meet and Greet at Pet Supplies Plus in Libertyville on the second Saturday of every month from 11am to 2pm. Come see some of the pets we have available for adoption!
URL:https://www.aear.org/event/meet-greet-at-pet-supplies-plus-libertyville-9/
LOCATION:Pet Supplies Plus (Libertyville)\, 1336 Milwaukee Ave\, Libertyville\, IL\, 60048\, United States
CATEGORIES:Meet & Greet
ATTACH;FMTTYPE=image/jpeg:https://www.aear.org/wp-content/uploads/2017/12/pet-supplies-plus.jpg
END:VEVENT
BEGIN:VEVENT
DTSTART;TZID=America/Chicago:20190809T150000
DTEND;TZID=America/Chicago:20190809T190000
DTSTAMP:20260424T223351
CREATED:20190527T034945Z
LAST-MODIFIED:20190527T034945Z
UID:15522-1565362800-1565377200@www.aear.org
SUMMARY:AEAR at Lake Zurich Farmers Market
DESCRIPTION:Beginning June 7 every Friday from 3-7 we’ll be at the Lake Zurich farmers market in Paulus Park\, 200 S Rand Rd\, Lake Zurich\, IL.  Come see us and some of the animals we have for adoption!
URL:https://www.aear.org/event/aear-at-lake-zurich-farmers-market-10/
LOCATION:Lake Zurich Farmer’s Market\, 200 S. Rand Road\, Lake Zurich\, IL\, 60047
CATEGORIES:Meet & Greet
END:VEVENT
BEGIN:VEVENT
DTSTART;TZID=America/Chicago:20190808T080000
DTEND;TZID=America/Chicago:20190808T130000
DTSTAMP:20260424T223351
CREATED:20190521T014904Z
LAST-MODIFIED:20190521T014904Z
UID:15460-1565251200-1565269200@www.aear.org
SUMMARY:Libertyville Farmers Market
DESCRIPTION:We will be at the Libertyville Farmers Market this Thursday from 8 am until 1 pm. Come see us and some of the animals we have up for adoption! \n 
URL:https://www.aear.org/event/libertyville-farmers-market-20/
LOCATION:Cook Memorial Park
CATEGORIES:Meet & Greet
END:VEVENT
BEGIN:VEVENT
DTSTART;TZID=UTC:20190807T181500
DTEND;TZID=UTC:20190807T201500
DTSTAMP:20260424T223351
CREATED:20190223T225440Z
LAST-MODIFIED:20190223T225440Z
UID:15166-1565201700-1565208900@www.aear.org
SUMMARY:New Volunteer Orientation
DESCRIPTION:Have you thought about volunteering with us? Consider attending our New Volunteer Orientation. There is no obligation to volunteer but do consider checking it out. AEAR Founder and Director Sandy Kamen Wisniewski will lead this informative and motivating evening. Participants will learn all about Animal Education and Rescue\, hear stories that shaped the organization and learn about volunteer opportunities.  The orientation is located at the Mom & Pup\,  831 E. Belvidere Road (Route 120) Grayslake\, Illinois . Time is 6:15-8-15 p.m. \n– CLICK HERE TO REGISTER – 
URL:https://www.aear.org/event/new-volunteer-orientation-11/
LOCATION:Mom & Pup\, 831 E. Belvidere Road\, Grayslake\, IL\, 60030\, United States
CATEGORIES:New Volunteer Orientation
END:VEVENT
BEGIN:VEVENT
DTSTART;TZID=America/Chicago:20190804T100000
DTEND;TZID=America/Chicago:20190804T140000
DTSTAMP:20260424T223351
CREATED:20190527T032355Z
LAST-MODIFIED:20190527T032355Z
UID:15498-1564912800-1564927200@www.aear.org
SUMMARY:AEAR Meet & Greet at Art Show
DESCRIPTION:AEAR will be at an Art Show in Downtown Libertyville on Church street; come and see some of the animals during the art show!  We’ll be there from 10 a.m. until 2 p.m.  Contact us the day before if you’d like to know what animals will be there.
URL:https://www.aear.org/event/aear-meet-greet-at-art-show-2/
LOCATION:Libertyville
END:VEVENT
BEGIN:VEVENT
DTSTART;TZID=America/Chicago:20190803T130000
DTEND;TZID=America/Chicago:20190803T153000
DTSTAMP:20260424T223351
CREATED:20190223T231309Z
LAST-MODIFIED:20190223T231309Z
UID:15200-1564837200-1564846200@www.aear.org
SUMMARY:Meet and Greet at Petranek's Pharmacy
DESCRIPTION:Come visit some of the animals we have available for adoption at our adoption event from 1 p.m. until 3:30 p.m. If there is a particular animal you want to see be sure to find out first if that animal will be there by emailing us at info@aear.org.
URL:https://www.aear.org/event/meet-and-greet-at-petraneks-pharmacy-10/
LOCATION:Petranek’s Pharmacy\, 426 N Milwaukee Ave\, Libertyville\, IL\, 60048\, United States
CATEGORIES:Meet & Greet
END:VEVENT
BEGIN:VEVENT
DTSTART;TZID=America/Chicago:20190803T100000
DTEND;TZID=America/Chicago:20190803T140000
DTSTAMP:20260424T223351
CREATED:20190527T032316Z
LAST-MODIFIED:20190527T032316Z
UID:15496-1564826400-1564840800@www.aear.org
SUMMARY:AEAR Meet & Greet at Art Show
DESCRIPTION:AEAR will be at an Art Show in Downtown Libertyville on Church street; come and see some of the animals during the art show!  We’ll be there from 10 a.m. until 2 p.m.  Contact us the day before if you’d like to know what animals will be there.
URL:https://www.aear.org/event/aear-meet-greet-at-art-show/
LOCATION:Libertyville
END:VEVENT
BEGIN:VEVENT
DTSTART;TZID=America/Chicago:20190802T150000
DTEND;TZID=America/Chicago:20190802T190000
DTSTAMP:20260424T223351
CREATED:20190527T034907Z
LAST-MODIFIED:20190527T034907Z
UID:15519-1564758000-1564772400@www.aear.org
SUMMARY:AEAR at Lake Zurich Farmers Market
DESCRIPTION:Beginning June 7 every Friday from 3-7 we’ll be at the Lake Zurich farmers market in Paulus Park\, 200 S Rand Rd\, Lake Zurich\, IL.  Come see us and some of the animals we have for adoption!
URL:https://www.aear.org/event/aear-at-lake-zurich-farmers-market-9/
LOCATION:Lake Zurich Farmer’s Market\, 200 S. Rand Road\, Lake Zurich\, IL\, 60047
CATEGORIES:Meet & Greet
END:VEVENT
BEGIN:VEVENT
DTSTART;TZID=America/Chicago:20190801T080000
DTEND;TZID=America/Chicago:20190801T130000
DTSTAMP:20260424T223351
CREATED:20190521T014836Z
LAST-MODIFIED:20190521T014836Z
UID:15458-1564646400-1564664400@www.aear.org
SUMMARY:Libertyville Farmers Market
DESCRIPTION:We will be at the Libertyville Farmers Market this Thursday from 8 am until 1 pm. Come see us and some of the animals we have up for adoption! \n 
URL:https://www.aear.org/event/libertyville-farmers-market-19/
LOCATION:Cook Memorial Park
CATEGORIES:Meet & Greet
END:VEVENT
BEGIN:VEVENT
DTSTART;TZID=America/Chicago:20190726T150000
DTEND;TZID=America/Chicago:20190726T190000
DTSTAMP:20260424T223351
CREATED:20190527T034832Z
LAST-MODIFIED:20190527T034832Z
UID:15517-1564153200-1564167600@www.aear.org
SUMMARY:AEAR at Lake Zurich Farmers Market
DESCRIPTION:Beginning June 7 every Friday from 3-7 we’ll be at the Lake Zurich farmers market in Paulus Park\, 200 S Rand Rd\, Lake Zurich\, IL.  Come see us and some of the animals we have for adoption!
URL:https://www.aear.org/event/aear-at-lake-zurich-farmers-market-8/
LOCATION:Lake Zurich Farmer’s Market\, 200 S. Rand Road\, Lake Zurich\, IL\, 60047
CATEGORIES:Meet & Greet
END:VEVENT
BEGIN:VEVENT
DTSTART;TZID=America/Chicago:20190725T080000
DTEND;TZID=America/Chicago:20190725T130000
DTSTAMP:20260424T223351
CREATED:20190521T014809Z
LAST-MODIFIED:20190521T014809Z
UID:15456-1564041600-1564059600@www.aear.org
SUMMARY:Libertyville Farmers Market
DESCRIPTION:We will be at the Libertyville Farmers Market this Thursday from 8 am until 1 pm. Come see us and some of the animals we have up for adoption! \n 
URL:https://www.aear.org/event/libertyville-farmers-market-18/
LOCATION:Cook Memorial Park
CATEGORIES:Meet & Greet
END:VEVENT
BEGIN:VEVENT
DTSTART;TZID=America/Chicago:20190720T120000
DTEND;TZID=America/Chicago:20190720T150000
DTSTAMP:20260424T223351
CREATED:20190719T040306Z
LAST-MODIFIED:20190719T040306Z
UID:15676-1563624000-1563634800@www.aear.org
SUMMARY:Meet & Greet at Mom and Pup
DESCRIPTION:We will be having a Meet and Greet at Mom and Pup in Grayslake this Saturday from 12pm to 3pm. Come see some of the pets we have available for adoption!
URL:https://www.aear.org/event/meet-greet-at-mom-and-pup/
LOCATION:Mom & Pup\, 831 E. Belvidere Road\, Grayslake\, IL\, 60030\, United States
CATEGORIES:Meet & Greet
END:VEVENT
BEGIN:VEVENT
DTSTART;TZID=America/Chicago:20190719T150000
DTEND;TZID=America/Chicago:20190719T190000
DTSTAMP:20260424T223351
CREATED:20190527T034741Z
LAST-MODIFIED:20190527T034741Z
UID:15515-1563548400-1563562800@www.aear.org
SUMMARY:AEAR at Lake Zurich Farmers Market
DESCRIPTION:Beginning June 7 every Friday from 3-7 we’ll be at the Lake Zurich farmers market in Paulus Park\, 200 S Rand Rd\, Lake Zurich\, IL.  Come see us and some of the animals we have for adoption!
URL:https://www.aear.org/event/aear-at-lake-zurich-farmers-market-7/
LOCATION:Lake Zurich Farmer’s Market\, 200 S. Rand Road\, Lake Zurich\, IL\, 60047
CATEGORIES:Meet & Greet
END:VEVENT
BEGIN:VEVENT
DTSTART;TZID=America/Chicago:20190718T080000
DTEND;TZID=America/Chicago:20190718T130000
DTSTAMP:20260424T223351
CREATED:20190521T014745Z
LAST-MODIFIED:20190521T014745Z
UID:15454-1563436800-1563454800@www.aear.org
SUMMARY:Libertyville Farmers Market
DESCRIPTION:We will be at the Libertyville Farmers Market this Thursday from 8 am until 1 pm. Come see us and some of the animals we have up for adoption! \n 
URL:https://www.aear.org/event/libertyville-farmers-market-17/
LOCATION:Cook Memorial Park
CATEGORIES:Meet & Greet
END:VEVENT
BEGIN:VEVENT
DTSTART;TZID=America/Chicago:20190713T110000
DTEND;TZID=America/Chicago:20190713T140000
DTSTAMP:20260424T223351
CREATED:20190223T224336Z
LAST-MODIFIED:20190223T224336Z
UID:15152-1563015600-1563026400@www.aear.org
SUMMARY:Meet & Greet at Pet Supplies Plus (Libertyville)
DESCRIPTION:We will be having a Meet and Greet at Pet Supplies Plus in Libertyville on the second Saturday of every month from 11am to 2pm. Come see some of the pets we have available for adoption!
URL:https://www.aear.org/event/meet-greet-at-pet-supplies-plus-libertyville-8/
LOCATION:Pet Supplies Plus (Libertyville)\, 1336 Milwaukee Ave\, Libertyville\, IL\, 60048\, United States
CATEGORIES:Meet & Greet
ATTACH;FMTTYPE=image/jpeg:https://www.aear.org/wp-content/uploads/2017/12/pet-supplies-plus.jpg
END:VEVENT
BEGIN:VEVENT
DTSTART;TZID=America/Chicago:20190711T080000
DTEND;TZID=America/Chicago:20190711T130000
DTSTAMP:20260424T223351
CREATED:20190521T014709Z
LAST-MODIFIED:20190521T014709Z
UID:15452-1562832000-1562850000@www.aear.org
SUMMARY:Libertyville Farmers Market
DESCRIPTION:We will be at the Libertyville Farmers Market this Thursday from 8 am until 1 pm. Come see us and some of the animals we have up for adoption! \n 
URL:https://www.aear.org/event/libertyville-farmers-market-16/
LOCATION:Cook Memorial Park
CATEGORIES:Meet & Greet
END:VEVENT
BEGIN:VEVENT
DTSTART;TZID=America/Chicago:20190710T190000
DTEND;TZID=America/Chicago:20190710T200000
DTSTAMP:20260424T223351
CREATED:20190223T233408Z
LAST-MODIFIED:20190223T233408Z
UID:15234-1562785200-1562788800@www.aear.org
SUMMARY:Hot Topics - Facebook Live
DESCRIPTION:Hot Topics\nDuring this LIVE broadcast Sandy Kamen Wisniewski\, founder and director of Animal Education and Rescue\, will discuss topics that are important to all animal lovers. \nSome topics include: responsible pet ownership\, the laws that protect animals\, the inside scoop of animal rescue\, keeping pets safe\, the overpopulation problem\, declawing cats and so much more. \nEach week she will pick two or three hot topics and expand on it. \n7-8 pm the second Wednesday of each month.
URL:https://www.aear.org/event/hot-topics-facebook-live-12/
LOCATION:Facebook Live
END:VEVENT
BEGIN:VEVENT
DTSTART;TZID=America/Chicago:20190709T190000
DTEND;TZID=America/Chicago:20190709T200000
DTSTAMP:20260424T223351
CREATED:20190223T225945Z
LAST-MODIFIED:20190223T225945Z
UID:15176-1562698800-1562702400@www.aear.org
SUMMARY:Pet Therapy
DESCRIPTION:The second Tuesday of every month we bring animals to visit the residents at Manor Care nursing home from 7-8pm. It is a wonderful way to bring joy\, share laughter and love. Please RSVP to 847-816-0831 or email us at info@aear.org. If you are new to pet therapy and if you plan on bringing your own pet please fill out the Pet Therapy Volunteer Application and send us your pets shot records via email of mail to our address at AEAR P.O. Box 7343 Libertyville\, IL. 60048.
URL:https://www.aear.org/event/pet-therapy-8/
LOCATION:Manor Care\, 1500 South Milwaukee Ave\, Libertyville\, IL\, 60048\, United States
CATEGORIES:Pet Therapy
END:VEVENT
BEGIN:VEVENT
DTSTART;TZID=America/Chicago:20190706T130000
DTEND;TZID=America/Chicago:20190706T153000
DTSTAMP:20260424T223351
CREATED:20190223T231129Z
LAST-MODIFIED:20190223T231129Z
UID:15198-1562418000-1562427000@www.aear.org
SUMMARY:Meet and Greet at Petranek's Pharmacy
DESCRIPTION:Come visit some of the animals we have available for adoption at our adoption event from 1 p.m. until 3:30 p.m. If there is a particular animal you want to see be sure to find out first if that animal will be there by emailing us at info@aear.org.
URL:https://www.aear.org/event/meet-and-greet-at-petraneks-pharmacy-9/
LOCATION:Petranek’s Pharmacy\, 426 N Milwaukee Ave\, Libertyville\, IL\, 60048\, United States
CATEGORIES:Meet & Greet
END:VEVENT
BEGIN:VEVENT
DTSTART;TZID=America/Chicago:20190705T150000
DTEND;TZID=America/Chicago:20190705T190000
DTSTAMP:20260424T223351
CREATED:20190527T034618Z
LAST-MODIFIED:20190527T034618Z
UID:15511-1562338800-1562353200@www.aear.org
SUMMARY:AEAR at Lake Zurich Farmers Market
DESCRIPTION:Beginning June 7 every Friday from 3-7 we’ll be at the Lake Zurich farmers market in Paulus Park\, 200 S Rand Rd\, Lake Zurich\, IL.  Come see us and some of the animals we have for adoption!
URL:https://www.aear.org/event/aear-at-lake-zurich-farmers-market-5/
LOCATION:Lake Zurich Farmer’s Market\, 200 S. Rand Road\, Lake Zurich\, IL\, 60047
CATEGORIES:Meet & Greet
END:VEVENT
BEGIN:VEVENT
DTSTART;TZID=UTC:20190703T181500
DTEND;TZID=UTC:20190703T201500
DTSTAMP:20260424T223351
CREATED:20190223T225353Z
LAST-MODIFIED:20190223T225353Z
UID:15164-1562177700-1562184900@www.aear.org
SUMMARY:New Volunteer Orientation
DESCRIPTION:Have you thought about volunteering with us? Consider attending our New Volunteer Orientation. There is no obligation to volunteer but do consider checking it out. AEAR Founder and Director Sandy Kamen Wisniewski will lead this informative and motivating evening. Participants will learn all about Animal Education and Rescue\, hear stories that shaped the organization and learn about volunteer opportunities.  The orientation is located at the Mom & Pup\,  831 E. Belvidere Road (Route 120) Grayslake\, Illinois . Time is 6:15-8-15 p.m. \n– CLICK HERE TO REGISTER – 
URL:https://www.aear.org/event/new-volunteer-orientation-10/
LOCATION:Mom & Pup\, 831 E. Belvidere Road\, Grayslake\, IL\, 60030\, United States
CATEGORIES:New Volunteer Orientation
END:VEVENT
BEGIN:VEVENT
DTSTART;TZID=America/Chicago:20190630T200000
DTEND;TZID=America/Chicago:20190630T210000
DTSTAMP:20260424T223351
CREATED:20190205T025701Z
LAST-MODIFIED:20190205T025701Z
UID:15041-1561924800-1561928400@www.aear.org
SUMMARY:"Weekly Inspirational Message" Live On Facebook
DESCRIPTION:“Weekly Inspirational Message” Live On Facebook
URL:https://www.aear.org/event/weekly-inspirational-message-live-on-facebook-29/
LOCATION:Facebook Live
END:VEVENT
BEGIN:VEVENT
DTSTART;TZID=America/Chicago:20190630T100000
DTEND;TZID=America/Chicago:20190630T190000
DTSTAMP:20260424T223351
CREATED:20180506T210216Z
LAST-MODIFIED:20190317T183619Z
UID:13021-1561888800-1561921200@www.aear.org
SUMMARY:Spirit Walk - Animals\, Our Teachers\, Our Friends
DESCRIPTION:Join us for our Fifth Annual SPIRIT WALK\n\n\n \n\n\nOn Sunday June 30 we will be walking 12 miles\, from Libertyville to Highland Park. Each mile AEAR’s founder will post inspirational insights onto AEAR’s Facebook page. The walk is meant to symbolize a growing and expanding of the mind\, body and soul. For each person walking it is a walk for personal reasons\, as well as global reasons. It’s a quest to seek answers and truths.\n\n\n \n\n\nInspired by AEAR’s founder\, Sandy Kamen Wisniewski\, when many years ago she felt she was at a crossroads in her life and decided to take a spiritual journey to get answers by walking from her home in Libertyville to her childhood home in Highland Park. Word got out about it and people asked to join her. Walkers ask for sponsors to make a donation in honor of the animals currently that are in Animal Education and Rescue’s care.\n\n\n \n\n\nDate: Sunday June 30\n\n\nTime: 10:-00 a.m. on top of the sled hill at Old School Forest Preserve in Libertyville. On top of the hill Sandy will guide the group in a meditation. The walk begins at 10:30 a.m. until 5:30pm. We stop numerous times on the walk. We will stop for a bite to eat at Panera Bread in Lake Bluff\, ice cream in Highwood and dinner out at a restaurant. People can park their cars at Old School and we will carpool back to your cars afterwards. You can come for part or all of the walk.
URL:https://www.aear.org/event/5th-annual-spirit-walk/
LOCATION:Old School Forest Preserves | Shelter D\, 28285 N St Marys Rd\, Libertyville\, IL\, 60048
CATEGORIES:Spirit Walk
END:VEVENT
BEGIN:VEVENT
DTSTART;TZID=America/Chicago:20190627T080000
DTEND;TZID=America/Chicago:20190627T130000
DTSTAMP:20260424T223351
CREATED:20190521T014545Z
LAST-MODIFIED:20190521T014545Z
UID:15448-1561622400-1561640400@www.aear.org
SUMMARY:Libertyville Farmers Market
DESCRIPTION:We will be at the Libertyville Farmers Market this Thursday from 8 am until 1 pm. Come see us and some of the animals we have up for adoption! \n 
URL:https://www.aear.org/event/libertyville-farmers-market-14/
LOCATION:Cook Memorial Park
CATEGORIES:Meet & Greet
END:VEVENT
BEGIN:VEVENT
DTSTART;TZID=America/Chicago:20190623T200000
DTEND;TZID=America/Chicago:20190623T210000
DTSTAMP:20260424T223351
CREATED:20190205T024914Z
LAST-MODIFIED:20190205T024914Z
UID:15039-1561320000-1561323600@www.aear.org
SUMMARY:"Weekly Inspirational Message" Live On Facebook
DESCRIPTION:“Weekly Inspirational Message” Live On Facebook
URL:https://www.aear.org/event/weekly-inspirational-message-live-on-facebook-28/
LOCATION:Facebook Live
END:VEVENT
BEGIN:VEVENT
DTSTART;TZID=America/Chicago:20190616T200000
DTEND;TZID=America/Chicago:20190616T210000
DTSTAMP:20260424T223351
CREATED:20190205T024827Z
LAST-MODIFIED:20190205T024827Z
UID:15037-1560715200-1560718800@www.aear.org
SUMMARY:"Weekly Inspirational Message" Live On Facebook
DESCRIPTION:“Weekly Inspirational Message” Live On Facebook
URL:https://www.aear.org/event/weekly-inspirational-message-live-on-facebook-27/
LOCATION:Facebook Live
END:VEVENT
BEGIN:VEVENT
DTSTART;TZID=America/Chicago:20190612T190000
DTEND;TZID=America/Chicago:20190612T200000
DTSTAMP:20260424T223351
CREATED:20190205T030734Z
LAST-MODIFIED:20190205T030734Z
UID:15059-1560366000-1560369600@www.aear.org
SUMMARY:Hot Topics - Facebook Live
DESCRIPTION:Hot Topics\nDuring this LIVE broadcast Sandy Kamen Wisniewski\, founder and director of Animal Education and Rescue\, will discuss topics that are important to all animal lovers. \nSome topics include: responsible pet ownership\, the laws that protect animals\, the inside scoop of animal rescue\, keeping pets safe\, the overpopulation problem\, declawing cats and so much more. \nEach week she will pick two or three hot topics and expand on it. \n7-8 pm the second Wednesday of each month.
URL:https://www.aear.org/event/hot-topics-facebook-live-11/
LOCATION:Facebook Live
END:VEVENT
BEGIN:VEVENT
DTSTART;TZID=America/Chicago:20190611T190000
DTEND;TZID=America/Chicago:20190611T200000
DTSTAMP:20260424T223351
CREATED:20190205T031610Z
LAST-MODIFIED:20190205T031610Z
UID:15073-1560279600-1560283200@www.aear.org
SUMMARY:Pet Therapy
DESCRIPTION:The second Tuesday of every month we bring animals to visit the residents at Manor Care nursing home from 7-8pm. It is a wonderful way to bring joy\, share laughter and love. Please RSVP to 847-816-0831 or email us at info@aear.org. If you are new to pet therapy and if you plan on bringing your own pet please fill out the Pet Therapy Volunteer Application and send us your pets shot records via email of mail to our address at AEAR P.O. Box 7343 Libertyville\, IL. 60048.
URL:https://www.aear.org/event/pet-therapy-7/
LOCATION:Manor Care\, 1500 South Milwaukee Ave\, Libertyville\, IL\, 60048\, United States
CATEGORIES:Pet Therapy
END:VEVENT
BEGIN:VEVENT
DTSTART;TZID=America/Chicago:20190609T200000
DTEND;TZID=America/Chicago:20190609T210000
DTSTAMP:20260424T223351
CREATED:20190205T024742Z
LAST-MODIFIED:20190205T024742Z
UID:15035-1560110400-1560114000@www.aear.org
SUMMARY:"Weekly Inspirational Message" Live On Facebook
DESCRIPTION:“Weekly Inspirational Message” Live On Facebook
URL:https://www.aear.org/event/weekly-inspirational-message-live-on-facebook-26/
LOCATION:Facebook Live
END:VEVENT
END:VCALENDAR