BEGIN:VCALENDAR
VERSION:2.0
PRODID:-//Animal Education &amp; Rescue - ECPv6.15.20//NONSGML v1.0//EN
CALSCALE:GREGORIAN
METHOD:PUBLISH
X-WR-CALNAME:Animal Education &amp; Rescue
X-ORIGINAL-URL:https://www.aear.org
X-WR-CALDESC:Events for Animal Education &amp; Rescue
REFRESH-INTERVAL;VALUE=DURATION:PT1H
X-Robots-Tag:noindex
X-PUBLISHED-TTL:PT1H
BEGIN:VTIMEZONE
TZID:America/Chicago
BEGIN:DAYLIGHT
TZOFFSETFROM:-0600
TZOFFSETTO:-0500
TZNAME:CDT
DTSTART:20250309T080000
END:DAYLIGHT
BEGIN:STANDARD
TZOFFSETFROM:-0500
TZOFFSETTO:-0600
TZNAME:CST
DTSTART:20251102T070000
END:STANDARD
BEGIN:DAYLIGHT
TZOFFSETFROM:-0600
TZOFFSETTO:-0500
TZNAME:CDT
DTSTART:20260308T080000
END:DAYLIGHT
BEGIN:STANDARD
TZOFFSETFROM:-0500
TZOFFSETTO:-0600
TZNAME:CST
DTSTART:20261101T070000
END:STANDARD
BEGIN:DAYLIGHT
TZOFFSETFROM:-0600
TZOFFSETTO:-0500
TZNAME:CDT
DTSTART:20270314T080000
END:DAYLIGHT
BEGIN:STANDARD
TZOFFSETFROM:-0500
TZOFFSETTO:-0600
TZNAME:CST
DTSTART:20271107T070000
END:STANDARD
END:VTIMEZONE
BEGIN:VEVENT
DTSTART;TZID=America/Chicago:20260307T110000
DTEND;TZID=America/Chicago:20260307T130000
DTSTAMP:20260424T085245
CREATED:20260306T011232Z
LAST-MODIFIED:20260306T011232Z
UID:31367-1772881200-1772888400@www.aear.org
SUMMARY:Meet & Greet at Northbrook Court\, Lower Level
DESCRIPTION:Meet some of our adoptable dogs and puppies this Saturday at Northbrook mall on the lower level from 11am to 1pm.
URL:https://www.aear.org/event/meet-greet-at-northbrook-court-lower-level/
LOCATION:Northbrook Mall\, 1515 Lake Cook Road\, Northbrook\, Il\, 60062
CATEGORIES:Meet & Greet
END:VEVENT
BEGIN:VEVENT
DTSTART;TZID=America/Chicago:20260314T110000
DTEND;TZID=America/Chicago:20260314T130000
DTSTAMP:20260424T085245
CREATED:20260206T012241Z
LAST-MODIFIED:20260206T012241Z
UID:31239-1773486000-1773493200@www.aear.org
SUMMARY:Meet & Greet at Petranek’s Pharmacy
DESCRIPTION:The second Saturday of every month we will be holding a Meet & Greet at Petranek’s pharmacy in Libertyville (426 N. Milwaukee Ave). Come by and meet some of our animals that are looking for forever homes!
URL:https://www.aear.org/event/meet-greet-at-petraneks-pharmacy-22/
LOCATION:Petranek’s Pharmacy\, 426 N Milwaukee Ave\, Libertyville\, IL\, 60048\, United States
CATEGORIES:Meet & Greet
END:VEVENT
BEGIN:VEVENT
DTSTART;TZID=America/Chicago:20260321T110000
DTEND;TZID=America/Chicago:20260321T130000
DTSTAMP:20260424T085245
CREATED:20260313T132031Z
LAST-MODIFIED:20260313T132031Z
UID:31394-1774090800-1774098000@www.aear.org
SUMMARY:Meet & Greet at Reclaimed Artisans
DESCRIPTION:Come by and meet some of the animals we have available for adoption at Reclaimed Artisans in Libertyville Il on Saturday March 21st from 11am-1pm.
URL:https://www.aear.org/event/meet-greet-at-reclaimed-artisans-2/
LOCATION:Reclaimed Artisans\, 302 Peterson Rd\, Libertyville\, IL\, United States
CATEGORIES:Meet & Greet
END:VEVENT
BEGIN:VEVENT
DTSTART;TZID=America/Chicago:20260328T110000
DTEND;TZID=America/Chicago:20260328T130000
DTSTAMP:20260424T085245
CREATED:20260206T012444Z
LAST-MODIFIED:20260206T012444Z
UID:31243-1774695600-1774702800@www.aear.org
SUMMARY:Meet & Greet at Pet Supplies Plus in Grayslake
DESCRIPTION:Join us for a meet and greet at Pet Supplies Plus in Grayslake the 4th Saturday of the month! Come by and meet some of the animals that are available for adoption.
URL:https://www.aear.org/event/meet-greet-at-pet-supplies-plus-in-grayslake-13/
LOCATION:IL
CATEGORIES:Meet & Greet
END:VEVENT
END:VCALENDAR